{"text_format":"1","workbook":"xlsx","n_sheets":3,"sheets":["Payroll Form","Entry","Upload"],"not_rendered":{"charts":0,"images":1,"macros":1,"external_links":0,"defined_names":3,"comments":0,"pivot_tables":0},"unopened":[],"bounds":{"document_bytes":16777216,"sheet_cells":100000,"rows_first":2000,"rows_last":500,"rows_between":2000,"halvings":0,"cell_chars":16384,"cell_head_chars":4096},"cells_cut":0,"cells_raw":0,"read":"whole","date_system":"1900"}

{"sheet":"Payroll Form","index":0,"n_rows":115,"n_cols":17,"rows_kept":115,"cut":false,"hidden":false,"merged":[[13,1,13,2],[13,8,13,9],[13,13,14,13],[13,7,14,7],[13,6,14,6],[13,5,14,5],[13,4,14,4],[13,11,14,11],[13,12,14,12]]}
[null,null,"LOYOLA UNIVERSITY CHICAGO"]
[null,null,"General Accounting Salary Transfer Request"]
[null,null,"Note: This form should only be used to request transfer of salary expenses between operating or endowment AUs "]
[null,null,"If you have a transfer that involves Sponsored Program Accounting AUs (103XXX, 104XXX, 107XXX, 2XXXXX, 3XXXXX, or 5XXXXX), please follow SPA's procedures for requirements and submission."]
[]
["Please provide the information below regarding the salary for transfer. Instructions are available on the Finance page at LUC.edu under Resources -> Online Forms"]
["If the salary for transfer is charged to multiple PPE (Pay Period End) dates or AU-Accounts, or needs to be transferred to multiple AU-Accounts, please create a separate line for each expense."]
["The \"Position #\" columns are not required unless you are requesting the correction of a position number."]
["Please enter information for salary ONLY. Please do NOT include fringe benefit amounts.  "]
[]
["Send completed excel form, along with any relevant backup, to Christine Fraczkowski in General Accounting (cfraczkowski@luc.edu). "]
["Salary transfers will post to the GL on biweekly pay days."]
[]
[null,"AU-Account currently charged to",null,"Current Position #","Employee ID Number","Employee Name","PPE Date","Amount","AU-Account to move expense to",null,"Correct Position #","Reason for transfer","Requested by","Date of Request"]
[null,"\nAU","\nAccount","(if applicable)",null,null,null,null,"\nAU","\nAccount","(if applicable)"]
[1,null,null,null,null,null,null,null,null,null,null,null,null,null,{"$f":"+IF(OR(Q16=\"Y\",P16=\"Y\"),\"Please Select an Operating Accounting Unit.\",\"\")","v":""},{"$f":"+IF(B16=\"\",\"\",IF(AND(B16>=103000,B16<=103999),\"Y\",IF(AND(B16>=104000,B16<=104999),\"Y\",IF(AND(B16>=107000,B16<=107999),\"Y\",IF(AND(B16>=200000,B16<=299999),\"Y\",IF(AND(B16>=500000,B16<=599999),\"Y\",IF(AND(B16>=310000,B16<=319999),\"Y\",\"\")))))))","v":""},{"$f":"+IF(I16=\"\",\"\",IF(AND(I16>=103000,I16<=103999),\"Y\",IF(AND(I16>=104000,I16<=104999),\"Y\",IF(AND(I16>=107000,I16<=107999),\"Y\",IF(AND(I16>=200000,I16<=299999),\"Y\",IF(AND(I16>=500000,I16<=599999),\"Y\",IF(AND(I16>=310000,I16<=319999),\"Y\",\"\")))))))","v":""}]
[2,null,null,null,null,null,null,null,null,null,null,null,null,null,{"$f":"+IF(OR(Q17=\"Y\",P17=\"Y\"),\"Please Select an Operating Accounting Unit.\",\"\")","v":""},{"$f":"+IF(B17=\"\",\"\",IF(AND(B17>=103000,B17<=103999),\"Y\",IF(AND(B17>=104000,B17<=104999),\"Y\",IF(AND(B17>=107000,B17<=107999),\"Y\",IF(AND(B17>=200000,B17<=299999),\"Y\",IF(AND(B17>=500000,B17<=599999),\"Y\",IF(AND(B17>=310000,B17<=319999),\"Y\",\"\")))))))","v":""},{"$f":"+IF(I17=\"\",\"\",IF(AND(I17>=103000,I17<=103999),\"Y\",IF(AND(I17>=104000,I17<=104999),\"Y\",IF(AND(I17>=107000,I17<=107999),\"Y\",IF(AND(I17>=200000,I17<=299999),\"Y\",IF(AND(I17>=500000,I17<=599999),\"Y\",IF(AND(I17>=310000,I17<=319999),\"Y\",\"\")))))))","v":""}]
[3,null,null,null,null,null,null,null,null,null,null,null,null,null,"","",""]
[4,null,null,null,null,null,null,null,null,null,null,null,null,null,"","",""]
[5,null,null,null,null,null,null,null,null,null,null,null,null,null,"","",""]
[6,null,null,null,null,null,null,null,null,null,null,null,null,null,"","",""]
[7,null,null,null,null,null,null,null,null,null,null,null,null,null,"","",""]
[8,null,null,null,null,null,null,null,null,null,null,null,null,null,"","",""]
[9,null,null,null,null,null,null,null,null,null,null,null,null,null,"","",""]
[10,null,null,null,null,null,null,null,null,null,null,null,null,null,"","",""]
[11,null,null,null,null,null,null,null,null,null,null,null,null,null,"","",""]
[12,null,null,null,null,null,null,null,null,null,null,null,null,null,"","",""]
[13,null,null,null,null,null,null,null,null,null,null,null,null,null,"","",""]
[14,null,null,null,null,null,null,null,null,null,null,null,null,null,"","",""]
[15,null,null,null,null,null,null,null,null,null,null,null,null,null,"","",""]
[16,null,null,null,null,null,null,null,null,null,null,null,null,null,"","",""]
[17,null,null,null,null,null,null,null,null,null,null,null,null,null,"","",""]
[18,null,null,null,null,null,null,null,null,null,null,null,null,null,"","",""]
[19,null,null,null,null,null,null,null,null,null,null,null,null,null,"","",""]
[20,null,null,null,null,null,null,null,null,null,null,null,null,null,"","",""]
[21,null,null,null,null,null,null,null,null,null,null,null,null,null,"","",""]
[22,null,null,null,null,null,null,null,null,null,null,null,null,null,"","",""]
[23,null,null,null,null,null,null,null,null,null,null,null,null,null,"","",""]
[24,null,null,null,null,null,null,null,null,null,null,null,null,null,"","",""]
[25,null,null,null,null,null,null,null,null,null,null,null,null,null,"","",""]
[26,null,null,null,null,null,null,null,null,null,null,null,null,null,"","",""]
[27,null,null,null,null,null,null,null,null,null,null,null,null,null,"","",""]
[28,null,null,null,null,null,null,null,null,null,null,null,null,null,"","",""]
[29,null,null,null,null,null,null,null,null,null,null,null,null,null,"","",""]
[30,null,null,null,null,null,null,null,null,null,null,null,null,null,"","",""]
[31,null,null,null,null,null,null,null,null,null,null,null,null,null,"","",""]
[32,null,null,null,null,null,null,null,null,null,null,null,null,null,"","",""]
[33,null,null,null,null,null,null,null,null,null,null,null,null,null,"","",""]
[34,null,null,null,null,null,null,null,null,null,null,null,null,null,"","",""]
[35,null,null,null,null,null,null,null,null,null,null,null,null,null,"","",""]
[36,null,null,null,null,null,null,null,null,null,null,null,null,null,"","",""]
[37,null,null,null,null,null,null,null,null,null,null,null,null,null,"","",""]
[38,null,null,null,null,null,null,null,null,null,null,null,null,null,"","",""]
[39,null,null,null,null,null,null,null,null,null,null,null,null,null,"","",""]
[40,null,null,null,null,null,null,null,null,null,null,null,null,null,"","",""]
[41,null,null,null,null,null,null,null,null,null,null,null,null,null,"","",""]
[42,null,null,null,null,null,null,null,null,null,null,null,null,null,"","",""]
[43,null,null,null,null,null,null,null,null,null,null,null,null,null,"","",""]
[44,null,null,null,null,null,null,null,null,null,null,null,null,null,"","",""]
[45,null,null,null,null,null,null,null,null,null,null,null,null,null,"","",""]
[46,null,null,null,null,null,null,null,null,null,null,null,null,null,"","",""]
[47,null,null,null,null,null,null,null,null,null,null,null,null,null,"","",""]
[48,null,null,null,null,null,null,null,null,null,null,null,null,null,"","",""]
[49,null,null,null,null,null,null,null,null,null,null,null,null,null,"","",""]
[50,null,null,null,null,null,null,null,null,null,null,null,null,null,"","",""]
[51,null,null,null,null,null,null,null,null,null,null,null,null,null,"","",""]
[52,null,null,null,null,null,null,null,null,null,null,null,null,null,"","",""]
[53,null,null,null,null,null,null,null,null,null,null,null,null,null,"","",""]
[54,null,null,null,null,null,null,null,null,null,null,null,null,null,"","",""]
[55,null,null,null,null,null,null,null,null,null,null,null,null,null,"","",""]
[56,null,null,null,null,null,null,null,null,null,null,null,null,null,"","",""]
[57,null,null,null,null,null,null,null,null,null,null,null,null,null,"","",""]
[58,null,null,null,null,null,null,null,null,null,null,null,null,null,"","",""]
[59,null,null,null,null,null,null,null,null,null,null,null,null,null,"","",""]
[60,null,null,null,null,null,null,null,null,null,null,null,null,null,"","",""]
[61,null,null,null,null,null,null,null,null,null,null,null,null,null,"","",""]
[62,null,null,null,null,null,null,null,null,null,null,null,null,null,"","",""]
[63,null,null,null,null,null,null,null,null,null,null,null,null,null,"","",""]
[64,null,null,null,null,null,null,null,null,null,null,null,null,null,"","",""]
[65,null,null,null,null,null,null,null,null,null,null,null,null,null,"","",""]
[66,null,null,null,null,null,null,null,null,null,null,null,null,null,{"$f":"+IF(OR(Q81=\"Y\",P81=\"Y\"),\"Please Select an Operating Accounting Unit.\",\"\")","v":""},{"$f":"+IF(B81=\"\",\"\",IF(AND(B81>=103000,B81<=103999),\"Y\",IF(AND(B81>=104000,B81<=104999),\"Y\",IF(AND(B81>=107000,B81<=107999),\"Y\",IF(AND(B81>=200000,B81<=299999),\"Y\",IF(AND(B81>=500000,B81<=599999),\"Y\",IF(AND(B81>=310000,B81<=319999),\"Y\",\"\")))))))","v":""},{"$f":"+IF(I81=\"\",\"\",IF(AND(I81>=103000,I81<=103999),\"Y\",IF(AND(I81>=104000,I81<=104999),\"Y\",IF(AND(I81>=107000,I81<=107999),\"Y\",IF(AND(I81>=200000,I81<=299999),\"Y\",IF(AND(I81>=500000,I81<=599999),\"Y\",IF(AND(I81>=310000,I81<=319999),\"Y\",\"\")))))))","v":""}]
[67,null,null,null,null,null,null,null,null,null,null,null,null,null,"","",""]
[68,null,null,null,null,null,null,null,null,null,null,null,null,null,"","",""]
[69,null,null,null,null,null,null,null,null,null,null,null,null,null,"","",""]
[70,null,null,null,null,null,null,null,null,null,null,null,null,null,"","",""]
[71,null,null,null,null,null,null,null,null,null,null,null,null,null,"","",""]
[72,null,null,null,null,null,null,null,null,null,null,null,null,null,"","",""]
[73,null,null,null,null,null,null,null,null,null,null,null,null,null,"","",""]
[74,null,null,null,null,null,null,null,null,null,null,null,null,null,"","",""]
[75,null,null,null,null,null,null,null,null,null,null,null,null,null,"","",""]
[76,null,null,null,null,null,null,null,null,null,null,null,null,null,"","",""]
[77,null,null,null,null,null,null,null,null,null,null,null,null,null,"","",""]
[78,null,null,null,null,null,null,null,null,null,null,null,null,null,"","",""]
[79,null,null,null,null,null,null,null,null,null,null,null,null,null,"","",""]
[80,null,null,null,null,null,null,null,null,null,null,null,null,null,"","",""]
[81,null,null,null,null,null,null,null,null,null,null,null,null,null,"","",""]
[82,null,null,null,null,null,null,null,null,null,null,null,null,null,"","",""]
[83,null,null,null,null,null,null,null,null,null,null,null,null,null,"","",""]
[84,null,null,null,null,null,null,null,null,null,null,null,null,null,"","",""]
[85,null,null,null,null,null,null,null,null,null,null,null,null,null,"","",""]
[86,null,null,null,null,null,null,null,null,null,null,null,null,null,"","",""]
[87,null,null,null,null,null,null,null,null,null,null,null,null,null,"","",""]
[88,null,null,null,null,null,null,null,null,null,null,null,null,null,"","",""]
[89,null,null,null,null,null,null,null,null,null,null,null,null,null,"","",""]
[90,null,null,null,null,null,null,null,null,null,null,null,null,null,"","",""]
[91,null,null,null,null,null,null,null,null,null,null,null,null,null,"","",""]
[92,null,null,null,null,null,null,null,null,null,null,null,null,null,"","",""]
[93,null,null,null,null,null,null,null,null,null,null,null,null,null,"","",""]
[94,null,null,null,null,null,null,null,null,null,null,null,null,null,"","",""]
[95,null,null,null,null,null,null,null,null,null,null,null,null,null,"","",""]
[96,null,null,null,null,null,null,null,null,null,null,null,null,null,"","",""]
[97,null,null,null,null,null,null,null,null,null,null,null,null,null,"","",""]
[98,null,null,null,null,null,null,null,null,null,null,null,null,null,"","",""]
[99,null,null,null,null,null,null,null,null,null,null,null,null,null,"","",""]
[100,null,null,null,null,null,null,null,null,null,null,null,null,null,"","",""]

{"sheet":"Entry","index":1,"n_rows":706,"n_cols":11,"rows_kept":706,"cut":false,"hidden":true,"merged":[[5,7,5,8],[1,0,1,1]]}
["Loyola University of Chicago"]
["Salary Adjustment Form",null,null,null,null,null,null,null,"Check Date"]
["Approved By:","M Townsend"]
["Prepared By:","C. Fraczkowski"]
[null,"Employee #","Employee Name","PPE Date","Position #","AU","Account","Activity","Acct Cat","Amount"]
[null,null,"(Lastname, First)","(MMDDYY)"]
["Line 1",{"$f":"IF('Payroll Form'!E16=\"\",\"\",'Payroll Form'!E16)","v":""},{"$f":"IF('Payroll Form'!F16=\"\",\"\",'Payroll Form'!F16)","v":""},{"$f":"IF('Payroll Form'!G16=\"\",\"\",'Payroll Form'!G16)","v":""},{"$f":"IF('Payroll Form'!D16=\"\",\"\",'Payroll Form'!D16)","v":""},{"$f":"IF('Payroll Form'!B16=\"\",\"\",'Payroll Form'!B16)","v":""},{"$f":"IF('Payroll Form'!C16=\"\",\"\",'Payroll Form'!C16)","v":""},null,null,{"$f":"IF('Payroll Form'!H16=\"\",\"\",-'Payroll Form'!H16)","v":""}]
["Line 2",null,null,null,{"$f":"IF('Payroll Form'!K16=\"\",\"\",'Payroll Form'!K16)","v":""},{"$f":"IF('Payroll Form'!I16=\"\",\"\",'Payroll Form'!I16)","v":""},{"$f":"IF('Payroll Form'!J16=\"\",\"\",'Payroll Form'!J16)","v":""},null,null,{"$f":"IF('Payroll Form'!H16=\"\",\"\",'Payroll Form'!H16)","v":""}]
["Line 3"]
["Line 4"]
["Line 5"]
["Line 6"]
["Subtotal 1",null,null,null,null,null,null,null,null,{"$f":"SUM(J7:J12)","v":0},{"$f":"IF(J13=0,\"\",\"Error - Must Equal Zero\")","v":""}]
["Line 1",{"$f":"IF('Payroll Form'!E17=\"\",\"\",'Payroll Form'!E17)","v":""},{"$f":"IF('Payroll Form'!F17=\"\",\"\",'Payroll Form'!F17)","v":""},{"$f":"IF('Payroll Form'!G17=\"\",\"\",'Payroll Form'!G17)","v":""},{"$f":"IF('Payroll Form'!D17=\"\",\"\",'Payroll Form'!D17)","v":""},{"$f":"IF('Payroll Form'!B17=\"\",\"\",'Payroll Form'!B17)","v":""},{"$f":"IF('Payroll Form'!C17=\"\",\"\",'Payroll Form'!C17)","v":""},null,null,{"$f":"IF('Payroll Form'!H17=\"\",\"\",-'Payroll Form'!H17)","v":""}]
["Line 2",null,null,null,{"$f":"IF('Payroll Form'!K17=\"\",\"\",'Payroll Form'!K17)","v":""},{"$f":"IF('Payroll Form'!I17=\"\",\"\",'Payroll Form'!I17)","v":""},{"$f":"IF('Payroll Form'!J17=\"\",\"\",'Payroll Form'!J17)","v":""},null,null,{"$f":"IF('Payroll Form'!H17=\"\",\"\",'Payroll Form'!H17)","v":""}]
["Line 3"]
["Line 4"]
["Line 5"]
["Line 6"]
["Subtotal 2",null,null,null,null,null,null,null,null,{"$f":"SUM(J14:J19)","v":0}]
["Line 1",{"$f":"IF('Payroll Form'!E18=\"\",\"\",'Payroll Form'!E18)","v":""},{"$f":"IF('Payroll Form'!F18=\"\",\"\",'Payroll Form'!F18)","v":""},{"$f":"IF('Payroll Form'!G18=\"\",\"\",'Payroll Form'!G18)","v":""},{"$f":"IF('Payroll Form'!D18=\"\",\"\",'Payroll Form'!D18)","v":""},{"$f":"IF('Payroll Form'!B18=\"\",\"\",'Payroll Form'!B18)","v":""},{"$f":"IF('Payroll Form'!C18=\"\",\"\",'Payroll Form'!C18)","v":""},null,null,{"$f":"IF('Payroll Form'!H18=\"\",\"\",-'Payroll Form'!H18)","v":""}]
["Line 2",null,null,null,{"$f":"IF('Payroll Form'!K18=\"\",\"\",'Payroll Form'!K18)","v":""},{"$f":"IF('Payroll Form'!I18=\"\",\"\",'Payroll Form'!I18)","v":""},{"$f":"IF('Payroll Form'!J18=\"\",\"\",'Payroll Form'!J18)","v":""},null,null,{"$f":"IF('Payroll Form'!H18=\"\",\"\",'Payroll Form'!H18)","v":""}]
["Line 3"]
["Line 4"]
["Line 5"]
["Line 6"]
["Subtotal 3",null,null,null,null,null,null,null,null,{"$f":"SUM(J21:J26)","v":0}]
["Line 1",{"$f":"IF('Payroll Form'!E19=\"\",\"\",'Payroll Form'!E19)","v":""},{"$f":"IF('Payroll Form'!F19=\"\",\"\",'Payroll Form'!F19)","v":""},{"$f":"IF('Payroll Form'!G19=\"\",\"\",'Payroll Form'!G19)","v":""},{"$f":"IF('Payroll Form'!D19=\"\",\"\",'Payroll Form'!D19)","v":""},{"$f":"IF('Payroll Form'!B19=\"\",\"\",'Payroll Form'!B19)","v":""},{"$f":"IF('Payroll Form'!C19=\"\",\"\",'Payroll Form'!C19)","v":""},null,null,{"$f":"IF('Payroll Form'!H19=\"\",\"\",-'Payroll Form'!H19)","v":""}]
["Line 2",null,null,null,{"$f":"IF('Payroll Form'!K19=\"\",\"\",'Payroll Form'!K19)","v":""},{"$f":"IF('Payroll Form'!I19=\"\",\"\",'Payroll Form'!I19)","v":""},{"$f":"IF('Payroll Form'!J19=\"\",\"\",'Payroll Form'!J19)","v":""},null,null,{"$f":"IF('Payroll Form'!H19=\"\",\"\",'Payroll Form'!H19)","v":""}]
["Line 3"]
["Line 4"]
["Line 5"]
["Line 6"]
["Subtotal 4",null,null,null,null,null,null,null,null,{"$f":"SUM(J28:J33)","v":0}]
["Line 1",{"$f":"IF('Payroll Form'!E20=\"\",\"\",'Payroll Form'!E20)","v":""},{"$f":"IF('Payroll Form'!F20=\"\",\"\",'Payroll Form'!F20)","v":""},{"$f":"IF('Payroll Form'!G20=\"\",\"\",'Payroll Form'!G20)","v":""},{"$f":"IF('Payroll Form'!D20=\"\",\"\",'Payroll Form'!D20)","v":""},{"$f":"IF('Payroll Form'!B20=\"\",\"\",'Payroll Form'!B20)","v":""},{"$f":"IF('Payroll Form'!C20=\"\",\"\",'Payroll Form'!C20)","v":""},null,null,{"$f":"IF('Payroll Form'!H20=\"\",\"\",-'Payroll Form'!H20)","v":""}]
["Line 2",null,null,null,{"$f":"IF('Payroll Form'!K20=\"\",\"\",'Payroll Form'!K20)","v":""},{"$f":"IF('Payroll Form'!I20=\"\",\"\",'Payroll Form'!I20)","v":""},{"$f":"IF('Payroll Form'!J20=\"\",\"\",'Payroll Form'!J20)","v":""},null,null,{"$f":"IF('Payroll Form'!H20=\"\",\"\",'Payroll Form'!H20)","v":""}]
["Line 3"]
["Line 4"]
["Line 5"]
["Line 6"]
["Subtotal 5",null,null,null,null,null,null,null,null,{"$f":"SUM(J35:J40)","v":0}]
["Line 1",{"$f":"IF('Payroll Form'!E21=\"\",\"\",'Payroll Form'!E21)","v":""},{"$f":"IF('Payroll Form'!F21=\"\",\"\",'Payroll Form'!F21)","v":""},{"$f":"IF('Payroll Form'!G21=\"\",\"\",'Payroll Form'!G21)","v":""},{"$f":"IF('Payroll Form'!D21=\"\",\"\",'Payroll Form'!D21)","v":""},{"$f":"IF('Payroll Form'!B21=\"\",\"\",'Payroll Form'!B21)","v":""},{"$f":"IF('Payroll Form'!C21=\"\",\"\",'Payroll Form'!C21)","v":""},null,null,{"$f":"IF('Payroll Form'!H21=\"\",\"\",-'Payroll Form'!H21)","v":""}]
["Line 2",null,null,null,{"$f":"IF('Payroll Form'!K21=\"\",\"\",'Payroll Form'!K21)","v":""},{"$f":"IF('Payroll Form'!I21=\"\",\"\",'Payroll Form'!I21)","v":""},{"$f":"IF('Payroll Form'!J21=\"\",\"\",'Payroll Form'!J21)","v":""},null,null,{"$f":"IF('Payroll Form'!H21=\"\",\"\",'Payroll Form'!H21)","v":""}]
["Line 3"]
["Line 4"]
["Line 5"]
["Line 6"]
["Subtotal 6",null,null,null,null,null,null,null,null,{"$f":"SUM(J42:J47)","v":0}]
["Line 1",{"$f":"IF('Payroll Form'!E22=\"\",\"\",'Payroll Form'!E22)","v":""},{"$f":"IF('Payroll Form'!F22=\"\",\"\",'Payroll Form'!F22)","v":""},{"$f":"IF('Payroll Form'!G22=\"\",\"\",'Payroll Form'!G22)","v":""},{"$f":"IF('Payroll Form'!D22=\"\",\"\",'Payroll Form'!D22)","v":""},{"$f":"IF('Payroll Form'!B22=\"\",\"\",'Payroll Form'!B22)","v":""},{"$f":"IF('Payroll Form'!C22=\"\",\"\",'Payroll Form'!C22)","v":""},null,null,{"$f":"IF('Payroll Form'!H22=\"\",\"\",-'Payroll Form'!H22)","v":""}]
["Line 2",null,null,null,{"$f":"IF('Payroll Form'!K22=\"\",\"\",'Payroll Form'!K22)","v":""},{"$f":"IF('Payroll Form'!I22=\"\",\"\",'Payroll Form'!I22)","v":""},{"$f":"IF('Payroll Form'!J22=\"\",\"\",'Payroll Form'!J22)","v":""},null,null,{"$f":"IF('Payroll Form'!H22=\"\",\"\",'Payroll Form'!H22)","v":""}]
["Line 3"]
["Line 4"]
["Line 5"]
["Line 6"]
["Subtotal 7",null,null,null,null,null,null,null,null,{"$f":"SUM(J49:J54)","v":0}]
["Line 1",{"$f":"IF('Payroll Form'!E23=\"\",\"\",'Payroll Form'!E23)","v":""},{"$f":"IF('Payroll Form'!F23=\"\",\"\",'Payroll Form'!F23)","v":""},{"$f":"IF('Payroll Form'!G23=\"\",\"\",'Payroll Form'!G23)","v":""},{"$f":"IF('Payroll Form'!D23=\"\",\"\",'Payroll Form'!D23)","v":""},{"$f":"IF('Payroll Form'!B23=\"\",\"\",'Payroll Form'!B23)","v":""},{"$f":"IF('Payroll Form'!C23=\"\",\"\",'Payroll Form'!C23)","v":""},null,null,{"$f":"IF('Payroll Form'!H23=\"\",\"\",-'Payroll Form'!H23)","v":""}]
["Line 2",null,null,null,{"$f":"IF('Payroll Form'!K23=\"\",\"\",'Payroll Form'!K23)","v":""},{"$f":"IF('Payroll Form'!I23=\"\",\"\",'Payroll Form'!I23)","v":""},{"$f":"IF('Payroll Form'!J23=\"\",\"\",'Payroll Form'!J23)","v":""},null,null,{"$f":"IF('Payroll Form'!H23=\"\",\"\",'Payroll Form'!H23)","v":""}]
["Line 3"]
["Line 4"]
["Line 5"]
["Line 6"]
["Subtotal 8",null,null,null,null,null,null,null,null,{"$f":"SUM(J56:J61)","v":0}]
["Line 1",{"$f":"IF('Payroll Form'!E24=\"\",\"\",'Payroll Form'!E24)","v":""},{"$f":"IF('Payroll Form'!F24=\"\",\"\",'Payroll Form'!F24)","v":""},{"$f":"IF('Payroll Form'!G24=\"\",\"\",'Payroll Form'!G24)","v":""},{"$f":"IF('Payroll Form'!D24=\"\",\"\",'Payroll Form'!D24)","v":""},{"$f":"IF('Payroll Form'!B24=\"\",\"\",'Payroll Form'!B24)","v":""},{"$f":"IF('Payroll Form'!C24=\"\",\"\",'Payroll Form'!C24)","v":""},null,null,{"$f":"IF('Payroll Form'!H24=\"\",\"\",-'Payroll Form'!H24)","v":""}]
["Line 2",null,null,null,{"$f":"IF('Payroll Form'!K24=\"\",\"\",'Payroll Form'!K24)","v":""},{"$f":"IF('Payroll Form'!I24=\"\",\"\",'Payroll Form'!I24)","v":""},{"$f":"IF('Payroll Form'!J24=\"\",\"\",'Payroll Form'!J24)","v":""},null,null,{"$f":"IF('Payroll Form'!H24=\"\",\"\",'Payroll Form'!H24)","v":""}]
["Line 3"]
["Line 4"]
["Line 5"]
["Line 6"]
["Subtotal 9",null,null,null,null,null,null,null,null,{"$f":"SUM(J63:J68)","v":0}]
["Line 1",{"$f":"IF('Payroll Form'!E25=\"\",\"\",'Payroll Form'!E25)","v":""},{"$f":"IF('Payroll Form'!F25=\"\",\"\",'Payroll Form'!F25)","v":""},{"$f":"IF('Payroll Form'!G25=\"\",\"\",'Payroll Form'!G25)","v":""},{"$f":"IF('Payroll Form'!D25=\"\",\"\",'Payroll Form'!D25)","v":""},{"$f":"IF('Payroll Form'!B25=\"\",\"\",'Payroll Form'!B25)","v":""},{"$f":"IF('Payroll Form'!C25=\"\",\"\",'Payroll Form'!C25)","v":""},null,null,{"$f":"IF('Payroll Form'!H25=\"\",\"\",-'Payroll Form'!H25)","v":""}]
["Line 2",null,null,null,{"$f":"IF('Payroll Form'!K25=\"\",\"\",'Payroll Form'!K25)","v":""},{"$f":"IF('Payroll Form'!I25=\"\",\"\",'Payroll Form'!I25)","v":""},{"$f":"IF('Payroll Form'!J25=\"\",\"\",'Payroll Form'!J25)","v":""},null,null,{"$f":"IF('Payroll Form'!H25=\"\",\"\",'Payroll Form'!H25)","v":""}]
["Line 3"]
["Line 4"]
["Line 5"]
["Line 6"]
["Subtotal 10",null,null,null,null,null,null,null,null,{"$f":"SUM(J70:J75)","v":0}]
["Line 1",{"$f":"IF('Payroll Form'!E26=\"\",\"\",'Payroll Form'!E26)","v":""},{"$f":"IF('Payroll Form'!F26=\"\",\"\",'Payroll Form'!F26)","v":""},{"$f":"IF('Payroll Form'!G26=\"\",\"\",'Payroll Form'!G26)","v":""},{"$f":"IF('Payroll Form'!D26=\"\",\"\",'Payroll Form'!D26)","v":""},{"$f":"IF('Payroll Form'!B26=\"\",\"\",'Payroll Form'!B26)","v":""},{"$f":"IF('Payroll Form'!C26=\"\",\"\",'Payroll Form'!C26)","v":""},null,null,{"$f":"IF('Payroll Form'!H26=\"\",\"\",-'Payroll Form'!H26)","v":""}]
["Line 2",null,null,null,{"$f":"IF('Payroll Form'!K26=\"\",\"\",'Payroll Form'!K26)","v":""},{"$f":"IF('Payroll Form'!I26=\"\",\"\",'Payroll Form'!I26)","v":""},{"$f":"IF('Payroll Form'!J26=\"\",\"\",'Payroll Form'!J26)","v":""},null,null,{"$f":"IF('Payroll Form'!H26=\"\",\"\",'Payroll Form'!H26)","v":""}]
["Line 3"]
["Line 4"]
["Line 5"]
["Line 6"]
["Subtotal 11",null,null,null,null,null,null,null,null,{"$f":"SUM(J77:J82)","v":0}]
["Line 1",{"$f":"IF('Payroll Form'!E27=\"\",\"\",'Payroll Form'!E27)","v":""},{"$f":"IF('Payroll Form'!F27=\"\",\"\",'Payroll Form'!F27)","v":""},{"$f":"IF('Payroll Form'!G27=\"\",\"\",'Payroll Form'!G27)","v":""},{"$f":"IF('Payroll Form'!D27=\"\",\"\",'Payroll Form'!D27)","v":""},{"$f":"IF('Payroll Form'!B27=\"\",\"\",'Payroll Form'!B27)","v":""},{"$f":"IF('Payroll Form'!C27=\"\",\"\",'Payroll Form'!C27)","v":""},null,null,{"$f":"IF('Payroll Form'!H27=\"\",\"\",-'Payroll Form'!H27)","v":""}]
["Line 2",null,null,null,{"$f":"IF('Payroll Form'!K27=\"\",\"\",'Payroll Form'!K27)","v":""},{"$f":"IF('Payroll Form'!I27=\"\",\"\",'Payroll Form'!I27)","v":""},{"$f":"IF('Payroll Form'!J27=\"\",\"\",'Payroll Form'!J27)","v":""},null,null,{"$f":"IF('Payroll Form'!H27=\"\",\"\",'Payroll Form'!H27)","v":""}]
["Line 3"]
["Line 4"]
["Line 5"]
["Line 6"]
["Subtotal 12",null,null,null,null,null,null,null,null,{"$f":"SUM(J84:J89)","v":0}]
["Line 1",{"$f":"IF('Payroll Form'!E28=\"\",\"\",'Payroll Form'!E28)","v":""},{"$f":"IF('Payroll Form'!F28=\"\",\"\",'Payroll Form'!F28)","v":""},{"$f":"IF('Payroll Form'!G28=\"\",\"\",'Payroll Form'!G28)","v":""},{"$f":"IF('Payroll Form'!D28=\"\",\"\",'Payroll Form'!D28)","v":""},{"$f":"IF('Payroll Form'!B28=\"\",\"\",'Payroll Form'!B28)","v":""},{"$f":"IF('Payroll Form'!C28=\"\",\"\",'Payroll Form'!C28)","v":""},null,null,{"$f":"IF('Payroll Form'!H28=\"\",\"\",-'Payroll Form'!H28)","v":""}]
["Line 2",null,null,null,{"$f":"IF('Payroll Form'!K28=\"\",\"\",'Payroll Form'!K28)","v":""},{"$f":"IF('Payroll Form'!I28=\"\",\"\",'Payroll Form'!I28)","v":""},{"$f":"IF('Payroll Form'!J28=\"\",\"\",'Payroll Form'!J28)","v":""},null,null,{"$f":"IF('Payroll Form'!H28=\"\",\"\",'Payroll Form'!H28)","v":""}]
["Line 3"]
["Line 4"]
["Line 5"]
["Line 6"]
["Subtotal 13",null,null,null,null,null,null,null,null,{"$f":"SUM(J91:J96)","v":0}]
["Line 1",{"$f":"IF('Payroll Form'!E29=\"\",\"\",'Payroll Form'!E29)","v":""},{"$f":"IF('Payroll Form'!F29=\"\",\"\",'Payroll Form'!F29)","v":""},{"$f":"IF('Payroll Form'!G29=\"\",\"\",'Payroll Form'!G29)","v":""},{"$f":"IF('Payroll Form'!D29=\"\",\"\",'Payroll Form'!D29)","v":""},{"$f":"IF('Payroll Form'!B29=\"\",\"\",'Payroll Form'!B29)","v":""},{"$f":"IF('Payroll Form'!C29=\"\",\"\",'Payroll Form'!C29)","v":""},null,null,{"$f":"IF('Payroll Form'!H29=\"\",\"\",-'Payroll Form'!H29)","v":""}]
["Line 2",null,null,null,{"$f":"IF('Payroll Form'!K29=\"\",\"\",'Payroll Form'!K29)","v":""},{"$f":"IF('Payroll Form'!I29=\"\",\"\",'Payroll Form'!I29)","v":""},{"$f":"IF('Payroll Form'!J29=\"\",\"\",'Payroll Form'!J29)","v":""},null,null,{"$f":"IF('Payroll Form'!H29=\"\",\"\",'Payroll Form'!H29)","v":""}]
["Line 3"]
["Line 4"]
["Line 5"]
["Line 6"]
["Subtotal 14",null,null,null,null,null,null,null,null,{"$f":"SUM(J98:J103)","v":0}]
["Line 1",{"$f":"IF('Payroll Form'!E30=\"\",\"\",'Payroll Form'!E30)","v":""},{"$f":"IF('Payroll Form'!F30=\"\",\"\",'Payroll Form'!F30)","v":""},{"$f":"IF('Payroll Form'!G30=\"\",\"\",'Payroll Form'!G30)","v":""},{"$f":"IF('Payroll Form'!D30=\"\",\"\",'Payroll Form'!D30)","v":""},{"$f":"IF('Payroll Form'!B30=\"\",\"\",'Payroll Form'!B30)","v":""},{"$f":"IF('Payroll Form'!C30=\"\",\"\",'Payroll Form'!C30)","v":""},null,null,{"$f":"IF('Payroll Form'!H30=\"\",\"\",-'Payroll Form'!H30)","v":""}]
["Line 2",null,null,null,{"$f":"IF('Payroll Form'!K30=\"\",\"\",'Payroll Form'!K30)","v":""},{"$f":"IF('Payroll Form'!I30=\"\",\"\",'Payroll Form'!I30)","v":""},{"$f":"IF('Payroll Form'!J30=\"\",\"\",'Payroll Form'!J30)","v":""},null,null,{"$f":"IF('Payroll Form'!H30=\"\",\"\",'Payroll Form'!H30)","v":""}]
["Line 3"]
["Line 4"]
["Line 5"]
["Line 6"]
["Subtotal 15",null,null,null,null,null,null,null,null,{"$f":"SUM(J105:J110)","v":0}]
["Line 1",{"$f":"IF('Payroll Form'!E31=\"\",\"\",'Payroll Form'!E31)","v":""},{"$f":"IF('Payroll Form'!F31=\"\",\"\",'Payroll Form'!F31)","v":""},{"$f":"IF('Payroll Form'!G31=\"\",\"\",'Payroll Form'!G31)","v":""},{"$f":"IF('Payroll Form'!D31=\"\",\"\",'Payroll Form'!D31)","v":""},{"$f":"IF('Payroll Form'!B31=\"\",\"\",'Payroll Form'!B31)","v":""},{"$f":"IF('Payroll Form'!C31=\"\",\"\",'Payroll Form'!C31)","v":""},null,null,{"$f":"IF('Payroll Form'!H31=\"\",\"\",-'Payroll Form'!H31)","v":""}]
["Line 2",null,null,null,{"$f":"IF('Payroll Form'!K31=\"\",\"\",'Payroll Form'!K31)","v":""},{"$f":"IF('Payroll Form'!I31=\"\",\"\",'Payroll Form'!I31)","v":""},{"$f":"IF('Payroll Form'!J31=\"\",\"\",'Payroll Form'!J31)","v":""},null,null,{"$f":"IF('Payroll Form'!H31=\"\",\"\",'Payroll Form'!H31)","v":""}]
["Line 3"]
["Line 4"]
["Line 5"]
["Line 6"]
["Subtotal 16",null,null,null,null,null,null,null,null,{"$f":"SUM(J112:J117)","v":0}]
["Line 1",{"$f":"IF('Payroll Form'!E32=\"\",\"\",'Payroll Form'!E32)","v":""},{"$f":"IF('Payroll Form'!F32=\"\",\"\",'Payroll Form'!F32)","v":""},{"$f":"IF('Payroll Form'!G32=\"\",\"\",'Payroll Form'!G32)","v":""},{"$f":"IF('Payroll Form'!D32=\"\",\"\",'Payroll Form'!D32)","v":""},{"$f":"IF('Payroll Form'!B32=\"\",\"\",'Payroll Form'!B32)","v":""},{"$f":"IF('Payroll Form'!C32=\"\",\"\",'Payroll Form'!C32)","v":""},null,null,{"$f":"IF('Payroll Form'!H32=\"\",\"\",-'Payroll Form'!H32)","v":""}]
["Line 2",null,null,null,{"$f":"IF('Payroll Form'!K32=\"\",\"\",'Payroll Form'!K32)","v":""},{"$f":"IF('Payroll Form'!I32=\"\",\"\",'Payroll Form'!I32)","v":""},{"$f":"IF('Payroll Form'!J32=\"\",\"\",'Payroll Form'!J32)","v":""},null,null,{"$f":"IF('Payroll Form'!H32=\"\",\"\",'Payroll Form'!H32)","v":""}]
["Line 3"]
["Line 4"]
["Line 5"]
["Line 6"]
["Subtotal 17",null,null,null,null,null,null,null,null,{"$f":"SUM(J119:J124)","v":0}]
["Line 1",{"$f":"IF('Payroll Form'!E33=\"\",\"\",'Payroll Form'!E33)","v":""},{"$f":"IF('Payroll Form'!F33=\"\",\"\",'Payroll Form'!F33)","v":""},{"$f":"IF('Payroll Form'!G33=\"\",\"\",'Payroll Form'!G33)","v":""},{"$f":"IF('Payroll Form'!D33=\"\",\"\",'Payroll Form'!D33)","v":""},{"$f":"IF('Payroll Form'!B33=\"\",\"\",'Payroll Form'!B33)","v":""},{"$f":"IF('Payroll Form'!C33=\"\",\"\",'Payroll Form'!C33)","v":""},null,null,{"$f":"IF('Payroll Form'!H33=\"\",\"\",-'Payroll Form'!H33)","v":""}]
["Line 2",null,null,null,{"$f":"IF('Payroll Form'!K33=\"\",\"\",'Payroll Form'!K33)","v":""},{"$f":"IF('Payroll Form'!I33=\"\",\"\",'Payroll Form'!I33)","v":""},{"$f":"IF('Payroll Form'!J33=\"\",\"\",'Payroll Form'!J33)","v":""},null,null,{"$f":"IF('Payroll Form'!H33=\"\",\"\",'Payroll Form'!H33)","v":""}]
["Line 3"]
["Line 4"]
["Line 5"]
["Line 6"]
["Subtotal 18",null,null,null,null,null,null,null,null,{"$f":"SUM(J126:J131)","v":0}]
["Line 1",{"$f":"IF('Payroll Form'!E34=\"\",\"\",'Payroll Form'!E34)","v":""},{"$f":"IF('Payroll Form'!F34=\"\",\"\",'Payroll Form'!F34)","v":""},{"$f":"IF('Payroll Form'!G34=\"\",\"\",'Payroll Form'!G34)","v":""},{"$f":"IF('Payroll Form'!D34=\"\",\"\",'Payroll Form'!D34)","v":""},{"$f":"IF('Payroll Form'!B34=\"\",\"\",'Payroll Form'!B34)","v":""},{"$f":"IF('Payroll Form'!C34=\"\",\"\",'Payroll Form'!C34)","v":""},null,null,{"$f":"IF('Payroll Form'!H34=\"\",\"\",-'Payroll Form'!H34)","v":""}]
["Line 2",null,null,null,{"$f":"IF('Payroll Form'!K34=\"\",\"\",'Payroll Form'!K34)","v":""},{"$f":"IF('Payroll Form'!I34=\"\",\"\",'Payroll Form'!I34)","v":""},{"$f":"IF('Payroll Form'!J34=\"\",\"\",'Payroll Form'!J34)","v":""},null,null,{"$f":"IF('Payroll Form'!H34=\"\",\"\",'Payroll Form'!H34)","v":""}]
["Line 3"]
["Line 4"]
["Line 5"]
["Line 6"]
["Subtotal 19",null,null,null,null,null,null,null,null,{"$f":"SUM(J133:J138)","v":0}]
["Line 1",{"$f":"IF('Payroll Form'!E35=\"\",\"\",'Payroll Form'!E35)","v":""},{"$f":"IF('Payroll Form'!F35=\"\",\"\",'Payroll Form'!F35)","v":""},{"$f":"IF('Payroll Form'!G35=\"\",\"\",'Payroll Form'!G35)","v":""},{"$f":"IF('Payroll Form'!D35=\"\",\"\",'Payroll Form'!D35)","v":""},{"$f":"IF('Payroll Form'!B35=\"\",\"\",'Payroll Form'!B35)","v":""},{"$f":"IF('Payroll Form'!C35=\"\",\"\",'Payroll Form'!C35)","v":""},null,null,{"$f":"IF('Payroll Form'!H35=\"\",\"\",-'Payroll Form'!H35)","v":""}]
["Line 2",null,null,null,{"$f":"IF('Payroll Form'!K35=\"\",\"\",'Payroll Form'!K35)","v":""},{"$f":"IF('Payroll Form'!I35=\"\",\"\",'Payroll Form'!I35)","v":""},{"$f":"IF('Payroll Form'!J35=\"\",\"\",'Payroll Form'!J35)","v":""},null,null,{"$f":"IF('Payroll Form'!H35=\"\",\"\",'Payroll Form'!H35)","v":""}]
["Line 3"]
["Line 4"]
["Line 5"]
["Line 6"]
["Subtotal 20",null,null,null,null,null,null,null,null,{"$f":"SUM(J140:J145)","v":0}]
["Line 1",{"$f":"IF('Payroll Form'!E36=\"\",\"\",'Payroll Form'!E36)","v":""},{"$f":"IF('Payroll Form'!F36=\"\",\"\",'Payroll Form'!F36)","v":""},{"$f":"IF('Payroll Form'!G36=\"\",\"\",'Payroll Form'!G36)","v":""},{"$f":"IF('Payroll Form'!D36=\"\",\"\",'Payroll Form'!D36)","v":""},{"$f":"IF('Payroll Form'!B36=\"\",\"\",'Payroll Form'!B36)","v":""},{"$f":"IF('Payroll Form'!C36=\"\",\"\",'Payroll Form'!C36)","v":""},null,null,{"$f":"IF('Payroll Form'!H36=\"\",\"\",-'Payroll Form'!H36)","v":""}]
["Line 2",null,null,null,{"$f":"IF('Payroll Form'!K36=\"\",\"\",'Payroll Form'!K36)","v":""},{"$f":"IF('Payroll Form'!I36=\"\",\"\",'Payroll Form'!I36)","v":""},{"$f":"IF('Payroll Form'!J36=\"\",\"\",'Payroll Form'!J36)","v":""},null,null,{"$f":"IF('Payroll Form'!H36=\"\",\"\",'Payroll Form'!H36)","v":""}]
["Line 3"]
["Line 4"]
["Line 5"]
["Line 6"]
["Subtotal 21",null,null,null,null,null,null,null,null,{"$f":"SUM(J147:J152)","v":0}]
["Line 1",{"$f":"IF('Payroll Form'!E37=\"\",\"\",'Payroll Form'!E37)","v":""},{"$f":"IF('Payroll Form'!F37=\"\",\"\",'Payroll Form'!F37)","v":""},{"$f":"IF('Payroll Form'!G37=\"\",\"\",'Payroll Form'!G37)","v":""},{"$f":"IF('Payroll Form'!D37=\"\",\"\",'Payroll Form'!D37)","v":""},{"$f":"IF('Payroll Form'!B37=\"\",\"\",'Payroll Form'!B37)","v":""},{"$f":"IF('Payroll Form'!C37=\"\",\"\",'Payroll Form'!C37)","v":""},null,null,{"$f":"IF('Payroll Form'!H37=\"\",\"\",-'Payroll Form'!H37)","v":""}]
["Line 2",null,null,null,{"$f":"IF('Payroll Form'!K37=\"\",\"\",'Payroll Form'!K37)","v":""},{"$f":"IF('Payroll Form'!I37=\"\",\"\",'Payroll Form'!I37)","v":""},{"$f":"IF('Payroll Form'!J37=\"\",\"\",'Payroll Form'!J37)","v":""},null,null,{"$f":"IF('Payroll Form'!H37=\"\",\"\",'Payroll Form'!H37)","v":""}]
["Line 3"]
["Line 4"]
["Line 5"]
["Line 6"]
["Subtotal 22",null,null,null,null,null,null,null,null,{"$f":"SUM(J154:J159)","v":0}]
["Line 1",{"$f":"IF('Payroll Form'!E38=\"\",\"\",'Payroll Form'!E38)","v":""},{"$f":"IF('Payroll Form'!F38=\"\",\"\",'Payroll Form'!F38)","v":""},{"$f":"IF('Payroll Form'!G38=\"\",\"\",'Payroll Form'!G38)","v":""},{"$f":"IF('Payroll Form'!D38=\"\",\"\",'Payroll Form'!D38)","v":""},{"$f":"IF('Payroll Form'!B38=\"\",\"\",'Payroll Form'!B38)","v":""},{"$f":"IF('Payroll Form'!C38=\"\",\"\",'Payroll Form'!C38)","v":""},null,null,{"$f":"IF('Payroll Form'!H38=\"\",\"\",-'Payroll Form'!H38)","v":""}]
["Line 2",null,null,null,{"$f":"IF('Payroll Form'!K38=\"\",\"\",'Payroll Form'!K38)","v":""},{"$f":"IF('Payroll Form'!I38=\"\",\"\",'Payroll Form'!I38)","v":""},{"$f":"IF('Payroll Form'!J38=\"\",\"\",'Payroll Form'!J38)","v":""},null,null,{"$f":"IF('Payroll Form'!H38=\"\",\"\",'Payroll Form'!H38)","v":""}]
["Line 3"]
["Line 4"]
["Line 5"]
["Line 6"]
["Subtotal 23",null,null,null,null,null,null,null,null,{"$f":"SUM(J161:J166)","v":0}]
["Line 1",{"$f":"IF('Payroll Form'!E39=\"\",\"\",'Payroll Form'!E39)","v":""},{"$f":"IF('Payroll Form'!F39=\"\",\"\",'Payroll Form'!F39)","v":""},{"$f":"IF('Payroll Form'!G39=\"\",\"\",'Payroll Form'!G39)","v":""},{"$f":"IF('Payroll Form'!D39=\"\",\"\",'Payroll Form'!D39)","v":""},{"$f":"IF('Payroll Form'!B39=\"\",\"\",'Payroll Form'!B39)","v":""},{"$f":"IF('Payroll Form'!C39=\"\",\"\",'Payroll Form'!C39)","v":""},null,null,{"$f":"IF('Payroll Form'!H39=\"\",\"\",-'Payroll Form'!H39)","v":""}]
["Line 2",null,null,null,{"$f":"IF('Payroll Form'!K39=\"\",\"\",'Payroll Form'!K39)","v":""},{"$f":"IF('Payroll Form'!I39=\"\",\"\",'Payroll Form'!I39)","v":""},{"$f":"IF('Payroll Form'!J39=\"\",\"\",'Payroll Form'!J39)","v":""},null,null,{"$f":"IF('Payroll Form'!H39=\"\",\"\",'Payroll Form'!H39)","v":""}]
["Line 3"]
["Line 4"]
["Line 5"]
["Line 6"]
["Subtotal 24",null,null,null,null,null,null,null,null,{"$f":"SUM(J168:J173)","v":0}]
["Line 1",{"$f":"IF('Payroll Form'!E40=\"\",\"\",'Payroll Form'!E40)","v":""},{"$f":"IF('Payroll Form'!F40=\"\",\"\",'Payroll Form'!F40)","v":""},{"$f":"IF('Payroll Form'!G40=\"\",\"\",'Payroll Form'!G40)","v":""},{"$f":"IF('Payroll Form'!D40=\"\",\"\",'Payroll Form'!D40)","v":""},{"$f":"IF('Payroll Form'!B40=\"\",\"\",'Payroll Form'!B40)","v":""},{"$f":"IF('Payroll Form'!C40=\"\",\"\",'Payroll Form'!C40)","v":""},null,null,{"$f":"IF('Payroll Form'!H40=\"\",\"\",-'Payroll Form'!H40)","v":""}]
["Line 2",null,null,null,{"$f":"IF('Payroll Form'!K40=\"\",\"\",'Payroll Form'!K40)","v":""},{"$f":"IF('Payroll Form'!I40=\"\",\"\",'Payroll Form'!I40)","v":""},{"$f":"IF('Payroll Form'!J40=\"\",\"\",'Payroll Form'!J40)","v":""},null,null,{"$f":"IF('Payroll Form'!H40=\"\",\"\",'Payroll Form'!H40)","v":""}]
["Line 3"]
["Line 4"]
["Line 5"]
["Line 6"]
["Subtotal 25",null,null,null,null,null,null,null,null,{"$f":"SUM(J175:J180)","v":0}]
["Line 1",{"$f":"IF('Payroll Form'!E41=\"\",\"\",'Payroll Form'!E41)","v":""},{"$f":"IF('Payroll Form'!F41=\"\",\"\",'Payroll Form'!F41)","v":""},{"$f":"IF('Payroll Form'!G41=\"\",\"\",'Payroll Form'!G41)","v":""},{"$f":"IF('Payroll Form'!D41=\"\",\"\",'Payroll Form'!D41)","v":""},{"$f":"IF('Payroll Form'!B41=\"\",\"\",'Payroll Form'!B41)","v":""},{"$f":"IF('Payroll Form'!C41=\"\",\"\",'Payroll Form'!C41)","v":""},null,null,{"$f":"IF('Payroll Form'!H41=\"\",\"\",-'Payroll Form'!H41)","v":""}]
["Line 2",null,null,null,{"$f":"IF('Payroll Form'!K41=\"\",\"\",'Payroll Form'!K41)","v":""},{"$f":"IF('Payroll Form'!I41=\"\",\"\",'Payroll Form'!I41)","v":""},{"$f":"IF('Payroll Form'!J41=\"\",\"\",'Payroll Form'!J41)","v":""},null,null,{"$f":"IF('Payroll Form'!H41=\"\",\"\",'Payroll Form'!H41)","v":""}]
["Line 3"]
["Line 4"]
["Line 5"]
["Line 6"]
["Subtotal 26",null,null,null,null,null,null,null,null,{"$f":"SUM(J182:J187)","v":0}]
["Line 1",{"$f":"IF('Payroll Form'!E42=\"\",\"\",'Payroll Form'!E42)","v":""},{"$f":"IF('Payroll Form'!F42=\"\",\"\",'Payroll Form'!F42)","v":""},{"$f":"IF('Payroll Form'!G42=\"\",\"\",'Payroll Form'!G42)","v":""},{"$f":"IF('Payroll Form'!D42=\"\",\"\",'Payroll Form'!D42)","v":""},{"$f":"IF('Payroll Form'!B42=\"\",\"\",'Payroll Form'!B42)","v":""},{"$f":"IF('Payroll Form'!C42=\"\",\"\",'Payroll Form'!C42)","v":""},null,null,{"$f":"IF('Payroll Form'!H42=\"\",\"\",-'Payroll Form'!H42)","v":""}]
["Line 2",null,null,null,{"$f":"IF('Payroll Form'!K42=\"\",\"\",'Payroll Form'!K42)","v":""},{"$f":"IF('Payroll Form'!I42=\"\",\"\",'Payroll Form'!I42)","v":""},{"$f":"IF('Payroll Form'!J42=\"\",\"\",'Payroll Form'!J42)","v":""},null,null,{"$f":"IF('Payroll Form'!H42=\"\",\"\",'Payroll Form'!H42)","v":""}]
["Line 3"]
["Line 4"]
["Line 5"]
["Line 6"]
["Subtotal 27",null,null,null,null,null,null,null,null,{"$f":"SUM(J189:J194)","v":0}]
["Line 1",{"$f":"IF('Payroll Form'!E43=\"\",\"\",'Payroll Form'!E43)","v":""},{"$f":"IF('Payroll Form'!F43=\"\",\"\",'Payroll Form'!F43)","v":""},{"$f":"IF('Payroll Form'!G43=\"\",\"\",'Payroll Form'!G43)","v":""},{"$f":"IF('Payroll Form'!D43=\"\",\"\",'Payroll Form'!D43)","v":""},{"$f":"IF('Payroll Form'!B43=\"\",\"\",'Payroll Form'!B43)","v":""},{"$f":"IF('Payroll Form'!C43=\"\",\"\",'Payroll Form'!C43)","v":""},null,null,{"$f":"IF('Payroll Form'!H43=\"\",\"\",-'Payroll Form'!H43)","v":""}]
["Line 2",null,null,null,{"$f":"IF('Payroll Form'!K43=\"\",\"\",'Payroll Form'!K43)","v":""},{"$f":"IF('Payroll Form'!I43=\"\",\"\",'Payroll Form'!I43)","v":""},{"$f":"IF('Payroll Form'!J43=\"\",\"\",'Payroll Form'!J43)","v":""},null,null,{"$f":"IF('Payroll Form'!H43=\"\",\"\",'Payroll Form'!H43)","v":""}]
["Line 3"]
["Line 4"]
["Line 5"]
["Line 6"]
["Subtotal 28",null,null,null,null,null,null,null,null,{"$f":"SUM(J196:J201)","v":0}]
["Line 1",{"$f":"IF('Payroll Form'!E44=\"\",\"\",'Payroll Form'!E44)","v":""},{"$f":"IF('Payroll Form'!F44=\"\",\"\",'Payroll Form'!F44)","v":""},{"$f":"IF('Payroll Form'!G44=\"\",\"\",'Payroll Form'!G44)","v":""},{"$f":"IF('Payroll Form'!D44=\"\",\"\",'Payroll Form'!D44)","v":""},{"$f":"IF('Payroll Form'!B44=\"\",\"\",'Payroll Form'!B44)","v":""},{"$f":"IF('Payroll Form'!C44=\"\",\"\",'Payroll Form'!C44)","v":""},null,null,{"$f":"IF('Payroll Form'!H44=\"\",\"\",-'Payroll Form'!H44)","v":""}]
["Line 2",null,null,null,{"$f":"IF('Payroll Form'!K44=\"\",\"\",'Payroll Form'!K44)","v":""},{"$f":"IF('Payroll Form'!I44=\"\",\"\",'Payroll Form'!I44)","v":""},{"$f":"IF('Payroll Form'!J44=\"\",\"\",'Payroll Form'!J44)","v":""},null,null,{"$f":"IF('Payroll Form'!H44=\"\",\"\",'Payroll Form'!H44)","v":""}]
["Line 3"]
["Line 4"]
["Line 5"]
["Line 6"]
["Subtotal 29",null,null,null,null,null,null,null,null,{"$f":"SUM(J203:J208)","v":0}]
["Line 1",{"$f":"IF('Payroll Form'!E45=\"\",\"\",'Payroll Form'!E45)","v":""},{"$f":"IF('Payroll Form'!F45=\"\",\"\",'Payroll Form'!F45)","v":""},{"$f":"IF('Payroll Form'!G45=\"\",\"\",'Payroll Form'!G45)","v":""},{"$f":"IF('Payroll Form'!D45=\"\",\"\",'Payroll Form'!D45)","v":""},{"$f":"IF('Payroll Form'!B45=\"\",\"\",'Payroll Form'!B45)","v":""},{"$f":"IF('Payroll Form'!C45=\"\",\"\",'Payroll Form'!C45)","v":""},null,null,{"$f":"IF('Payroll Form'!H45=\"\",\"\",-'Payroll Form'!H45)","v":""}]
["Line 2",null,null,null,{"$f":"IF('Payroll Form'!K45=\"\",\"\",'Payroll Form'!K45)","v":""},{"$f":"IF('Payroll Form'!I45=\"\",\"\",'Payroll Form'!I45)","v":""},{"$f":"IF('Payroll Form'!J45=\"\",\"\",'Payroll Form'!J45)","v":""},null,null,{"$f":"IF('Payroll Form'!H45=\"\",\"\",'Payroll Form'!H45)","v":""}]
["Line 3"]
["Line 4"]
["Line 5"]
["Line 6"]
["Subtotal 30",null,null,null,null,null,null,null,null,{"$f":"SUM(J210:J215)","v":0}]
["Line 1",{"$f":"IF('Payroll Form'!E46=\"\",\"\",'Payroll Form'!E46)","v":""},{"$f":"IF('Payroll Form'!F46=\"\",\"\",'Payroll Form'!F46)","v":""},{"$f":"IF('Payroll Form'!G46=\"\",\"\",'Payroll Form'!G46)","v":""},{"$f":"IF('Payroll Form'!D46=\"\",\"\",'Payroll Form'!D46)","v":""},{"$f":"IF('Payroll Form'!B46=\"\",\"\",'Payroll Form'!B46)","v":""},{"$f":"IF('Payroll Form'!C46=\"\",\"\",'Payroll Form'!C46)","v":""},null,null,{"$f":"IF('Payroll Form'!H46=\"\",\"\",-'Payroll Form'!H46)","v":""}]
["Line 2",null,null,null,{"$f":"IF('Payroll Form'!K46=\"\",\"\",'Payroll Form'!K46)","v":""},{"$f":"IF('Payroll Form'!I46=\"\",\"\",'Payroll Form'!I46)","v":""},{"$f":"IF('Payroll Form'!J46=\"\",\"\",'Payroll Form'!J46)","v":""},null,null,{"$f":"IF('Payroll Form'!H46=\"\",\"\",'Payroll Form'!H46)","v":""}]
["Line 3"]
["Line 4"]
["Line 5"]
["Line 6"]
["Subtotal 31",null,null,null,null,null,null,null,null,{"$f":"SUM(J217:J222)","v":0}]
["Line 1",{"$f":"IF('Payroll Form'!E47=\"\",\"\",'Payroll Form'!E47)","v":""},{"$f":"IF('Payroll Form'!F47=\"\",\"\",'Payroll Form'!F47)","v":""},{"$f":"IF('Payroll Form'!G47=\"\",\"\",'Payroll Form'!G47)","v":""},{"$f":"IF('Payroll Form'!D47=\"\",\"\",'Payroll Form'!D47)","v":""},{"$f":"IF('Payroll Form'!B47=\"\",\"\",'Payroll Form'!B47)","v":""},{"$f":"IF('Payroll Form'!C47=\"\",\"\",'Payroll Form'!C47)","v":""},null,null,{"$f":"IF('Payroll Form'!H47=\"\",\"\",-'Payroll Form'!H47)","v":""}]
["Line 2",null,null,null,{"$f":"IF('Payroll Form'!K47=\"\",\"\",'Payroll Form'!K47)","v":""},{"$f":"IF('Payroll Form'!I47=\"\",\"\",'Payroll Form'!I47)","v":""},{"$f":"IF('Payroll Form'!J47=\"\",\"\",'Payroll Form'!J47)","v":""},null,null,{"$f":"IF('Payroll Form'!H47=\"\",\"\",'Payroll Form'!H47)","v":""}]
["Line 3"]
["Line 4"]
["Line 5"]
["Line 6"]
["Subtotal 32",null,null,null,null,null,null,null,null,{"$f":"SUM(J224:J229)","v":0}]
["Line 1",{"$f":"IF('Payroll Form'!E48=\"\",\"\",'Payroll Form'!E48)","v":""},{"$f":"IF('Payroll Form'!F48=\"\",\"\",'Payroll Form'!F48)","v":""},{"$f":"IF('Payroll Form'!G48=\"\",\"\",'Payroll Form'!G48)","v":""},{"$f":"IF('Payroll Form'!D48=\"\",\"\",'Payroll Form'!D48)","v":""},{"$f":"IF('Payroll Form'!B48=\"\",\"\",'Payroll Form'!B48)","v":""},{"$f":"IF('Payroll Form'!C48=\"\",\"\",'Payroll Form'!C48)","v":""},null,null,{"$f":"IF('Payroll Form'!H48=\"\",\"\",-'Payroll Form'!H48)","v":""}]
["Line 2",null,null,null,{"$f":"IF('Payroll Form'!K48=\"\",\"\",'Payroll Form'!K48)","v":""},{"$f":"IF('Payroll Form'!I48=\"\",\"\",'Payroll Form'!I48)","v":""},{"$f":"IF('Payroll Form'!J48=\"\",\"\",'Payroll Form'!J48)","v":""},null,null,{"$f":"IF('Payroll Form'!H48=\"\",\"\",'Payroll Form'!H48)","v":""}]
["Line 3"]
["Line 4"]
["Line 5"]
["Line 6"]
["Subtotal 33",null,null,null,null,null,null,null,null,{"$f":"SUM(J231:J236)","v":0}]
["Line 1",{"$f":"IF('Payroll Form'!E49=\"\",\"\",'Payroll Form'!E49)","v":""},{"$f":"IF('Payroll Form'!F49=\"\",\"\",'Payroll Form'!F49)","v":""},{"$f":"IF('Payroll Form'!G49=\"\",\"\",'Payroll Form'!G49)","v":""},{"$f":"IF('Payroll Form'!D49=\"\",\"\",'Payroll Form'!D49)","v":""},{"$f":"IF('Payroll Form'!B49=\"\",\"\",'Payroll Form'!B49)","v":""},{"$f":"IF('Payroll Form'!C49=\"\",\"\",'Payroll Form'!C49)","v":""},null,null,{"$f":"IF('Payroll Form'!H49=\"\",\"\",-'Payroll Form'!H49)","v":""}]
["Line 2",null,null,null,{"$f":"IF('Payroll Form'!K49=\"\",\"\",'Payroll Form'!K49)","v":""},{"$f":"IF('Payroll Form'!I49=\"\",\"\",'Payroll Form'!I49)","v":""},{"$f":"IF('Payroll Form'!J49=\"\",\"\",'Payroll Form'!J49)","v":""},null,null,{"$f":"IF('Payroll Form'!H49=\"\",\"\",'Payroll Form'!H49)","v":""}]
["Line 3"]
["Line 4"]
["Line 5"]
["Line 6"]
["Subtotal 34",null,null,null,null,null,null,null,null,{"$f":"SUM(J238:J243)","v":0}]
["Line 1",{"$f":"IF('Payroll Form'!E50=\"\",\"\",'Payroll Form'!E50)","v":""},{"$f":"IF('Payroll Form'!F50=\"\",\"\",'Payroll Form'!F50)","v":""},{"$f":"IF('Payroll Form'!G50=\"\",\"\",'Payroll Form'!G50)","v":""},{"$f":"IF('Payroll Form'!D50=\"\",\"\",'Payroll Form'!D50)","v":""},{"$f":"IF('Payroll Form'!B50=\"\",\"\",'Payroll Form'!B50)","v":""},{"$f":"IF('Payroll Form'!C50=\"\",\"\",'Payroll Form'!C50)","v":""},null,null,{"$f":"IF('Payroll Form'!H50=\"\",\"\",-'Payroll Form'!H50)","v":""}]
["Line 2",null,null,null,{"$f":"IF('Payroll Form'!K50=\"\",\"\",'Payroll Form'!K50)","v":""},{"$f":"IF('Payroll Form'!I50=\"\",\"\",'Payroll Form'!I50)","v":""},{"$f":"IF('Payroll Form'!J50=\"\",\"\",'Payroll Form'!J50)","v":""},null,null,{"$f":"IF('Payroll Form'!H50=\"\",\"\",'Payroll Form'!H50)","v":""}]
["Line 3"]
["Line 4"]
["Line 5"]
["Line 6"]
["Subtotal 35",null,null,null,null,null,null,null,null,{"$f":"SUM(J245:J250)","v":0}]
["Line 1",{"$f":"IF('Payroll Form'!E51=\"\",\"\",'Payroll Form'!E51)","v":""},{"$f":"IF('Payroll Form'!F51=\"\",\"\",'Payroll Form'!F51)","v":""},{"$f":"IF('Payroll Form'!G51=\"\",\"\",'Payroll Form'!G51)","v":""},{"$f":"IF('Payroll Form'!D51=\"\",\"\",'Payroll Form'!D51)","v":""},{"$f":"IF('Payroll Form'!B51=\"\",\"\",'Payroll Form'!B51)","v":""},{"$f":"IF('Payroll Form'!C51=\"\",\"\",'Payroll Form'!C51)","v":""},null,null,{"$f":"IF('Payroll Form'!H51=\"\",\"\",-'Payroll Form'!H51)","v":""}]
["Line 2",null,null,null,{"$f":"IF('Payroll Form'!K51=\"\",\"\",'Payroll Form'!K51)","v":""},{"$f":"IF('Payroll Form'!I51=\"\",\"\",'Payroll Form'!I51)","v":""},{"$f":"IF('Payroll Form'!J51=\"\",\"\",'Payroll Form'!J51)","v":""},null,null,{"$f":"IF('Payroll Form'!H51=\"\",\"\",'Payroll Form'!H51)","v":""}]
["Line 3"]
["Line 4"]
["Line 5"]
["Line 6"]
["Subtotal 36",null,null,null,null,null,null,null,null,{"$f":"SUM(J252:J257)","v":0}]
["Line 1",{"$f":"IF('Payroll Form'!E52=\"\",\"\",'Payroll Form'!E52)","v":""},{"$f":"IF('Payroll Form'!F52=\"\",\"\",'Payroll Form'!F52)","v":""},{"$f":"IF('Payroll Form'!G52=\"\",\"\",'Payroll Form'!G52)","v":""},{"$f":"IF('Payroll Form'!D52=\"\",\"\",'Payroll Form'!D52)","v":""},{"$f":"IF('Payroll Form'!B52=\"\",\"\",'Payroll Form'!B52)","v":""},{"$f":"IF('Payroll Form'!C52=\"\",\"\",'Payroll Form'!C52)","v":""},null,null,{"$f":"IF('Payroll Form'!H52=\"\",\"\",-'Payroll Form'!H52)","v":""}]
["Line 2",null,null,null,{"$f":"IF('Payroll Form'!K52=\"\",\"\",'Payroll Form'!K52)","v":""},{"$f":"IF('Payroll Form'!I52=\"\",\"\",'Payroll Form'!I52)","v":""},{"$f":"IF('Payroll Form'!J52=\"\",\"\",'Payroll Form'!J52)","v":""},null,null,{"$f":"IF('Payroll Form'!H52=\"\",\"\",'Payroll Form'!H52)","v":""}]
["Line 3"]
["Line 4"]
["Line 5"]
["Line 6"]
["Subtotal 37",null,null,null,null,null,null,null,null,{"$f":"SUM(J259:J264)","v":0}]
["Line 1",{"$f":"IF('Payroll Form'!E53=\"\",\"\",'Payroll Form'!E53)","v":""},{"$f":"IF('Payroll Form'!F53=\"\",\"\",'Payroll Form'!F53)","v":""},{"$f":"IF('Payroll Form'!G53=\"\",\"\",'Payroll Form'!G53)","v":""},{"$f":"IF('Payroll Form'!D53=\"\",\"\",'Payroll Form'!D53)","v":""},{"$f":"IF('Payroll Form'!B53=\"\",\"\",'Payroll Form'!B53)","v":""},{"$f":"IF('Payroll Form'!C53=\"\",\"\",'Payroll Form'!C53)","v":""},null,null,{"$f":"IF('Payroll Form'!H53=\"\",\"\",-'Payroll Form'!H53)","v":""}]
["Line 2",null,null,null,{"$f":"IF('Payroll Form'!K53=\"\",\"\",'Payroll Form'!K53)","v":""},{"$f":"IF('Payroll Form'!I53=\"\",\"\",'Payroll Form'!I53)","v":""},{"$f":"IF('Payroll Form'!J53=\"\",\"\",'Payroll Form'!J53)","v":""},null,null,{"$f":"IF('Payroll Form'!H53=\"\",\"\",'Payroll Form'!H53)","v":""}]
["Line 3"]
["Line 4"]
["Line 5"]
["Line 6"]
["Subtotal 38",null,null,null,null,null,null,null,null,{"$f":"SUM(J266:J271)","v":0}]
["Line 1",{"$f":"IF('Payroll Form'!E54=\"\",\"\",'Payroll Form'!E54)","v":""},{"$f":"IF('Payroll Form'!F54=\"\",\"\",'Payroll Form'!F54)","v":""},{"$f":"IF('Payroll Form'!G54=\"\",\"\",'Payroll Form'!G54)","v":""},{"$f":"IF('Payroll Form'!D54=\"\",\"\",'Payroll Form'!D54)","v":""},{"$f":"IF('Payroll Form'!B54=\"\",\"\",'Payroll Form'!B54)","v":""},{"$f":"IF('Payroll Form'!C54=\"\",\"\",'Payroll Form'!C54)","v":""},null,null,{"$f":"IF('Payroll Form'!H54=\"\",\"\",-'Payroll Form'!H54)","v":""}]
["Line 2",null,null,null,{"$f":"IF('Payroll Form'!K54=\"\",\"\",'Payroll Form'!K54)","v":""},{"$f":"IF('Payroll Form'!I54=\"\",\"\",'Payroll Form'!I54)","v":""},{"$f":"IF('Payroll Form'!J54=\"\",\"\",'Payroll Form'!J54)","v":""},null,null,{"$f":"IF('Payroll Form'!H54=\"\",\"\",'Payroll Form'!H54)","v":""}]
["Line 3"]
["Line 4"]
["Line 5"]
["Line 6"]
["Subtotal 39",null,null,null,null,null,null,null,null,{"$f":"SUM(J273:J278)","v":0}]
["Line 1",{"$f":"IF('Payroll Form'!E55=\"\",\"\",'Payroll Form'!E55)","v":""},{"$f":"IF('Payroll Form'!F55=\"\",\"\",'Payroll Form'!F55)","v":""},{"$f":"IF('Payroll Form'!G55=\"\",\"\",'Payroll Form'!G55)","v":""},{"$f":"IF('Payroll Form'!D55=\"\",\"\",'Payroll Form'!D55)","v":""},{"$f":"IF('Payroll Form'!B55=\"\",\"\",'Payroll Form'!B55)","v":""},{"$f":"IF('Payroll Form'!C55=\"\",\"\",'Payroll Form'!C55)","v":""},null,null,{"$f":"IF('Payroll Form'!H55=\"\",\"\",-'Payroll Form'!H55)","v":""}]
["Line 2",null,null,null,{"$f":"IF('Payroll Form'!K55=\"\",\"\",'Payroll Form'!K55)","v":""},{"$f":"IF('Payroll Form'!I55=\"\",\"\",'Payroll Form'!I55)","v":""},{"$f":"IF('Payroll Form'!J55=\"\",\"\",'Payroll Form'!J55)","v":""},null,null,{"$f":"IF('Payroll Form'!H55=\"\",\"\",'Payroll Form'!H55)","v":""}]
["Line 3"]
["Line 4"]
["Line 5"]
["Line 6"]
["Subtotal 40",null,null,null,null,null,null,null,null,{"$f":"SUM(J280:J285)","v":0}]
["Line 1",{"$f":"IF('Payroll Form'!E56=\"\",\"\",'Payroll Form'!E56)","v":""},{"$f":"IF('Payroll Form'!F56=\"\",\"\",'Payroll Form'!F56)","v":""},{"$f":"IF('Payroll Form'!G56=\"\",\"\",'Payroll Form'!G56)","v":""},{"$f":"IF('Payroll Form'!D56=\"\",\"\",'Payroll Form'!D56)","v":""},{"$f":"IF('Payroll Form'!B56=\"\",\"\",'Payroll Form'!B56)","v":""},{"$f":"IF('Payroll Form'!C56=\"\",\"\",'Payroll Form'!C56)","v":""},null,null,{"$f":"IF('Payroll Form'!H56=\"\",\"\",-'Payroll Form'!H56)","v":""}]
["Line 2",null,null,null,{"$f":"IF('Payroll Form'!K56=\"\",\"\",'Payroll Form'!K56)","v":""},{"$f":"IF('Payroll Form'!I56=\"\",\"\",'Payroll Form'!I56)","v":""},{"$f":"IF('Payroll Form'!J56=\"\",\"\",'Payroll Form'!J56)","v":""},null,null,{"$f":"IF('Payroll Form'!H56=\"\",\"\",'Payroll Form'!H56)","v":""}]
["Line 3"]
["Line 4"]
["Line 5"]
["Line 6"]
["Subtotal 41",null,null,null,null,null,null,null,null,{"$f":"SUM(J287:J292)","v":0}]
["Line 1",{"$f":"IF('Payroll Form'!E57=\"\",\"\",'Payroll Form'!E57)","v":""},{"$f":"IF('Payroll Form'!F57=\"\",\"\",'Payroll Form'!F57)","v":""},{"$f":"IF('Payroll Form'!G57=\"\",\"\",'Payroll Form'!G57)","v":""},{"$f":"IF('Payroll Form'!D57=\"\",\"\",'Payroll Form'!D57)","v":""},{"$f":"IF('Payroll Form'!B57=\"\",\"\",'Payroll Form'!B57)","v":""},{"$f":"IF('Payroll Form'!C57=\"\",\"\",'Payroll Form'!C57)","v":""},null,null,{"$f":"IF('Payroll Form'!H57=\"\",\"\",-'Payroll Form'!H57)","v":""}]
["Line 2",null,null,null,{"$f":"IF('Payroll Form'!K57=\"\",\"\",'Payroll Form'!K57)","v":""},{"$f":"IF('Payroll Form'!I57=\"\",\"\",'Payroll Form'!I57)","v":""},{"$f":"IF('Payroll Form'!J57=\"\",\"\",'Payroll Form'!J57)","v":""},null,null,{"$f":"IF('Payroll Form'!H57=\"\",\"\",'Payroll Form'!H57)","v":""}]
["Line 3"]
["Line 4"]
["Line 5"]
["Line 6"]
["Subtotal 42",null,null,null,null,null,null,null,null,{"$f":"SUM(J294:J299)","v":0}]
["Line 1",{"$f":"IF('Payroll Form'!E58=\"\",\"\",'Payroll Form'!E58)","v":""},{"$f":"IF('Payroll Form'!F58=\"\",\"\",'Payroll Form'!F58)","v":""},{"$f":"IF('Payroll Form'!G58=\"\",\"\",'Payroll Form'!G58)","v":""},{"$f":"IF('Payroll Form'!D58=\"\",\"\",'Payroll Form'!D58)","v":""},{"$f":"IF('Payroll Form'!B58=\"\",\"\",'Payroll Form'!B58)","v":""},{"$f":"IF('Payroll Form'!C58=\"\",\"\",'Payroll Form'!C58)","v":""},null,null,{"$f":"IF('Payroll Form'!H58=\"\",\"\",-'Payroll Form'!H58)","v":""}]
["Line 2",null,null,null,{"$f":"IF('Payroll Form'!K58=\"\",\"\",'Payroll Form'!K58)","v":""},{"$f":"IF('Payroll Form'!I58=\"\",\"\",'Payroll Form'!I58)","v":""},{"$f":"IF('Payroll Form'!J58=\"\",\"\",'Payroll Form'!J58)","v":""},null,null,{"$f":"IF('Payroll Form'!H58=\"\",\"\",'Payroll Form'!H58)","v":""}]
["Line 3"]
["Line 4"]
["Line 5"]
["Line 6"]
["Subtotal 43",null,null,null,null,null,null,null,null,{"$f":"SUM(J301:J306)","v":0}]
["Line 1",{"$f":"IF('Payroll Form'!E59=\"\",\"\",'Payroll Form'!E59)","v":""},{"$f":"IF('Payroll Form'!F59=\"\",\"\",'Payroll Form'!F59)","v":""},{"$f":"IF('Payroll Form'!G59=\"\",\"\",'Payroll Form'!G59)","v":""},{"$f":"IF('Payroll Form'!D59=\"\",\"\",'Payroll Form'!D59)","v":""},{"$f":"IF('Payroll Form'!B59=\"\",\"\",'Payroll Form'!B59)","v":""},{"$f":"IF('Payroll Form'!C59=\"\",\"\",'Payroll Form'!C59)","v":""},null,null,{"$f":"IF('Payroll Form'!H59=\"\",\"\",-'Payroll Form'!H59)","v":""}]
["Line 2",null,null,null,{"$f":"IF('Payroll Form'!K59=\"\",\"\",'Payroll Form'!K59)","v":""},{"$f":"IF('Payroll Form'!I59=\"\",\"\",'Payroll Form'!I59)","v":""},{"$f":"IF('Payroll Form'!J59=\"\",\"\",'Payroll Form'!J59)","v":""},null,null,{"$f":"IF('Payroll Form'!H59=\"\",\"\",'Payroll Form'!H59)","v":""}]
["Line 3"]
["Line 4"]
["Line 5"]
["Line 6"]
["Subtotal 44",null,null,null,null,null,null,null,null,{"$f":"SUM(J308:J313)","v":0}]
["Line 1",{"$f":"IF('Payroll Form'!E60=\"\",\"\",'Payroll Form'!E60)","v":""},{"$f":"IF('Payroll Form'!F60=\"\",\"\",'Payroll Form'!F60)","v":""},{"$f":"IF('Payroll Form'!G60=\"\",\"\",'Payroll Form'!G60)","v":""},{"$f":"IF('Payroll Form'!D60=\"\",\"\",'Payroll Form'!D60)","v":""},{"$f":"IF('Payroll Form'!B60=\"\",\"\",'Payroll Form'!B60)","v":""},{"$f":"IF('Payroll Form'!C60=\"\",\"\",'Payroll Form'!C60)","v":""},null,null,{"$f":"IF('Payroll Form'!H60=\"\",\"\",-'Payroll Form'!H60)","v":""}]
["Line 2",null,null,null,{"$f":"IF('Payroll Form'!K60=\"\",\"\",'Payroll Form'!K60)","v":""},{"$f":"IF('Payroll Form'!I60=\"\",\"\",'Payroll Form'!I60)","v":""},{"$f":"IF('Payroll Form'!J60=\"\",\"\",'Payroll Form'!J60)","v":""},null,null,{"$f":"IF('Payroll Form'!H60=\"\",\"\",'Payroll Form'!H60)","v":""}]
["Line 3"]
["Line 4"]
["Line 5"]
["Line 6"]
["Subtotal 45",null,null,null,null,null,null,null,null,{"$f":"SUM(J315:J320)","v":0}]
["Line 1",{"$f":"IF('Payroll Form'!E61=\"\",\"\",'Payroll Form'!E61)","v":""},{"$f":"IF('Payroll Form'!F61=\"\",\"\",'Payroll Form'!F61)","v":""},{"$f":"IF('Payroll Form'!G61=\"\",\"\",'Payroll Form'!G61)","v":""},{"$f":"IF('Payroll Form'!D61=\"\",\"\",'Payroll Form'!D61)","v":""},{"$f":"IF('Payroll Form'!B61=\"\",\"\",'Payroll Form'!B61)","v":""},{"$f":"IF('Payroll Form'!C61=\"\",\"\",'Payroll Form'!C61)","v":""},null,null,{"$f":"IF('Payroll Form'!H61=\"\",\"\",-'Payroll Form'!H61)","v":""}]
["Line 2",null,null,null,{"$f":"IF('Payroll Form'!K61=\"\",\"\",'Payroll Form'!K61)","v":""},{"$f":"IF('Payroll Form'!I61=\"\",\"\",'Payroll Form'!I61)","v":""},{"$f":"IF('Payroll Form'!J61=\"\",\"\",'Payroll Form'!J61)","v":""},null,null,{"$f":"IF('Payroll Form'!H61=\"\",\"\",'Payroll Form'!H61)","v":""}]
["Line 3"]
["Line 4"]
["Line 5"]
["Line 6"]
["Subtotal 46",null,null,null,null,null,null,null,null,{"$f":"SUM(J322:J327)","v":0}]
["Line 1",{"$f":"IF('Payroll Form'!E62=\"\",\"\",'Payroll Form'!E62)","v":""},{"$f":"IF('Payroll Form'!F62=\"\",\"\",'Payroll Form'!F62)","v":""},{"$f":"IF('Payroll Form'!G62=\"\",\"\",'Payroll Form'!G62)","v":""},{"$f":"IF('Payroll Form'!D62=\"\",\"\",'Payroll Form'!D62)","v":""},{"$f":"IF('Payroll Form'!B62=\"\",\"\",'Payroll Form'!B62)","v":""},{"$f":"IF('Payroll Form'!C62=\"\",\"\",'Payroll Form'!C62)","v":""},null,null,{"$f":"IF('Payroll Form'!H62=\"\",\"\",-'Payroll Form'!H62)","v":""}]
["Line 2",null,null,null,{"$f":"IF('Payroll Form'!K62=\"\",\"\",'Payroll Form'!K62)","v":""},{"$f":"IF('Payroll Form'!I62=\"\",\"\",'Payroll Form'!I62)","v":""},{"$f":"IF('Payroll Form'!J62=\"\",\"\",'Payroll Form'!J62)","v":""},null,null,{"$f":"IF('Payroll Form'!H62=\"\",\"\",'Payroll Form'!H62)","v":""}]
["Line 3"]
["Line 4"]
["Line 5"]
["Line 6"]
["Subtotal 47",null,null,null,null,null,null,null,null,{"$f":"SUM(J329:J334)","v":0}]
["Line 1",{"$f":"IF('Payroll Form'!E63=\"\",\"\",'Payroll Form'!E63)","v":""},{"$f":"IF('Payroll Form'!F63=\"\",\"\",'Payroll Form'!F63)","v":""},{"$f":"IF('Payroll Form'!G63=\"\",\"\",'Payroll Form'!G63)","v":""},{"$f":"IF('Payroll Form'!D63=\"\",\"\",'Payroll Form'!D63)","v":""},{"$f":"IF('Payroll Form'!B63=\"\",\"\",'Payroll Form'!B63)","v":""},{"$f":"IF('Payroll Form'!C63=\"\",\"\",'Payroll Form'!C63)","v":""},null,null,{"$f":"IF('Payroll Form'!H63=\"\",\"\",-'Payroll Form'!H63)","v":""}]
["Line 2",null,null,null,{"$f":"IF('Payroll Form'!K63=\"\",\"\",'Payroll Form'!K63)","v":""},{"$f":"IF('Payroll Form'!I63=\"\",\"\",'Payroll Form'!I63)","v":""},{"$f":"IF('Payroll Form'!J63=\"\",\"\",'Payroll Form'!J63)","v":""},null,null,{"$f":"IF('Payroll Form'!H63=\"\",\"\",'Payroll Form'!H63)","v":""}]
["Line 3"]
["Line 4"]
["Line 5"]
["Line 6"]
["Subtotal 48",null,null,null,null,null,null,null,null,{"$f":"SUM(J336:J341)","v":0}]
["Line 1",{"$f":"IF('Payroll Form'!E64=\"\",\"\",'Payroll Form'!E64)","v":""},{"$f":"IF('Payroll Form'!F64=\"\",\"\",'Payroll Form'!F64)","v":""},{"$f":"IF('Payroll Form'!G64=\"\",\"\",'Payroll Form'!G64)","v":""},{"$f":"IF('Payroll Form'!D64=\"\",\"\",'Payroll Form'!D64)","v":""},{"$f":"IF('Payroll Form'!B64=\"\",\"\",'Payroll Form'!B64)","v":""},{"$f":"IF('Payroll Form'!C64=\"\",\"\",'Payroll Form'!C64)","v":""},null,null,{"$f":"IF('Payroll Form'!H64=\"\",\"\",-'Payroll Form'!H64)","v":""}]
["Line 2",null,null,null,{"$f":"IF('Payroll Form'!K64=\"\",\"\",'Payroll Form'!K64)","v":""},{"$f":"IF('Payroll Form'!I64=\"\",\"\",'Payroll Form'!I64)","v":""},{"$f":"IF('Payroll Form'!J64=\"\",\"\",'Payroll Form'!J64)","v":""},null,null,{"$f":"IF('Payroll Form'!H64=\"\",\"\",'Payroll Form'!H64)","v":""}]
["Line 3"]
["Line 4"]
["Line 5"]
["Line 6"]
["Subtotal 49",null,null,null,null,null,null,null,null,{"$f":"SUM(J343:J348)","v":0}]
["Line 1",{"$f":"IF('Payroll Form'!E65=\"\",\"\",'Payroll Form'!E65)","v":""},{"$f":"IF('Payroll Form'!F65=\"\",\"\",'Payroll Form'!F65)","v":""},{"$f":"IF('Payroll Form'!G65=\"\",\"\",'Payroll Form'!G65)","v":""},{"$f":"IF('Payroll Form'!D65=\"\",\"\",'Payroll Form'!D65)","v":""},{"$f":"IF('Payroll Form'!B65=\"\",\"\",'Payroll Form'!B65)","v":""},{"$f":"IF('Payroll Form'!C65=\"\",\"\",'Payroll Form'!C65)","v":""},null,null,{"$f":"IF('Payroll Form'!H65=\"\",\"\",-'Payroll Form'!H65)","v":""}]
["Line 2",null,null,null,{"$f":"IF('Payroll Form'!K65=\"\",\"\",'Payroll Form'!K65)","v":""},{"$f":"IF('Payroll Form'!I65=\"\",\"\",'Payroll Form'!I65)","v":""},{"$f":"IF('Payroll Form'!J65=\"\",\"\",'Payroll Form'!J65)","v":""},null,null,{"$f":"IF('Payroll Form'!H65=\"\",\"\",'Payroll Form'!H65)","v":""}]
["Line 3"]
["Line 4"]
["Line 5"]
["Line 6"]
["Subtotal 50",null,null,null,null,null,null,null,null,{"$f":"SUM(J350:J355)","v":0}]
["Line 1",{"$f":"IF('Payroll Form'!E66=\"\",\"\",'Payroll Form'!E66)","v":""},{"$f":"IF('Payroll Form'!F66=\"\",\"\",'Payroll Form'!F66)","v":""},{"$f":"IF('Payroll Form'!G66=\"\",\"\",'Payroll Form'!G66)","v":""},{"$f":"IF('Payroll Form'!D66=\"\",\"\",'Payroll Form'!D66)","v":""},{"$f":"IF('Payroll Form'!B66=\"\",\"\",'Payroll Form'!B66)","v":""},{"$f":"IF('Payroll Form'!C66=\"\",\"\",'Payroll Form'!C66)","v":""},null,null,{"$f":"IF('Payroll Form'!H66=\"\",\"\",-'Payroll Form'!H66)","v":""}]
["Line 2",null,null,null,{"$f":"IF('Payroll Form'!K66=\"\",\"\",'Payroll Form'!K66)","v":""},{"$f":"IF('Payroll Form'!I66=\"\",\"\",'Payroll Form'!I66)","v":""},{"$f":"IF('Payroll Form'!J66=\"\",\"\",'Payroll Form'!J66)","v":""},null,null,{"$f":"IF('Payroll Form'!H66=\"\",\"\",'Payroll Form'!H66)","v":""}]
["Line 3"]
["Line 4"]
["Line 5"]
["Line 6"]
["Subtotal 51",null,null,null,null,null,null,null,null,{"$f":"SUM(J357:J362)","v":0}]
["Line 1",{"$f":"IF('Payroll Form'!E67=\"\",\"\",'Payroll Form'!E67)","v":""},{"$f":"IF('Payroll Form'!F67=\"\",\"\",'Payroll Form'!F67)","v":""},{"$f":"IF('Payroll Form'!G67=\"\",\"\",'Payroll Form'!G67)","v":""},{"$f":"IF('Payroll Form'!D67=\"\",\"\",'Payroll Form'!D67)","v":""},{"$f":"IF('Payroll Form'!B67=\"\",\"\",'Payroll Form'!B67)","v":""},{"$f":"IF('Payroll Form'!C67=\"\",\"\",'Payroll Form'!C67)","v":""},null,null,{"$f":"IF('Payroll Form'!H67=\"\",\"\",-'Payroll Form'!H67)","v":""}]
["Line 2",null,null,null,{"$f":"IF('Payroll Form'!K67=\"\",\"\",'Payroll Form'!K67)","v":""},{"$f":"IF('Payroll Form'!I67=\"\",\"\",'Payroll Form'!I67)","v":""},{"$f":"IF('Payroll Form'!J67=\"\",\"\",'Payroll Form'!J67)","v":""},null,null,{"$f":"IF('Payroll Form'!H67=\"\",\"\",'Payroll Form'!H67)","v":""}]
["Line 3"]
["Line 4"]
["Line 5"]
["Line 6"]
["Subtotal 52",null,null,null,null,null,null,null,null,{"$f":"SUM(J364:J369)","v":0}]
["Line 1",{"$f":"IF('Payroll Form'!E68=\"\",\"\",'Payroll Form'!E68)","v":""},{"$f":"IF('Payroll Form'!F68=\"\",\"\",'Payroll Form'!F68)","v":""},{"$f":"IF('Payroll Form'!G68=\"\",\"\",'Payroll Form'!G68)","v":""},{"$f":"IF('Payroll Form'!D68=\"\",\"\",'Payroll Form'!D68)","v":""},{"$f":"IF('Payroll Form'!B68=\"\",\"\",'Payroll Form'!B68)","v":""},{"$f":"IF('Payroll Form'!C68=\"\",\"\",'Payroll Form'!C68)","v":""},null,null,{"$f":"IF('Payroll Form'!H68=\"\",\"\",-'Payroll Form'!H68)","v":""}]
["Line 2",null,null,null,{"$f":"IF('Payroll Form'!K68=\"\",\"\",'Payroll Form'!K68)","v":""},{"$f":"IF('Payroll Form'!I68=\"\",\"\",'Payroll Form'!I68)","v":""},{"$f":"IF('Payroll Form'!J68=\"\",\"\",'Payroll Form'!J68)","v":""},null,null,{"$f":"IF('Payroll Form'!H68=\"\",\"\",'Payroll Form'!H68)","v":""}]
["Line 3"]
["Line 4"]
["Line 5"]
["Line 6"]
["Subtotal 53",null,null,null,null,null,null,null,null,{"$f":"SUM(J371:J376)","v":0}]
["Line 1",{"$f":"IF('Payroll Form'!E69=\"\",\"\",'Payroll Form'!E69)","v":""},{"$f":"IF('Payroll Form'!F69=\"\",\"\",'Payroll Form'!F69)","v":""},{"$f":"IF('Payroll Form'!G69=\"\",\"\",'Payroll Form'!G69)","v":""},{"$f":"IF('Payroll Form'!D69=\"\",\"\",'Payroll Form'!D69)","v":""},{"$f":"IF('Payroll Form'!B69=\"\",\"\",'Payroll Form'!B69)","v":""},{"$f":"IF('Payroll Form'!C69=\"\",\"\",'Payroll Form'!C69)","v":""},null,null,{"$f":"IF('Payroll Form'!H69=\"\",\"\",-'Payroll Form'!H69)","v":""}]
["Line 2",null,null,null,{"$f":"IF('Payroll Form'!K69=\"\",\"\",'Payroll Form'!K69)","v":""},{"$f":"IF('Payroll Form'!I69=\"\",\"\",'Payroll Form'!I69)","v":""},{"$f":"IF('Payroll Form'!J69=\"\",\"\",'Payroll Form'!J69)","v":""},null,null,{"$f":"IF('Payroll Form'!H69=\"\",\"\",'Payroll Form'!H69)","v":""}]
["Line 3"]
["Line 4"]
["Line 5"]
["Line 6"]
["Subtotal 54",null,null,null,null,null,null,null,null,{"$f":"SUM(J378:J383)","v":0}]
["Line 1",{"$f":"IF('Payroll Form'!E70=\"\",\"\",'Payroll Form'!E70)","v":""},{"$f":"IF('Payroll Form'!F70=\"\",\"\",'Payroll Form'!F70)","v":""},{"$f":"IF('Payroll Form'!G70=\"\",\"\",'Payroll Form'!G70)","v":""},{"$f":"IF('Payroll Form'!D70=\"\",\"\",'Payroll Form'!D70)","v":""},{"$f":"IF('Payroll Form'!B70=\"\",\"\",'Payroll Form'!B70)","v":""},{"$f":"IF('Payroll Form'!C70=\"\",\"\",'Payroll Form'!C70)","v":""},null,null,{"$f":"IF('Payroll Form'!H70=\"\",\"\",-'Payroll Form'!H70)","v":""}]
["Line 2",null,null,null,{"$f":"IF('Payroll Form'!K70=\"\",\"\",'Payroll Form'!K70)","v":""},{"$f":"IF('Payroll Form'!I70=\"\",\"\",'Payroll Form'!I70)","v":""},{"$f":"IF('Payroll Form'!J70=\"\",\"\",'Payroll Form'!J70)","v":""},null,null,{"$f":"IF('Payroll Form'!H70=\"\",\"\",'Payroll Form'!H70)","v":""}]
["Line 3"]
["Line 4"]
["Line 5"]
["Line 6"]
["Subtotal 55",null,null,null,null,null,null,null,null,{"$f":"SUM(J385:J390)","v":0}]
["Line 1",{"$f":"IF('Payroll Form'!E71=\"\",\"\",'Payroll Form'!E71)","v":""},{"$f":"IF('Payroll Form'!F71=\"\",\"\",'Payroll Form'!F71)","v":""},{"$f":"IF('Payroll Form'!G71=\"\",\"\",'Payroll Form'!G71)","v":""},{"$f":"IF('Payroll Form'!D71=\"\",\"\",'Payroll Form'!D71)","v":""},{"$f":"IF('Payroll Form'!B71=\"\",\"\",'Payroll Form'!B71)","v":""},{"$f":"IF('Payroll Form'!C71=\"\",\"\",'Payroll Form'!C71)","v":""},null,null,{"$f":"IF('Payroll Form'!H71=\"\",\"\",-'Payroll Form'!H71)","v":""}]
["Line 2",null,null,null,{"$f":"IF('Payroll Form'!K71=\"\",\"\",'Payroll Form'!K71)","v":""},{"$f":"IF('Payroll Form'!I71=\"\",\"\",'Payroll Form'!I71)","v":""},{"$f":"IF('Payroll Form'!J71=\"\",\"\",'Payroll Form'!J71)","v":""},null,null,{"$f":"IF('Payroll Form'!H71=\"\",\"\",'Payroll Form'!H71)","v":""}]
["Line 3"]
["Line 4"]
["Line 5"]
["Line 6"]
["Subtotal 56",null,null,null,null,null,null,null,null,{"$f":"SUM(J392:J397)","v":0}]
["Line 1",{"$f":"IF('Payroll Form'!E72=\"\",\"\",'Payroll Form'!E72)","v":""},{"$f":"IF('Payroll Form'!F72=\"\",\"\",'Payroll Form'!F72)","v":""},{"$f":"IF('Payroll Form'!G72=\"\",\"\",'Payroll Form'!G72)","v":""},{"$f":"IF('Payroll Form'!D72=\"\",\"\",'Payroll Form'!D72)","v":""},{"$f":"IF('Payroll Form'!B72=\"\",\"\",'Payroll Form'!B72)","v":""},{"$f":"IF('Payroll Form'!C72=\"\",\"\",'Payroll Form'!C72)","v":""},null,null,{"$f":"IF('Payroll Form'!H72=\"\",\"\",-'Payroll Form'!H72)","v":""}]
["Line 2",null,null,null,{"$f":"IF('Payroll Form'!K72=\"\",\"\",'Payroll Form'!K72)","v":""},{"$f":"IF('Payroll Form'!I72=\"\",\"\",'Payroll Form'!I72)","v":""},{"$f":"IF('Payroll Form'!J72=\"\",\"\",'Payroll Form'!J72)","v":""},null,null,{"$f":"IF('Payroll Form'!H72=\"\",\"\",'Payroll Form'!H72)","v":""}]
["Line 3"]
["Line 4"]
["Line 5"]
["Line 6"]
["Subtotal 57",null,null,null,null,null,null,null,null,{"$f":"SUM(J399:J404)","v":0}]
["Line 1",{"$f":"IF('Payroll Form'!E73=\"\",\"\",'Payroll Form'!E73)","v":""},{"$f":"IF('Payroll Form'!F73=\"\",\"\",'Payroll Form'!F73)","v":""},{"$f":"IF('Payroll Form'!G73=\"\",\"\",'Payroll Form'!G73)","v":""},{"$f":"IF('Payroll Form'!D73=\"\",\"\",'Payroll Form'!D73)","v":""},{"$f":"IF('Payroll Form'!B73=\"\",\"\",'Payroll Form'!B73)","v":""},{"$f":"IF('Payroll Form'!C73=\"\",\"\",'Payroll Form'!C73)","v":""},null,null,{"$f":"IF('Payroll Form'!H73=\"\",\"\",-'Payroll Form'!H73)","v":""}]
["Line 2",null,null,null,{"$f":"IF('Payroll Form'!K73=\"\",\"\",'Payroll Form'!K73)","v":""},{"$f":"IF('Payroll Form'!I73=\"\",\"\",'Payroll Form'!I73)","v":""},{"$f":"IF('Payroll Form'!J73=\"\",\"\",'Payroll Form'!J73)","v":""},null,null,{"$f":"IF('Payroll Form'!H73=\"\",\"\",'Payroll Form'!H73)","v":""}]
["Line 3"]
["Line 4"]
["Line 5"]
["Line 6"]
["Subtotal 58",null,null,null,null,null,null,null,null,{"$f":"SUM(J406:J411)","v":0}]
["Line 1",{"$f":"IF('Payroll Form'!E74=\"\",\"\",'Payroll Form'!E74)","v":""},{"$f":"IF('Payroll Form'!F74=\"\",\"\",'Payroll Form'!F74)","v":""},{"$f":"IF('Payroll Form'!G74=\"\",\"\",'Payroll Form'!G74)","v":""},{"$f":"IF('Payroll Form'!D74=\"\",\"\",'Payroll Form'!D74)","v":""},{"$f":"IF('Payroll Form'!B74=\"\",\"\",'Payroll Form'!B74)","v":""},{"$f":"IF('Payroll Form'!C74=\"\",\"\",'Payroll Form'!C74)","v":""},null,null,{"$f":"IF('Payroll Form'!H74=\"\",\"\",-'Payroll Form'!H74)","v":""}]
["Line 2",null,null,null,{"$f":"IF('Payroll Form'!K74=\"\",\"\",'Payroll Form'!K74)","v":""},{"$f":"IF('Payroll Form'!I74=\"\",\"\",'Payroll Form'!I74)","v":""},{"$f":"IF('Payroll Form'!J74=\"\",\"\",'Payroll Form'!J74)","v":""},null,null,{"$f":"IF('Payroll Form'!H74=\"\",\"\",'Payroll Form'!H74)","v":""}]
["Line 3"]
["Line 4"]
["Line 5"]
["Line 6"]
["Subtotal 59",null,null,null,null,null,null,null,null,{"$f":"SUM(J413:J418)","v":0}]
["Line 1",{"$f":"IF('Payroll Form'!E75=\"\",\"\",'Payroll Form'!E75)","v":""},{"$f":"IF('Payroll Form'!F75=\"\",\"\",'Payroll Form'!F75)","v":""},{"$f":"IF('Payroll Form'!G75=\"\",\"\",'Payroll Form'!G75)","v":""},{"$f":"IF('Payroll Form'!D75=\"\",\"\",'Payroll Form'!D75)","v":""},{"$f":"IF('Payroll Form'!B75=\"\",\"\",'Payroll Form'!B75)","v":""},{"$f":"IF('Payroll Form'!C75=\"\",\"\",'Payroll Form'!C75)","v":""},null,null,{"$f":"IF('Payroll Form'!H75=\"\",\"\",-'Payroll Form'!H75)","v":""}]
["Line 2",null,null,null,{"$f":"IF('Payroll Form'!K75=\"\",\"\",'Payroll Form'!K75)","v":""},{"$f":"IF('Payroll Form'!I75=\"\",\"\",'Payroll Form'!I75)","v":""},{"$f":"IF('Payroll Form'!J75=\"\",\"\",'Payroll Form'!J75)","v":""},null,null,{"$f":"IF('Payroll Form'!H75=\"\",\"\",'Payroll Form'!H75)","v":""}]
["Line 3"]
["Line 4"]
["Line 5"]
["Line 6"]
["Subtotal 60",null,null,null,null,null,null,null,null,{"$f":"SUM(J420:J425)","v":0}]
["Line 1",{"$f":"IF('Payroll Form'!E76=\"\",\"\",'Payroll Form'!E76)","v":""},{"$f":"IF('Payroll Form'!F76=\"\",\"\",'Payroll Form'!F76)","v":""},{"$f":"IF('Payroll Form'!G76=\"\",\"\",'Payroll Form'!G76)","v":""},{"$f":"IF('Payroll Form'!D76=\"\",\"\",'Payroll Form'!D76)","v":""},{"$f":"IF('Payroll Form'!B76=\"\",\"\",'Payroll Form'!B76)","v":""},{"$f":"IF('Payroll Form'!C76=\"\",\"\",'Payroll Form'!C76)","v":""},null,null,{"$f":"IF('Payroll Form'!H76=\"\",\"\",-'Payroll Form'!H76)","v":""}]
["Line 2",null,null,null,{"$f":"IF('Payroll Form'!K76=\"\",\"\",'Payroll Form'!K76)","v":""},{"$f":"IF('Payroll Form'!I76=\"\",\"\",'Payroll Form'!I76)","v":""},{"$f":"IF('Payroll Form'!J76=\"\",\"\",'Payroll Form'!J76)","v":""},null,null,{"$f":"IF('Payroll Form'!H76=\"\",\"\",'Payroll Form'!H76)","v":""}]
["Line 3"]
["Line 4"]
["Line 5"]
["Line 6"]
["Subtotal 61",null,null,null,null,null,null,null,null,{"$f":"SUM(J427:J432)","v":0}]
["Line 1",{"$f":"IF('Payroll Form'!E77=\"\",\"\",'Payroll Form'!E77)","v":""},{"$f":"IF('Payroll Form'!F77=\"\",\"\",'Payroll Form'!F77)","v":""},{"$f":"IF('Payroll Form'!G77=\"\",\"\",'Payroll Form'!G77)","v":""},{"$f":"IF('Payroll Form'!D77=\"\",\"\",'Payroll Form'!D77)","v":""},{"$f":"IF('Payroll Form'!B77=\"\",\"\",'Payroll Form'!B77)","v":""},{"$f":"IF('Payroll Form'!C77=\"\",\"\",'Payroll Form'!C77)","v":""},null,null,{"$f":"IF('Payroll Form'!H77=\"\",\"\",-'Payroll Form'!H77)","v":""}]
["Line 2",null,null,null,{"$f":"IF('Payroll Form'!K77=\"\",\"\",'Payroll Form'!K77)","v":""},{"$f":"IF('Payroll Form'!I77=\"\",\"\",'Payroll Form'!I77)","v":""},{"$f":"IF('Payroll Form'!J77=\"\",\"\",'Payroll Form'!J77)","v":""},null,null,{"$f":"IF('Payroll Form'!H77=\"\",\"\",'Payroll Form'!H77)","v":""}]
["Line 3"]
["Line 4"]
["Line 5"]
["Line 6"]
["Subtotal 62",null,null,null,null,null,null,null,null,{"$f":"SUM(J434:J439)","v":0}]
["Line 1",{"$f":"IF('Payroll Form'!E78=\"\",\"\",'Payroll Form'!E78)","v":""},{"$f":"IF('Payroll Form'!F78=\"\",\"\",'Payroll Form'!F78)","v":""},{"$f":"IF('Payroll Form'!G78=\"\",\"\",'Payroll Form'!G78)","v":""},{"$f":"IF('Payroll Form'!D78=\"\",\"\",'Payroll Form'!D78)","v":""},{"$f":"IF('Payroll Form'!B78=\"\",\"\",'Payroll Form'!B78)","v":""},{"$f":"IF('Payroll Form'!C78=\"\",\"\",'Payroll Form'!C78)","v":""},null,null,{"$f":"IF('Payroll Form'!H78=\"\",\"\",-'Payroll Form'!H78)","v":""}]
["Line 2",null,null,null,{"$f":"IF('Payroll Form'!K78=\"\",\"\",'Payroll Form'!K78)","v":""},{"$f":"IF('Payroll Form'!I78=\"\",\"\",'Payroll Form'!I78)","v":""},{"$f":"IF('Payroll Form'!J78=\"\",\"\",'Payroll Form'!J78)","v":""},null,null,{"$f":"IF('Payroll Form'!H78=\"\",\"\",'Payroll Form'!H78)","v":""}]
["Line 3"]
["Line 4"]
["Line 5"]
["Line 6"]
["Subtotal 63",null,null,null,null,null,null,null,null,{"$f":"SUM(J441:J446)","v":0}]
["Line 1",{"$f":"IF('Payroll Form'!E79=\"\",\"\",'Payroll Form'!E79)","v":""},{"$f":"IF('Payroll Form'!F79=\"\",\"\",'Payroll Form'!F79)","v":""},{"$f":"IF('Payroll Form'!G79=\"\",\"\",'Payroll Form'!G79)","v":""},{"$f":"IF('Payroll Form'!D79=\"\",\"\",'Payroll Form'!D79)","v":""},{"$f":"IF('Payroll Form'!B79=\"\",\"\",'Payroll Form'!B79)","v":""},{"$f":"IF('Payroll Form'!C79=\"\",\"\",'Payroll Form'!C79)","v":""},null,null,{"$f":"IF('Payroll Form'!H79=\"\",\"\",-'Payroll Form'!H79)","v":""}]
["Line 2",null,null,null,{"$f":"IF('Payroll Form'!K79=\"\",\"\",'Payroll Form'!K79)","v":""},{"$f":"IF('Payroll Form'!I79=\"\",\"\",'Payroll Form'!I79)","v":""},{"$f":"IF('Payroll Form'!J79=\"\",\"\",'Payroll Form'!J79)","v":""},null,null,{"$f":"IF('Payroll Form'!H79=\"\",\"\",'Payroll Form'!H79)","v":""}]
["Line 3"]
["Line 4"]
["Line 5"]
["Line 6"]
["Subtotal 64",null,null,null,null,null,null,null,null,{"$f":"SUM(J448:J453)","v":0}]
["Line 1",{"$f":"IF('Payroll Form'!E80=\"\",\"\",'Payroll Form'!E80)","v":""},{"$f":"IF('Payroll Form'!F80=\"\",\"\",'Payroll Form'!F80)","v":""},{"$f":"IF('Payroll Form'!G80=\"\",\"\",'Payroll Form'!G80)","v":""},{"$f":"IF('Payroll Form'!D80=\"\",\"\",'Payroll Form'!D80)","v":""},{"$f":"IF('Payroll Form'!B80=\"\",\"\",'Payroll Form'!B80)","v":""},{"$f":"IF('Payroll Form'!C80=\"\",\"\",'Payroll Form'!C80)","v":""},null,null,{"$f":"IF('Payroll Form'!H80=\"\",\"\",-'Payroll Form'!H80)","v":""}]
["Line 2",null,null,null,{"$f":"IF('Payroll Form'!K80=\"\",\"\",'Payroll Form'!K80)","v":""},{"$f":"IF('Payroll Form'!I80=\"\",\"\",'Payroll Form'!I80)","v":""},{"$f":"IF('Payroll Form'!J80=\"\",\"\",'Payroll Form'!J80)","v":""},null,null,{"$f":"IF('Payroll Form'!H80=\"\",\"\",'Payroll Form'!H80)","v":""}]
["Line 3"]
["Line 4"]
["Line 5"]
["Line 6"]
["Subtotal 65",null,null,null,null,null,null,null,null,{"$f":"SUM(J455:J460)","v":0}]
["Line 1",{"$f":"IF('Payroll Form'!E81=\"\",\"\",'Payroll Form'!E81)","v":""},{"$f":"IF('Payroll Form'!F81=\"\",\"\",'Payroll Form'!F81)","v":""},{"$f":"IF('Payroll Form'!G81=\"\",\"\",'Payroll Form'!G81)","v":""},{"$f":"IF('Payroll Form'!D81=\"\",\"\",'Payroll Form'!D81)","v":""},{"$f":"IF('Payroll Form'!B81=\"\",\"\",'Payroll Form'!B81)","v":""},{"$f":"IF('Payroll Form'!C81=\"\",\"\",'Payroll Form'!C81)","v":""},null,null,{"$f":"IF('Payroll Form'!H81=\"\",\"\",-'Payroll Form'!H81)","v":""}]
["Line 2",null,null,null,{"$f":"IF('Payroll Form'!K81=\"\",\"\",'Payroll Form'!K81)","v":""},{"$f":"IF('Payroll Form'!I81=\"\",\"\",'Payroll Form'!I81)","v":""},{"$f":"IF('Payroll Form'!J81=\"\",\"\",'Payroll Form'!J81)","v":""},null,null,{"$f":"IF('Payroll Form'!H81=\"\",\"\",'Payroll Form'!H81)","v":""}]
["Line 3"]
["Line 4"]
["Line 5"]
["Line 6"]
["Subtotal 66",null,null,null,null,null,null,null,null,{"$f":"SUM(J462:J467)","v":0}]
["Line 1",{"$f":"IF('Payroll Form'!E82=\"\",\"\",'Payroll Form'!E82)","v":""},{"$f":"IF('Payroll Form'!F82=\"\",\"\",'Payroll Form'!F82)","v":""},{"$f":"IF('Payroll Form'!G82=\"\",\"\",'Payroll Form'!G82)","v":""},{"$f":"IF('Payroll Form'!D82=\"\",\"\",'Payroll Form'!D82)","v":""},{"$f":"IF('Payroll Form'!B82=\"\",\"\",'Payroll Form'!B82)","v":""},{"$f":"IF('Payroll Form'!C82=\"\",\"\",'Payroll Form'!C82)","v":""},null,null,{"$f":"IF('Payroll Form'!H82=\"\",\"\",-'Payroll Form'!H82)","v":""}]
["Line 2",null,null,null,{"$f":"IF('Payroll Form'!K82=\"\",\"\",'Payroll Form'!K82)","v":""},{"$f":"IF('Payroll Form'!I82=\"\",\"\",'Payroll Form'!I82)","v":""},{"$f":"IF('Payroll Form'!J82=\"\",\"\",'Payroll Form'!J82)","v":""},null,null,{"$f":"IF('Payroll Form'!H82=\"\",\"\",'Payroll Form'!H82)","v":""}]
["Line 3"]
["Line 4"]
["Line 5"]
["Line 6"]
["Subtotal 67",null,null,null,null,null,null,null,null,{"$f":"SUM(J469:J474)","v":0}]
["Line 1",{"$f":"IF('Payroll Form'!E83=\"\",\"\",'Payroll Form'!E83)","v":""},{"$f":"IF('Payroll Form'!F83=\"\",\"\",'Payroll Form'!F83)","v":""},{"$f":"IF('Payroll Form'!G83=\"\",\"\",'Payroll Form'!G83)","v":""},{"$f":"IF('Payroll Form'!D83=\"\",\"\",'Payroll Form'!D83)","v":""},{"$f":"IF('Payroll Form'!B83=\"\",\"\",'Payroll Form'!B83)","v":""},{"$f":"IF('Payroll Form'!C83=\"\",\"\",'Payroll Form'!C83)","v":""},null,null,{"$f":"IF('Payroll Form'!H83=\"\",\"\",-'Payroll Form'!H83)","v":""}]
["Line 2",null,null,null,{"$f":"IF('Payroll Form'!K83=\"\",\"\",'Payroll Form'!K83)","v":""},{"$f":"IF('Payroll Form'!I83=\"\",\"\",'Payroll Form'!I83)","v":""},{"$f":"IF('Payroll Form'!J83=\"\",\"\",'Payroll Form'!J83)","v":""},null,null,{"$f":"IF('Payroll Form'!H83=\"\",\"\",'Payroll Form'!H83)","v":""}]
["Line 3"]
["Line 4"]
["Line 5"]
["Line 6"]
["Subtotal 68",null,null,null,null,null,null,null,null,{"$f":"SUM(J476:J481)","v":0}]
["Line 1",{"$f":"IF('Payroll Form'!E84=\"\",\"\",'Payroll Form'!E84)","v":""},{"$f":"IF('Payroll Form'!F84=\"\",\"\",'Payroll Form'!F84)","v":""},{"$f":"IF('Payroll Form'!G84=\"\",\"\",'Payroll Form'!G84)","v":""},{"$f":"IF('Payroll Form'!D84=\"\",\"\",'Payroll Form'!D84)","v":""},{"$f":"IF('Payroll Form'!B84=\"\",\"\",'Payroll Form'!B84)","v":""},{"$f":"IF('Payroll Form'!C84=\"\",\"\",'Payroll Form'!C84)","v":""},null,null,{"$f":"IF('Payroll Form'!H84=\"\",\"\",-'Payroll Form'!H84)","v":""}]
["Line 2",null,null,null,{"$f":"IF('Payroll Form'!K84=\"\",\"\",'Payroll Form'!K84)","v":""},{"$f":"IF('Payroll Form'!I84=\"\",\"\",'Payroll Form'!I84)","v":""},{"$f":"IF('Payroll Form'!J84=\"\",\"\",'Payroll Form'!J84)","v":""},null,null,{"$f":"IF('Payroll Form'!H84=\"\",\"\",'Payroll Form'!H84)","v":""}]
["Line 3"]
["Line 4"]
["Line 5"]
["Line 6"]
["Subtotal 69",null,null,null,null,null,null,null,null,{"$f":"SUM(J483:J488)","v":0}]
["Line 1",{"$f":"IF('Payroll Form'!E85=\"\",\"\",'Payroll Form'!E85)","v":""},{"$f":"IF('Payroll Form'!F85=\"\",\"\",'Payroll Form'!F85)","v":""},{"$f":"IF('Payroll Form'!G85=\"\",\"\",'Payroll Form'!G85)","v":""},{"$f":"IF('Payroll Form'!D85=\"\",\"\",'Payroll Form'!D85)","v":""},{"$f":"IF('Payroll Form'!B85=\"\",\"\",'Payroll Form'!B85)","v":""},{"$f":"IF('Payroll Form'!C85=\"\",\"\",'Payroll Form'!C85)","v":""},null,null,{"$f":"IF('Payroll Form'!H85=\"\",\"\",-'Payroll Form'!H85)","v":""}]
["Line 2",null,null,null,{"$f":"IF('Payroll Form'!K85=\"\",\"\",'Payroll Form'!K85)","v":""},{"$f":"IF('Payroll Form'!I85=\"\",\"\",'Payroll Form'!I85)","v":""},{"$f":"IF('Payroll Form'!J85=\"\",\"\",'Payroll Form'!J85)","v":""},null,null,{"$f":"IF('Payroll Form'!H85=\"\",\"\",'Payroll Form'!H85)","v":""}]
["Line 3"]
["Line 4"]
["Line 5"]
["Line 6"]
["Subtotal 70",null,null,null,null,null,null,null,null,{"$f":"SUM(J490:J495)","v":0}]
["Line 1",{"$f":"IF('Payroll Form'!E86=\"\",\"\",'Payroll Form'!E86)","v":""},{"$f":"IF('Payroll Form'!F86=\"\",\"\",'Payroll Form'!F86)","v":""},{"$f":"IF('Payroll Form'!G86=\"\",\"\",'Payroll Form'!G86)","v":""},{"$f":"IF('Payroll Form'!D86=\"\",\"\",'Payroll Form'!D86)","v":""},{"$f":"IF('Payroll Form'!B86=\"\",\"\",'Payroll Form'!B86)","v":""},{"$f":"IF('Payroll Form'!C86=\"\",\"\",'Payroll Form'!C86)","v":""},null,null,{"$f":"IF('Payroll Form'!H86=\"\",\"\",-'Payroll Form'!H86)","v":""}]
["Line 2",null,null,null,{"$f":"IF('Payroll Form'!K86=\"\",\"\",'Payroll Form'!K86)","v":""},{"$f":"IF('Payroll Form'!I86=\"\",\"\",'Payroll Form'!I86)","v":""},{"$f":"IF('Payroll Form'!J86=\"\",\"\",'Payroll Form'!J86)","v":""},null,null,{"$f":"IF('Payroll Form'!H86=\"\",\"\",'Payroll Form'!H86)","v":""}]
["Line 3"]
["Line 4"]
["Line 5"]
["Line 6"]
["Subtotal 71",null,null,null,null,null,null,null,null,{"$f":"SUM(J497:J502)","v":0}]
["Line 1",{"$f":"IF('Payroll Form'!E87=\"\",\"\",'Payroll Form'!E87)","v":""},{"$f":"IF('Payroll Form'!F87=\"\",\"\",'Payroll Form'!F87)","v":""},{"$f":"IF('Payroll Form'!G87=\"\",\"\",'Payroll Form'!G87)","v":""},{"$f":"IF('Payroll Form'!D87=\"\",\"\",'Payroll Form'!D87)","v":""},{"$f":"IF('Payroll Form'!B87=\"\",\"\",'Payroll Form'!B87)","v":""},{"$f":"IF('Payroll Form'!C87=\"\",\"\",'Payroll Form'!C87)","v":""},null,null,{"$f":"IF('Payroll Form'!H87=\"\",\"\",-'Payroll Form'!H87)","v":""}]
["Line 2",null,null,null,{"$f":"IF('Payroll Form'!K87=\"\",\"\",'Payroll Form'!K87)","v":""},{"$f":"IF('Payroll Form'!I87=\"\",\"\",'Payroll Form'!I87)","v":""},{"$f":"IF('Payroll Form'!J87=\"\",\"\",'Payroll Form'!J87)","v":""},null,null,{"$f":"IF('Payroll Form'!H87=\"\",\"\",'Payroll Form'!H87)","v":""}]
["Line 3"]
["Line 4"]
["Line 5"]
["Line 6"]
["Subtotal 72",null,null,null,null,null,null,null,null,{"$f":"SUM(J504:J509)","v":0}]
["Line 1",{"$f":"IF('Payroll Form'!E88=\"\",\"\",'Payroll Form'!E88)","v":""},{"$f":"IF('Payroll Form'!F88=\"\",\"\",'Payroll Form'!F88)","v":""},{"$f":"IF('Payroll Form'!G88=\"\",\"\",'Payroll Form'!G88)","v":""},{"$f":"IF('Payroll Form'!D88=\"\",\"\",'Payroll Form'!D88)","v":""},{"$f":"IF('Payroll Form'!B88=\"\",\"\",'Payroll Form'!B88)","v":""},{"$f":"IF('Payroll Form'!C88=\"\",\"\",'Payroll Form'!C88)","v":""},null,null,{"$f":"IF('Payroll Form'!H88=\"\",\"\",-'Payroll Form'!H88)","v":""}]
["Line 2",null,null,null,{"$f":"IF('Payroll Form'!K88=\"\",\"\",'Payroll Form'!K88)","v":""},{"$f":"IF('Payroll Form'!I88=\"\",\"\",'Payroll Form'!I88)","v":""},{"$f":"IF('Payroll Form'!J88=\"\",\"\",'Payroll Form'!J88)","v":""},null,null,{"$f":"IF('Payroll Form'!H88=\"\",\"\",'Payroll Form'!H88)","v":""}]
["Line 3"]
["Line 4"]
["Line 5"]
["Line 6"]
["Subtotal 73",null,null,null,null,null,null,null,null,{"$f":"SUM(J511:J516)","v":0}]
["Line 1",{"$f":"IF('Payroll Form'!E89=\"\",\"\",'Payroll Form'!E89)","v":""},{"$f":"IF('Payroll Form'!F89=\"\",\"\",'Payroll Form'!F89)","v":""},{"$f":"IF('Payroll Form'!G89=\"\",\"\",'Payroll Form'!G89)","v":""},{"$f":"IF('Payroll Form'!D89=\"\",\"\",'Payroll Form'!D89)","v":""},{"$f":"IF('Payroll Form'!B89=\"\",\"\",'Payroll Form'!B89)","v":""},{"$f":"IF('Payroll Form'!C89=\"\",\"\",'Payroll Form'!C89)","v":""},null,null,{"$f":"IF('Payroll Form'!H89=\"\",\"\",-'Payroll Form'!H89)","v":""}]
["Line 2",null,null,null,{"$f":"IF('Payroll Form'!K89=\"\",\"\",'Payroll Form'!K89)","v":""},{"$f":"IF('Payroll Form'!I89=\"\",\"\",'Payroll Form'!I89)","v":""},{"$f":"IF('Payroll Form'!J89=\"\",\"\",'Payroll Form'!J89)","v":""},null,null,{"$f":"IF('Payroll Form'!H89=\"\",\"\",'Payroll Form'!H89)","v":""}]
["Line 3"]
["Line 4"]
["Line 5"]
["Line 6"]
["Subtotal 74",null,null,null,null,null,null,null,null,{"$f":"SUM(J518:J523)","v":0}]
["Line 1",{"$f":"IF('Payroll Form'!E90=\"\",\"\",'Payroll Form'!E90)","v":""},{"$f":"IF('Payroll Form'!F90=\"\",\"\",'Payroll Form'!F90)","v":""},{"$f":"IF('Payroll Form'!G90=\"\",\"\",'Payroll Form'!G90)","v":""},{"$f":"IF('Payroll Form'!D90=\"\",\"\",'Payroll Form'!D90)","v":""},{"$f":"IF('Payroll Form'!B90=\"\",\"\",'Payroll Form'!B90)","v":""},{"$f":"IF('Payroll Form'!C90=\"\",\"\",'Payroll Form'!C90)","v":""},null,null,{"$f":"IF('Payroll Form'!H90=\"\",\"\",-'Payroll Form'!H90)","v":""}]
["Line 2",null,null,null,{"$f":"IF('Payroll Form'!K90=\"\",\"\",'Payroll Form'!K90)","v":""},{"$f":"IF('Payroll Form'!I90=\"\",\"\",'Payroll Form'!I90)","v":""},{"$f":"IF('Payroll Form'!J90=\"\",\"\",'Payroll Form'!J90)","v":""},null,null,{"$f":"IF('Payroll Form'!H90=\"\",\"\",'Payroll Form'!H90)","v":""}]
["Line 3"]
["Line 4"]
["Line 5"]
["Line 6"]
["Subtotal 75",null,null,null,null,null,null,null,null,{"$f":"SUM(J525:J530)","v":0}]
["Line 1",{"$f":"IF('Payroll Form'!E91=\"\",\"\",'Payroll Form'!E91)","v":""},{"$f":"IF('Payroll Form'!F91=\"\",\"\",'Payroll Form'!F91)","v":""},{"$f":"IF('Payroll Form'!G91=\"\",\"\",'Payroll Form'!G91)","v":""},{"$f":"IF('Payroll Form'!D91=\"\",\"\",'Payroll Form'!D91)","v":""},{"$f":"IF('Payroll Form'!B91=\"\",\"\",'Payroll Form'!B91)","v":""},{"$f":"IF('Payroll Form'!C91=\"\",\"\",'Payroll Form'!C91)","v":""},null,null,{"$f":"IF('Payroll Form'!H91=\"\",\"\",-'Payroll Form'!H91)","v":""}]
["Line 2",null,null,null,{"$f":"IF('Payroll Form'!K91=\"\",\"\",'Payroll Form'!K91)","v":""},{"$f":"IF('Payroll Form'!I91=\"\",\"\",'Payroll Form'!I91)","v":""},{"$f":"IF('Payroll Form'!J91=\"\",\"\",'Payroll Form'!J91)","v":""},null,null,{"$f":"IF('Payroll Form'!H91=\"\",\"\",'Payroll Form'!H91)","v":""}]
["Line 3"]
["Line 4"]
["Line 5"]
["Line 6"]
["Subtotal 76",null,null,null,null,null,null,null,null,{"$f":"SUM(J532:J537)","v":0}]
["Line 1",{"$f":"IF('Payroll Form'!E92=\"\",\"\",'Payroll Form'!E92)","v":""},{"$f":"IF('Payroll Form'!F92=\"\",\"\",'Payroll Form'!F92)","v":""},{"$f":"IF('Payroll Form'!G92=\"\",\"\",'Payroll Form'!G92)","v":""},{"$f":"IF('Payroll Form'!D92=\"\",\"\",'Payroll Form'!D92)","v":""},{"$f":"IF('Payroll Form'!B92=\"\",\"\",'Payroll Form'!B92)","v":""},{"$f":"IF('Payroll Form'!C92=\"\",\"\",'Payroll Form'!C92)","v":""},null,null,{"$f":"IF('Payroll Form'!H92=\"\",\"\",-'Payroll Form'!H92)","v":""}]
["Line 2",null,null,null,{"$f":"IF('Payroll Form'!K92=\"\",\"\",'Payroll Form'!K92)","v":""},{"$f":"IF('Payroll Form'!I92=\"\",\"\",'Payroll Form'!I92)","v":""},{"$f":"IF('Payroll Form'!J92=\"\",\"\",'Payroll Form'!J92)","v":""},null,null,{"$f":"IF('Payroll Form'!H92=\"\",\"\",'Payroll Form'!H92)","v":""}]
["Line 3"]
["Line 4"]
["Line 5"]
["Line 6"]
["Subtotal 77",null,null,null,null,null,null,null,null,{"$f":"SUM(J539:J544)","v":0}]
["Line 1",{"$f":"IF('Payroll Form'!E93=\"\",\"\",'Payroll Form'!E93)","v":""},{"$f":"IF('Payroll Form'!F93=\"\",\"\",'Payroll Form'!F93)","v":""},{"$f":"IF('Payroll Form'!G93=\"\",\"\",'Payroll Form'!G93)","v":""},{"$f":"IF('Payroll Form'!D93=\"\",\"\",'Payroll Form'!D93)","v":""},{"$f":"IF('Payroll Form'!B93=\"\",\"\",'Payroll Form'!B93)","v":""},{"$f":"IF('Payroll Form'!C93=\"\",\"\",'Payroll Form'!C93)","v":""},null,null,{"$f":"IF('Payroll Form'!H93=\"\",\"\",-'Payroll Form'!H93)","v":""}]
["Line 2",null,null,null,{"$f":"IF('Payroll Form'!K93=\"\",\"\",'Payroll Form'!K93)","v":""},{"$f":"IF('Payroll Form'!I93=\"\",\"\",'Payroll Form'!I93)","v":""},{"$f":"IF('Payroll Form'!J93=\"\",\"\",'Payroll Form'!J93)","v":""},null,null,{"$f":"IF('Payroll Form'!H93=\"\",\"\",'Payroll Form'!H93)","v":""}]
["Line 3"]
["Line 4"]
["Line 5"]
["Line 6"]
["Subtotal 78",null,null,null,null,null,null,null,null,{"$f":"SUM(J546:J551)","v":0}]
["Line 1",{"$f":"IF('Payroll Form'!E94=\"\",\"\",'Payroll Form'!E94)","v":""},{"$f":"IF('Payroll Form'!F94=\"\",\"\",'Payroll Form'!F94)","v":""},{"$f":"IF('Payroll Form'!G94=\"\",\"\",'Payroll Form'!G94)","v":""},{"$f":"IF('Payroll Form'!D94=\"\",\"\",'Payroll Form'!D94)","v":""},{"$f":"IF('Payroll Form'!B94=\"\",\"\",'Payroll Form'!B94)","v":""},{"$f":"IF('Payroll Form'!C94=\"\",\"\",'Payroll Form'!C94)","v":""},null,null,{"$f":"IF('Payroll Form'!H94=\"\",\"\",-'Payroll Form'!H94)","v":""}]
["Line 2",null,null,null,{"$f":"IF('Payroll Form'!K94=\"\",\"\",'Payroll Form'!K94)","v":""},{"$f":"IF('Payroll Form'!I94=\"\",\"\",'Payroll Form'!I94)","v":""},{"$f":"IF('Payroll Form'!J94=\"\",\"\",'Payroll Form'!J94)","v":""},null,null,{"$f":"IF('Payroll Form'!H94=\"\",\"\",'Payroll Form'!H94)","v":""}]
["Line 3"]
["Line 4"]
["Line 5"]
["Line 6"]
["Subtotal 79",null,null,null,null,null,null,null,null,{"$f":"SUM(J553:J558)","v":0}]
["Line 1",{"$f":"IF('Payroll Form'!E95=\"\",\"\",'Payroll Form'!E95)","v":""},{"$f":"IF('Payroll Form'!F95=\"\",\"\",'Payroll Form'!F95)","v":""},{"$f":"IF('Payroll Form'!G95=\"\",\"\",'Payroll Form'!G95)","v":""},{"$f":"IF('Payroll Form'!D95=\"\",\"\",'Payroll Form'!D95)","v":""},{"$f":"IF('Payroll Form'!B95=\"\",\"\",'Payroll Form'!B95)","v":""},{"$f":"IF('Payroll Form'!C95=\"\",\"\",'Payroll Form'!C95)","v":""},null,null,{"$f":"IF('Payroll Form'!H95=\"\",\"\",-'Payroll Form'!H95)","v":""}]
["Line 2",null,null,null,{"$f":"IF('Payroll Form'!K95=\"\",\"\",'Payroll Form'!K95)","v":""},{"$f":"IF('Payroll Form'!I95=\"\",\"\",'Payroll Form'!I95)","v":""},{"$f":"IF('Payroll Form'!J95=\"\",\"\",'Payroll Form'!J95)","v":""},null,null,{"$f":"IF('Payroll Form'!H95=\"\",\"\",'Payroll Form'!H95)","v":""}]
["Line 3"]
["Line 4"]
["Line 5"]
["Line 6"]
["Subtotal 80",null,null,null,null,null,null,null,null,{"$f":"SUM(J560:J565)","v":0}]
["Line 1",{"$f":"IF('Payroll Form'!E96=\"\",\"\",'Payroll Form'!E96)","v":""},{"$f":"IF('Payroll Form'!F96=\"\",\"\",'Payroll Form'!F96)","v":""},{"$f":"IF('Payroll Form'!G96=\"\",\"\",'Payroll Form'!G96)","v":""},{"$f":"IF('Payroll Form'!D96=\"\",\"\",'Payroll Form'!D96)","v":""},{"$f":"IF('Payroll Form'!B96=\"\",\"\",'Payroll Form'!B96)","v":""},{"$f":"IF('Payroll Form'!C96=\"\",\"\",'Payroll Form'!C96)","v":""},null,null,{"$f":"IF('Payroll Form'!H96=\"\",\"\",-'Payroll Form'!H96)","v":""}]
["Line 2",null,null,null,{"$f":"IF('Payroll Form'!K96=\"\",\"\",'Payroll Form'!K96)","v":""},{"$f":"IF('Payroll Form'!I96=\"\",\"\",'Payroll Form'!I96)","v":""},{"$f":"IF('Payroll Form'!J96=\"\",\"\",'Payroll Form'!J96)","v":""},null,null,{"$f":"IF('Payroll Form'!H96=\"\",\"\",'Payroll Form'!H96)","v":""}]
["Line 3"]
["Line 4"]
["Line 5"]
["Line 6"]
["Subtotal 81",null,null,null,null,null,null,null,null,{"$f":"SUM(J567:J572)","v":0}]
["Line 1",{"$f":"IF('Payroll Form'!E97=\"\",\"\",'Payroll Form'!E97)","v":""},{"$f":"IF('Payroll Form'!F97=\"\",\"\",'Payroll Form'!F97)","v":""},{"$f":"IF('Payroll Form'!G97=\"\",\"\",'Payroll Form'!G97)","v":""},{"$f":"IF('Payroll Form'!D97=\"\",\"\",'Payroll Form'!D97)","v":""},{"$f":"IF('Payroll Form'!B97=\"\",\"\",'Payroll Form'!B97)","v":""},{"$f":"IF('Payroll Form'!C97=\"\",\"\",'Payroll Form'!C97)","v":""},null,null,{"$f":"IF('Payroll Form'!H97=\"\",\"\",-'Payroll Form'!H97)","v":""}]
["Line 2",null,null,null,{"$f":"IF('Payroll Form'!K97=\"\",\"\",'Payroll Form'!K97)","v":""},{"$f":"IF('Payroll Form'!I97=\"\",\"\",'Payroll Form'!I97)","v":""},{"$f":"IF('Payroll Form'!J97=\"\",\"\",'Payroll Form'!J97)","v":""},null,null,{"$f":"IF('Payroll Form'!H97=\"\",\"\",'Payroll Form'!H97)","v":""}]
["Line 3"]
["Line 4"]
["Line 5"]
["Line 6"]
["Subtotal 82",null,null,null,null,null,null,null,null,{"$f":"SUM(J574:J579)","v":0}]
["Line 1",{"$f":"IF('Payroll Form'!E98=\"\",\"\",'Payroll Form'!E98)","v":""},{"$f":"IF('Payroll Form'!F98=\"\",\"\",'Payroll Form'!F98)","v":""},{"$f":"IF('Payroll Form'!G98=\"\",\"\",'Payroll Form'!G98)","v":""},{"$f":"IF('Payroll Form'!D98=\"\",\"\",'Payroll Form'!D98)","v":""},{"$f":"IF('Payroll Form'!B98=\"\",\"\",'Payroll Form'!B98)","v":""},{"$f":"IF('Payroll Form'!C98=\"\",\"\",'Payroll Form'!C98)","v":""},null,null,{"$f":"IF('Payroll Form'!H98=\"\",\"\",-'Payroll Form'!H98)","v":""}]
["Line 2",null,null,null,{"$f":"IF('Payroll Form'!K98=\"\",\"\",'Payroll Form'!K98)","v":""},{"$f":"IF('Payroll Form'!I98=\"\",\"\",'Payroll Form'!I98)","v":""},{"$f":"IF('Payroll Form'!J98=\"\",\"\",'Payroll Form'!J98)","v":""},null,null,{"$f":"IF('Payroll Form'!H98=\"\",\"\",'Payroll Form'!H98)","v":""}]
["Line 3"]
["Line 4"]
["Line 5"]
["Line 6"]
["Subtotal 83",null,null,null,null,null,null,null,null,{"$f":"SUM(J581:J586)","v":0}]
["Line 1",{"$f":"IF('Payroll Form'!E99=\"\",\"\",'Payroll Form'!E99)","v":""},{"$f":"IF('Payroll Form'!F99=\"\",\"\",'Payroll Form'!F99)","v":""},{"$f":"IF('Payroll Form'!G99=\"\",\"\",'Payroll Form'!G99)","v":""},{"$f":"IF('Payroll Form'!D99=\"\",\"\",'Payroll Form'!D99)","v":""},{"$f":"IF('Payroll Form'!B99=\"\",\"\",'Payroll Form'!B99)","v":""},{"$f":"IF('Payroll Form'!C99=\"\",\"\",'Payroll Form'!C99)","v":""},null,null,{"$f":"IF('Payroll Form'!H99=\"\",\"\",-'Payroll Form'!H99)","v":""}]
["Line 2",null,null,null,{"$f":"IF('Payroll Form'!K99=\"\",\"\",'Payroll Form'!K99)","v":""},{"$f":"IF('Payroll Form'!I99=\"\",\"\",'Payroll Form'!I99)","v":""},{"$f":"IF('Payroll Form'!J99=\"\",\"\",'Payroll Form'!J99)","v":""},null,null,{"$f":"IF('Payroll Form'!H99=\"\",\"\",'Payroll Form'!H99)","v":""}]
["Line 3"]
["Line 4"]
["Line 5"]
["Line 6"]
["Subtotal 84",null,null,null,null,null,null,null,null,{"$f":"SUM(J588:J593)","v":0}]
["Line 1",{"$f":"IF('Payroll Form'!E100=\"\",\"\",'Payroll Form'!E100)","v":""},{"$f":"IF('Payroll Form'!F100=\"\",\"\",'Payroll Form'!F100)","v":""},{"$f":"IF('Payroll Form'!G100=\"\",\"\",'Payroll Form'!G100)","v":""},{"$f":"IF('Payroll Form'!D100=\"\",\"\",'Payroll Form'!D100)","v":""},{"$f":"IF('Payroll Form'!B100=\"\",\"\",'Payroll Form'!B100)","v":""},{"$f":"IF('Payroll Form'!C100=\"\",\"\",'Payroll Form'!C100)","v":""},null,null,{"$f":"IF('Payroll Form'!H100=\"\",\"\",-'Payroll Form'!H100)","v":""}]
["Line 2",null,null,null,{"$f":"IF('Payroll Form'!K100=\"\",\"\",'Payroll Form'!K100)","v":""},{"$f":"IF('Payroll Form'!I100=\"\",\"\",'Payroll Form'!I100)","v":""},{"$f":"IF('Payroll Form'!J100=\"\",\"\",'Payroll Form'!J100)","v":""},null,null,{"$f":"IF('Payroll Form'!H100=\"\",\"\",'Payroll Form'!H100)","v":""}]
["Line 3"]
["Line 4"]
["Line 5"]
["Line 6"]
["Subtotal 85",null,null,null,null,null,null,null,null,{"$f":"SUM(J595:J600)","v":0}]
["Line 1",{"$f":"IF('Payroll Form'!E101=\"\",\"\",'Payroll Form'!E101)","v":""},{"$f":"IF('Payroll Form'!F101=\"\",\"\",'Payroll Form'!F101)","v":""},{"$f":"IF('Payroll Form'!G101=\"\",\"\",'Payroll Form'!G101)","v":""},{"$f":"IF('Payroll Form'!D101=\"\",\"\",'Payroll Form'!D101)","v":""},{"$f":"IF('Payroll Form'!B101=\"\",\"\",'Payroll Form'!B101)","v":""},{"$f":"IF('Payroll Form'!C101=\"\",\"\",'Payroll Form'!C101)","v":""},null,null,{"$f":"IF('Payroll Form'!H101=\"\",\"\",-'Payroll Form'!H101)","v":""}]
["Line 2",null,null,null,{"$f":"IF('Payroll Form'!K101=\"\",\"\",'Payroll Form'!K101)","v":""},{"$f":"IF('Payroll Form'!I101=\"\",\"\",'Payroll Form'!I101)","v":""},{"$f":"IF('Payroll Form'!J101=\"\",\"\",'Payroll Form'!J101)","v":""},null,null,{"$f":"IF('Payroll Form'!H101=\"\",\"\",'Payroll Form'!H101)","v":""}]
["Line 3"]
["Line 4"]
["Line 5"]
["Line 6"]
["Subtotal 86",null,null,null,null,null,null,null,null,{"$f":"SUM(J602:J607)","v":0}]
["Line 1",{"$f":"IF('Payroll Form'!E102=\"\",\"\",'Payroll Form'!E102)","v":""},{"$f":"IF('Payroll Form'!F102=\"\",\"\",'Payroll Form'!F102)","v":""},{"$f":"IF('Payroll Form'!G102=\"\",\"\",'Payroll Form'!G102)","v":""},{"$f":"IF('Payroll Form'!D102=\"\",\"\",'Payroll Form'!D102)","v":""},{"$f":"IF('Payroll Form'!B102=\"\",\"\",'Payroll Form'!B102)","v":""},{"$f":"IF('Payroll Form'!C102=\"\",\"\",'Payroll Form'!C102)","v":""},null,null,{"$f":"IF('Payroll Form'!H102=\"\",\"\",-'Payroll Form'!H102)","v":""}]
["Line 2",null,null,null,{"$f":"IF('Payroll Form'!K102=\"\",\"\",'Payroll Form'!K102)","v":""},{"$f":"IF('Payroll Form'!I102=\"\",\"\",'Payroll Form'!I102)","v":""},{"$f":"IF('Payroll Form'!J102=\"\",\"\",'Payroll Form'!J102)","v":""},null,null,{"$f":"IF('Payroll Form'!H102=\"\",\"\",'Payroll Form'!H102)","v":""}]
["Line 3"]
["Line 4"]
["Line 5"]
["Line 6"]
["Subtotal 87",null,null,null,null,null,null,null,null,{"$f":"SUM(J609:J614)","v":0}]
["Line 1",{"$f":"IF('Payroll Form'!E103=\"\",\"\",'Payroll Form'!E103)","v":""},{"$f":"IF('Payroll Form'!F103=\"\",\"\",'Payroll Form'!F103)","v":""},{"$f":"IF('Payroll Form'!G103=\"\",\"\",'Payroll Form'!G103)","v":""},{"$f":"IF('Payroll Form'!D103=\"\",\"\",'Payroll Form'!D103)","v":""},{"$f":"IF('Payroll Form'!B103=\"\",\"\",'Payroll Form'!B103)","v":""},{"$f":"IF('Payroll Form'!C103=\"\",\"\",'Payroll Form'!C103)","v":""},null,null,{"$f":"IF('Payroll Form'!H103=\"\",\"\",-'Payroll Form'!H103)","v":""}]
["Line 2",null,null,null,{"$f":"IF('Payroll Form'!K103=\"\",\"\",'Payroll Form'!K103)","v":""},{"$f":"IF('Payroll Form'!I103=\"\",\"\",'Payroll Form'!I103)","v":""},{"$f":"IF('Payroll Form'!J103=\"\",\"\",'Payroll Form'!J103)","v":""},null,null,{"$f":"IF('Payroll Form'!H103=\"\",\"\",'Payroll Form'!H103)","v":""}]
["Line 3"]
["Line 4"]
["Line 5"]
["Line 6"]
["Subtotal 88",null,null,null,null,null,null,null,null,{"$f":"SUM(J616:J621)","v":0}]
["Line 1",{"$f":"IF('Payroll Form'!E104=\"\",\"\",'Payroll Form'!E104)","v":""},{"$f":"IF('Payroll Form'!F104=\"\",\"\",'Payroll Form'!F104)","v":""},{"$f":"IF('Payroll Form'!G104=\"\",\"\",'Payroll Form'!G104)","v":""},{"$f":"IF('Payroll Form'!D104=\"\",\"\",'Payroll Form'!D104)","v":""},{"$f":"IF('Payroll Form'!B104=\"\",\"\",'Payroll Form'!B104)","v":""},{"$f":"IF('Payroll Form'!C104=\"\",\"\",'Payroll Form'!C104)","v":""},null,null,{"$f":"IF('Payroll Form'!H104=\"\",\"\",-'Payroll Form'!H104)","v":""}]
["Line 2",null,null,null,{"$f":"IF('Payroll Form'!K104=\"\",\"\",'Payroll Form'!K104)","v":""},{"$f":"IF('Payroll Form'!I104=\"\",\"\",'Payroll Form'!I104)","v":""},{"$f":"IF('Payroll Form'!J104=\"\",\"\",'Payroll Form'!J104)","v":""},null,null,{"$f":"IF('Payroll Form'!H104=\"\",\"\",'Payroll Form'!H104)","v":""}]
["Line 3"]
["Line 4"]
["Line 5"]
["Line 6"]
["Subtotal 89",null,null,null,null,null,null,null,null,{"$f":"SUM(J623:J628)","v":0}]
["Line 1",{"$f":"IF('Payroll Form'!E105=\"\",\"\",'Payroll Form'!E105)","v":""},{"$f":"IF('Payroll Form'!F105=\"\",\"\",'Payroll Form'!F105)","v":""},{"$f":"IF('Payroll Form'!G105=\"\",\"\",'Payroll Form'!G105)","v":""},{"$f":"IF('Payroll Form'!D105=\"\",\"\",'Payroll Form'!D105)","v":""},{"$f":"IF('Payroll Form'!B105=\"\",\"\",'Payroll Form'!B105)","v":""},{"$f":"IF('Payroll Form'!C105=\"\",\"\",'Payroll Form'!C105)","v":""},null,null,{"$f":"IF('Payroll Form'!H105=\"\",\"\",-'Payroll Form'!H105)","v":""}]
["Line 2",null,null,null,{"$f":"IF('Payroll Form'!K105=\"\",\"\",'Payroll Form'!K105)","v":""},{"$f":"IF('Payroll Form'!I105=\"\",\"\",'Payroll Form'!I105)","v":""},{"$f":"IF('Payroll Form'!J105=\"\",\"\",'Payroll Form'!J105)","v":""},null,null,{"$f":"IF('Payroll Form'!H105=\"\",\"\",'Payroll Form'!H105)","v":""}]
["Line 3"]
["Line 4"]
["Line 5"]
["Line 6"]
["Subtotal 90",null,null,null,null,null,null,null,null,{"$f":"SUM(J630:J635)","v":0}]
["Line 1",{"$f":"IF('Payroll Form'!E106=\"\",\"\",'Payroll Form'!E106)","v":""},{"$f":"IF('Payroll Form'!F106=\"\",\"\",'Payroll Form'!F106)","v":""},{"$f":"IF('Payroll Form'!G106=\"\",\"\",'Payroll Form'!G106)","v":""},{"$f":"IF('Payroll Form'!D106=\"\",\"\",'Payroll Form'!D106)","v":""},{"$f":"IF('Payroll Form'!B106=\"\",\"\",'Payroll Form'!B106)","v":""},{"$f":"IF('Payroll Form'!C106=\"\",\"\",'Payroll Form'!C106)","v":""},null,null,{"$f":"IF('Payroll Form'!H106=\"\",\"\",-'Payroll Form'!H106)","v":""}]
["Line 2",null,null,null,{"$f":"IF('Payroll Form'!K106=\"\",\"\",'Payroll Form'!K106)","v":""},{"$f":"IF('Payroll Form'!I106=\"\",\"\",'Payroll Form'!I106)","v":""},{"$f":"IF('Payroll Form'!J106=\"\",\"\",'Payroll Form'!J106)","v":""},null,null,{"$f":"IF('Payroll Form'!H106=\"\",\"\",'Payroll Form'!H106)","v":""}]
["Line 3"]
["Line 4"]
["Line 5"]
["Line 6"]
["Subtotal 91",null,null,null,null,null,null,null,null,{"$f":"SUM(J637:J642)","v":0}]
["Line 1",{"$f":"IF('Payroll Form'!E107=\"\",\"\",'Payroll Form'!E107)","v":""},{"$f":"IF('Payroll Form'!F107=\"\",\"\",'Payroll Form'!F107)","v":""},{"$f":"IF('Payroll Form'!G107=\"\",\"\",'Payroll Form'!G107)","v":""},{"$f":"IF('Payroll Form'!D107=\"\",\"\",'Payroll Form'!D107)","v":""},{"$f":"IF('Payroll Form'!B107=\"\",\"\",'Payroll Form'!B107)","v":""},{"$f":"IF('Payroll Form'!C107=\"\",\"\",'Payroll Form'!C107)","v":""},null,null,{"$f":"IF('Payroll Form'!H107=\"\",\"\",-'Payroll Form'!H107)","v":""}]
["Line 2",null,null,null,{"$f":"IF('Payroll Form'!K107=\"\",\"\",'Payroll Form'!K107)","v":""},{"$f":"IF('Payroll Form'!I107=\"\",\"\",'Payroll Form'!I107)","v":""},{"$f":"IF('Payroll Form'!J107=\"\",\"\",'Payroll Form'!J107)","v":""},null,null,{"$f":"IF('Payroll Form'!H107=\"\",\"\",'Payroll Form'!H107)","v":""}]
["Line 3"]
["Line 4"]
["Line 5"]
["Line 6"]
["Subtotal 92",null,null,null,null,null,null,null,null,{"$f":"SUM(J644:J649)","v":0}]
["Line 1",{"$f":"IF('Payroll Form'!E108=\"\",\"\",'Payroll Form'!E108)","v":""},{"$f":"IF('Payroll Form'!F108=\"\",\"\",'Payroll Form'!F108)","v":""},{"$f":"IF('Payroll Form'!G108=\"\",\"\",'Payroll Form'!G108)","v":""},{"$f":"IF('Payroll Form'!D108=\"\",\"\",'Payroll Form'!D108)","v":""},{"$f":"IF('Payroll Form'!B108=\"\",\"\",'Payroll Form'!B108)","v":""},{"$f":"IF('Payroll Form'!C108=\"\",\"\",'Payroll Form'!C108)","v":""},null,null,{"$f":"IF('Payroll Form'!H108=\"\",\"\",-'Payroll Form'!H108)","v":""}]
["Line 2",null,null,null,{"$f":"IF('Payroll Form'!K108=\"\",\"\",'Payroll Form'!K108)","v":""},{"$f":"IF('Payroll Form'!I108=\"\",\"\",'Payroll Form'!I108)","v":""},{"$f":"IF('Payroll Form'!J108=\"\",\"\",'Payroll Form'!J108)","v":""},null,null,{"$f":"IF('Payroll Form'!H108=\"\",\"\",'Payroll Form'!H108)","v":""}]
["Line 3"]
["Line 4"]
["Line 5"]
["Line 6"]
["Subtotal 93",null,null,null,null,null,null,null,null,{"$f":"SUM(J651:J656)","v":0}]
["Line 1",{"$f":"IF('Payroll Form'!E109=\"\",\"\",'Payroll Form'!E109)","v":""},{"$f":"IF('Payroll Form'!F109=\"\",\"\",'Payroll Form'!F109)","v":""},{"$f":"IF('Payroll Form'!G109=\"\",\"\",'Payroll Form'!G109)","v":""},{"$f":"IF('Payroll Form'!D109=\"\",\"\",'Payroll Form'!D109)","v":""},{"$f":"IF('Payroll Form'!B109=\"\",\"\",'Payroll Form'!B109)","v":""},{"$f":"IF('Payroll Form'!C109=\"\",\"\",'Payroll Form'!C109)","v":""},null,null,{"$f":"IF('Payroll Form'!H109=\"\",\"\",-'Payroll Form'!H109)","v":""}]
["Line 2",null,null,null,{"$f":"IF('Payroll Form'!K109=\"\",\"\",'Payroll Form'!K109)","v":""},{"$f":"IF('Payroll Form'!I109=\"\",\"\",'Payroll Form'!I109)","v":""},{"$f":"IF('Payroll Form'!J109=\"\",\"\",'Payroll Form'!J109)","v":""},null,null,{"$f":"IF('Payroll Form'!H109=\"\",\"\",'Payroll Form'!H109)","v":""}]
["Line 3"]
["Line 4"]
["Line 5"]
["Line 6"]
["Subtotal 94",null,null,null,null,null,null,null,null,{"$f":"SUM(J658:J663)","v":0}]
["Line 1",{"$f":"IF('Payroll Form'!E110=\"\",\"\",'Payroll Form'!E110)","v":""},{"$f":"IF('Payroll Form'!F110=\"\",\"\",'Payroll Form'!F110)","v":""},{"$f":"IF('Payroll Form'!G110=\"\",\"\",'Payroll Form'!G110)","v":""},{"$f":"IF('Payroll Form'!D110=\"\",\"\",'Payroll Form'!D110)","v":""},{"$f":"IF('Payroll Form'!B110=\"\",\"\",'Payroll Form'!B110)","v":""},{"$f":"IF('Payroll Form'!C110=\"\",\"\",'Payroll Form'!C110)","v":""},null,null,{"$f":"IF('Payroll Form'!H110=\"\",\"\",-'Payroll Form'!H110)","v":""}]
["Line 2",null,null,null,{"$f":"IF('Payroll Form'!K110=\"\",\"\",'Payroll Form'!K110)","v":""},{"$f":"IF('Payroll Form'!I110=\"\",\"\",'Payroll Form'!I110)","v":""},{"$f":"IF('Payroll Form'!J110=\"\",\"\",'Payroll Form'!J110)","v":""},null,null,{"$f":"IF('Payroll Form'!H110=\"\",\"\",'Payroll Form'!H110)","v":""}]
["Line 3"]
["Line 4"]
["Line 5"]
["Line 6"]
["Subtotal 95",null,null,null,null,null,null,null,null,{"$f":"SUM(J665:J670)","v":0}]
["Line 1",{"$f":"IF('Payroll Form'!E111=\"\",\"\",'Payroll Form'!E111)","v":""},{"$f":"IF('Payroll Form'!F111=\"\",\"\",'Payroll Form'!F111)","v":""},{"$f":"IF('Payroll Form'!G111=\"\",\"\",'Payroll Form'!G111)","v":""},{"$f":"IF('Payroll Form'!D111=\"\",\"\",'Payroll Form'!D111)","v":""},{"$f":"IF('Payroll Form'!B111=\"\",\"\",'Payroll Form'!B111)","v":""},{"$f":"IF('Payroll Form'!C111=\"\",\"\",'Payroll Form'!C111)","v":""},null,null,{"$f":"IF('Payroll Form'!H111=\"\",\"\",-'Payroll Form'!H111)","v":""}]
["Line 2",null,null,null,{"$f":"IF('Payroll Form'!K111=\"\",\"\",'Payroll Form'!K111)","v":""},{"$f":"IF('Payroll Form'!I111=\"\",\"\",'Payroll Form'!I111)","v":""},{"$f":"IF('Payroll Form'!J111=\"\",\"\",'Payroll Form'!J111)","v":""},null,null,{"$f":"IF('Payroll Form'!H111=\"\",\"\",'Payroll Form'!H111)","v":""}]
["Line 3"]
["Line 4"]
["Line 5"]
["Line 6"]
["Subtotal 96",null,null,null,null,null,null,null,null,{"$f":"SUM(J672:J677)","v":0}]
["Line 1",{"$f":"IF('Payroll Form'!E112=\"\",\"\",'Payroll Form'!E112)","v":""},{"$f":"IF('Payroll Form'!F112=\"\",\"\",'Payroll Form'!F112)","v":""},{"$f":"IF('Payroll Form'!G112=\"\",\"\",'Payroll Form'!G112)","v":""},{"$f":"IF('Payroll Form'!D112=\"\",\"\",'Payroll Form'!D112)","v":""},{"$f":"IF('Payroll Form'!B112=\"\",\"\",'Payroll Form'!B112)","v":""},{"$f":"IF('Payroll Form'!C112=\"\",\"\",'Payroll Form'!C112)","v":""},null,null,{"$f":"IF('Payroll Form'!H112=\"\",\"\",-'Payroll Form'!H112)","v":""}]
["Line 2",null,null,null,{"$f":"IF('Payroll Form'!K112=\"\",\"\",'Payroll Form'!K112)","v":""},{"$f":"IF('Payroll Form'!I112=\"\",\"\",'Payroll Form'!I112)","v":""},{"$f":"IF('Payroll Form'!J112=\"\",\"\",'Payroll Form'!J112)","v":""},null,null,{"$f":"IF('Payroll Form'!H112=\"\",\"\",'Payroll Form'!H112)","v":""}]
["Line 3"]
["Line 4"]
["Line 5"]
["Line 6"]
["Subtotal 97",null,null,null,null,null,null,null,null,{"$f":"SUM(J679:J684)","v":0}]
["Line 1",{"$f":"IF('Payroll Form'!E113=\"\",\"\",'Payroll Form'!E113)","v":""},{"$f":"IF('Payroll Form'!F113=\"\",\"\",'Payroll Form'!F113)","v":""},{"$f":"IF('Payroll Form'!G113=\"\",\"\",'Payroll Form'!G113)","v":""},{"$f":"IF('Payroll Form'!D113=\"\",\"\",'Payroll Form'!D113)","v":""},{"$f":"IF('Payroll Form'!B113=\"\",\"\",'Payroll Form'!B113)","v":""},{"$f":"IF('Payroll Form'!C113=\"\",\"\",'Payroll Form'!C113)","v":""},null,null,{"$f":"IF('Payroll Form'!H113=\"\",\"\",-'Payroll Form'!H113)","v":""}]
["Line 2",null,null,null,{"$f":"IF('Payroll Form'!K113=\"\",\"\",'Payroll Form'!K113)","v":""},{"$f":"IF('Payroll Form'!I113=\"\",\"\",'Payroll Form'!I113)","v":""},{"$f":"IF('Payroll Form'!J113=\"\",\"\",'Payroll Form'!J113)","v":""},null,null,{"$f":"IF('Payroll Form'!H113=\"\",\"\",'Payroll Form'!H113)","v":""}]
["Line 3"]
["Line 4"]
["Line 5"]
["Line 6"]
["Subtotal 98",null,null,null,null,null,null,null,null,{"$f":"SUM(J686:J691)","v":0}]
["Line 1",{"$f":"IF('Payroll Form'!E114=\"\",\"\",'Payroll Form'!E114)","v":""},{"$f":"IF('Payroll Form'!F114=\"\",\"\",'Payroll Form'!F114)","v":""},{"$f":"IF('Payroll Form'!G114=\"\",\"\",'Payroll Form'!G114)","v":""},{"$f":"IF('Payroll Form'!D114=\"\",\"\",'Payroll Form'!D114)","v":""},{"$f":"IF('Payroll Form'!B114=\"\",\"\",'Payroll Form'!B114)","v":""},{"$f":"IF('Payroll Form'!C114=\"\",\"\",'Payroll Form'!C114)","v":""},null,null,{"$f":"IF('Payroll Form'!H114=\"\",\"\",-'Payroll Form'!H114)","v":""}]
["Line 2",null,null,null,{"$f":"IF('Payroll Form'!K114=\"\",\"\",'Payroll Form'!K114)","v":""},{"$f":"IF('Payroll Form'!I114=\"\",\"\",'Payroll Form'!I114)","v":""},{"$f":"IF('Payroll Form'!J114=\"\",\"\",'Payroll Form'!J114)","v":""},null,null,{"$f":"IF('Payroll Form'!H114=\"\",\"\",'Payroll Form'!H114)","v":""}]
["Line 3"]
["Line 4"]
["Line 5"]
["Line 6"]
["Subtotal 99",null,null,null,null,null,null,null,null,{"$f":"SUM(J693:J698)","v":0}]
["Line 1",{"$f":"IF('Payroll Form'!E115=\"\",\"\",'Payroll Form'!E115)","v":""},{"$f":"IF('Payroll Form'!F115=\"\",\"\",'Payroll Form'!F115)","v":""},{"$f":"IF('Payroll Form'!G115=\"\",\"\",'Payroll Form'!G115)","v":""},{"$f":"IF('Payroll Form'!D115=\"\",\"\",'Payroll Form'!D115)","v":""},{"$f":"IF('Payroll Form'!B115=\"\",\"\",'Payroll Form'!B115)","v":""},{"$f":"IF('Payroll Form'!C115=\"\",\"\",'Payroll Form'!C115)","v":""},null,null,{"$f":"IF('Payroll Form'!H115=\"\",\"\",-'Payroll Form'!H115)","v":""}]
["Line 2",null,null,null,{"$f":"IF('Payroll Form'!K115=\"\",\"\",'Payroll Form'!K115)","v":""},{"$f":"IF('Payroll Form'!I115=\"\",\"\",'Payroll Form'!I115)","v":""},{"$f":"IF('Payroll Form'!J115=\"\",\"\",'Payroll Form'!J115)","v":""},null,null,{"$f":"IF('Payroll Form'!H115=\"\",\"\",'Payroll Form'!H115)","v":""}]
["Line 3"]
["Line 4"]
["Line 5"]
["Line 6"]
["Subtotal 100",null,null,null,null,null,null,null,null,{"$f":"SUM(J700:J705)","v":0}]

{"sheet":"Upload","index":2,"n_rows":101,"n_cols":86,"rows_kept":101,"cut":false,"hidden":true,"merged":[]}
["LCC","PYM-COMPANY","PYM-EMPLOYEE","PYM-BANK-CODE","PYM-PER-END-DATE","TRD-PAY-CODE1","TRD-HOURS1","TRD-WAGE-AMOUNT1","TRD-PCT-DIST-FLAG1","TRD-JOB-CODE1","TRD-POSITION1","TRD-DIST-COMPANY1","TRD-DIST-ACCT-UNIT1","TRD-DIST-ACCOUNT1","TRD-ACTIVITY1","TRD-ACCT-CATEGORY1","TRS-SEGMENT-BLOCK1","TRD-PAY-CODE2","TRD-HOURS2","TRD-WAGE-AMOUNT2","TRD-PCT-DIST-FLAG2","TRD-JOB-CODE2","TRD-POSITION2","TRD-DIST-COMPANY2","TRD-DIST-ACCT-UNIT2","TRD-DIST-ACCOUNT2","TRD-ACTIVITY2","TRD-ACCT-CATEGORY2","TRS-SEGMENT-BLOCK2","TRD-PAY-CODE3","TRD-HOURS3","TRD-WAGE-AMOUNT3","TRD-PCT-DIST-FLAG3","TRD-JOB-CODE3","TRD-POSITION3","TRD-DIST-COMPANY3","TRD-DIST-ACCT-UNIT3","TRD-DIST-ACCOUNT3","TRD-ACTIVITY3","TRD-ACCT-CATEGORY3","TRS-SEGMENT-BLOCK3","TRD-PAY-CODE4","TRD-HOURS4","TRD-WAGE-AMOUNT4","TRD-PCT-DIST-FLAG4","TRD-JOB-CODE4","TRD-POSITION4","TRD-DIST-COMPANY4","TRD-DIST-ACCT-UNIT4","TRD-DIST-ACCOUNT4","TRD-ACTIVITY4","TRD-ACCT-CATEGORY4","TRS-SEGMENT-BLOCK4","TRD-PAY-CODE5","TRD-HOURS5","TRD-WAGE-AMOUNT5","TRD-PCT-DIST-FLAG5","TRD-JOB-CODE5","TRD-POSITION5","TRD-DIST-COMPANY5","TRD-DIST-ACCT-UNIT5","TRD-DIST-ACCOUNT5","TRD-ACTIVITY5","TRD-ACCT-CATEGORY5","TRS-SEGMENT-BLOCK5","TRD-PAY-CODE6","TRD-HOURS6","TRD-WAGE-AMOUNT6","TRD-PCT-DIST-FLAG6","TRD-JOB-CODE6","TRD-POSITION6","TRD-DIST-COMPANY6","TRD-DIST-ACCT-UNIT6","TRD-DIST-ACCOUNT6","TRD-ACTIVITY6","TRD-ACCT-CATEGORY6","TRS-SEGMENT-BLOCK6",null,"ADJ #","Check Zero's","GRANTS ADMINISTRATOR","Serial No.",null,null,null,"PPE Date for Upload"]
[{"$f":"IF(C2<>\"\",\"x\",\"\")","v":""},{"$f":"IF(C2<>\"\",9100,\"\")","v":""},{"$f":"IF(INDIRECT(ADDRESS(CD2*7,2,,,\"Entry\"))=\"\",\"\",INDIRECT(ADDRESS(CD2*7,2,,,\"Entry\")))","v":""},{"$f":"IF(H2=\"\",\"\",\"PNC\")","v":""},{"$f":"IF(A2=\"\",\"\",Entry!$J$2)","v":""},{"$f":"IF(H2=\"\",\"\",\"XXX\")","v":""},null,{"$f":"IF(INDIRECT(ADDRESS(CD2*7,10,,,\"Entry\"))=\"\",\"\",ROUND(INDIRECT(ADDRESS(CD2*7,10,,,\"Entry\")),2))","v":""},{"$f":"IF(H2=\"\",\"\",\"N\")","v":""},null,{"$f":"IF(INDIRECT(ADDRESS($CD2*7,5,,,\"Entry\"))=\"\",\"\",INDIRECT(ADDRESS($CD2*7,5,,,\"Entry\")))","v":""},{"$f":"IF(M2=\"\",\"\",IF(M2<99999,\"5900\",\"9100\"))","v":""},{"$f":"IF(INDIRECT(ADDRESS($CD2*7,6,,,\"Entry\"))=\"\",\"\",INDIRECT(ADDRESS($CD2*7,6,,,\"Entry\")))","v":""},{"$f":"IF(INDIRECT(ADDRESS($CD2*7,7,,,\"Entry\"))=\"\",\"\",INDIRECT(ADDRESS($CD2*7,7,,,\"Entry\")))","v":""},null,null,{"$f":"IF(INDIRECT(ADDRESS($CD2*7,4,,,\"Entry\"))=\"\",\"\",INDIRECT(ADDRESS($CD2*7,4,,,\"Entry\")))","v":""},{"$f":"IF(T2=\"\",\"\",\"XXX\")","v":""},null,{"$f":"IF(INDIRECT(ADDRESS($CD2*7+1,10,,,\"Entry\"))=\"\",\"\",ROUND(INDIRECT(ADDRESS($CD2*7+1,10,,,\"Entry\")),2))","v":""},{"$f":"IF(T2=\"\",\"\",\"N\")","v":""},null,{"$f":"IF(INDIRECT(ADDRESS($CD2*7+1,5,,,\"Entry\"))=\"\",\"\",INDIRECT(ADDRESS($CD2*7+1,5,,,\"Entry\")))","v":""},{"$f":"IF(Y2=\"\",\"\",IF(Y2<99999,\"5900\",\"9100\"))","v":""},{"$f":"IF(INDIRECT(ADDRESS($CD2*7+1,6,,,\"Entry\"))=\"\",\"\",INDIRECT(ADDRESS($CD2*7+1,6,,,\"Entry\")))","v":""},{"$f":"IF(INDIRECT(ADDRESS($CD2*7+1,7,,,\"Entry\"))=\"\",\"\",INDIRECT(ADDRESS($CD2*7+1,7,,,\"Entry\")))","v":""},null,null,{"$f":"IF(Z2 = \"\",\"\",INDIRECT(ADDRESS($CD2*7,4,,,\"Entry\")))","v":""},{"$f":"IF(AF2=\"\",\"\",\"XXX\")","v":""},null,{"$f":"IF(INDIRECT(ADDRESS($CD2*7+2,10,,,\"Entry\"))=\"\",\"\",ROUND(INDIRECT(ADDRESS($CD2*7+2,10,,,\"Entry\")),2))","v":""},{"$f":"IF(AF2=\"\",\"\",\"N\")","v":""},null,{"$f":"IF(INDIRECT(ADDRESS($CD2*7+2,5,,,\"Entry\"))=\"\",\"\",INDIRECT(ADDRESS($CD2*7+2,5,,,\"Entry\")))","v":""},{"$f":"IF(AK2=\"\",\"\",IF(AK2<99999,\"5900\",\"9100\"))","v":""},{"$f":"IF(INDIRECT(ADDRESS($CD2*7+2,6,,,\"Entry\"))=\"\",\"\",INDIRECT(ADDRESS($CD2*7+2,6,,,\"Entry\")))","v":""},{"$f":"IF(INDIRECT(ADDRESS($CD2*7+2,7,,,\"Entry\"))=\"\",\"\",INDIRECT(ADDRESS($CD2*7+2,7,,,\"Entry\")))","v":""},{"$f":"IF(Entry!$H9=\"\",\"\",Entry!$H9)","v":""},{"$f":"IF(Entry!$I9=\"\",\"\",Entry!$I9)","v":""},{"$f":"IF(AL2 = \"\",\"\",INDIRECT(ADDRESS($CD2*7,4,,,\"Entry\")))","v":""},{"$f":"IF(AR2=\"\",\"\",\"XXX\")","v":""},null,{"$f":"IF(INDIRECT(ADDRESS($CD2*7+3,10,,,\"Entry\"))=\"\",\"\",ROUND(INDIRECT(ADDRESS($CD2*7+3,10,,,\"Entry\")),2))","v":""},{"$f":"IF(AR2=\"\",\"\",\"N\")","v":""},null,{"$f":"IF(INDIRECT(ADDRESS($CD2*7+3,5,,,\"Entry\"))=\"\",\"\",INDIRECT(ADDRESS($CD2*7+3,5,,,\"Entry\")))","v":""},{"$f":"IF(AW2=\"\",\"\",IF(AW2<99999,\"5900\",\"9100\"))","v":""},{"$f":"IF(INDIRECT(ADDRESS($CD2*7+3,6,,,\"Entry\"))=\"\",\"\",INDIRECT(ADDRESS($CD2*7+3,6,,,\"Entry\")))","v":""},{"$f":"IF(INDIRECT(ADDRESS($CD2*7+3,7,,,\"Entry\"))=\"\",\"\",INDIRECT(ADDRESS($CD2*7+3,7,,,\"Entry\")))","v":""},{"$f":"IF(Entry!$H10=\"\",\"\",Entry!$H10)","v":""},{"$f":"IF(Entry!$I10=\"\",\"\",Entry!$I10)","v":""},{"$f":"IF(AX2 = \"\",\"\",INDIRECT(ADDRESS($CD2*7,4,,,\"Entry\")))","v":""},{"$f":"IF(BD2=\"\",\"\",\"XXX\")","v":""},null,{"$f":"IF(INDIRECT(ADDRESS($CD2*7+4,10,,,\"Entry\"))=\"\",\"\",ROUND(INDIRECT(ADDRESS($CD2*7+4,10,,,\"Entry\")),2))","v":""},{"$f":"IF(BD2=\"\",\"\",\"N\")","v":""},null,{"$f":"IF(INDIRECT(ADDRESS($CD2*7+4,5,,,\"Entry\"))=\"\",\"\",INDIRECT(ADDRESS($CD2*7+4,5,,,\"Entry\")))","v":""},{"$f":"IF(BI2=\"\",\"\",IF(BI2<99999,\"5900\",\"9100\"))","v":""},{"$f":"IF(INDIRECT(ADDRESS($CD2*7+4,6,,,\"Entry\"))=\"\",\"\",INDIRECT(ADDRESS($CD2*7+4,6,,,\"Entry\")))","v":""},{"$f":"IF(INDIRECT(ADDRESS($CD2*7+4,7,,,\"Entry\"))=\"\",\"\",INDIRECT(ADDRESS($CD2*7+4,7,,,\"Entry\")))","v":""},{"$f":"IF(Entry!$H11=\"\",\"\",Entry!$H11)","v":""},{"$f":"IF(Entry!$I11=\"\",\"\",Entry!$I11)","v":""},{"$f":"IF(BJ2 = \"\",\"\",INDIRECT(ADDRESS($CD2*7,4,,,\"Entry\")))","v":""},{"$f":"IF(BP2=\"\",\"\",\"XXX\")","v":""},null,{"$f":"IF(INDIRECT(ADDRESS($CD2*7+5,10,,,\"Entry\"))=\"\",\"\",ROUND(INDIRECT(ADDRESS($CD2*7+5,10,,,\"Entry\")),2))","v":""},{"$f":"IF(BP2=\"\",\"\",\"N\")","v":""},null,{"$f":"IF(INDIRECT(ADDRESS($CD2*7+5,5,,,\"Entry\"))=\"\",\"\",INDIRECT(ADDRESS($CD2*7+5,5,,,\"Entry\")))","v":""},{"$f":"IF(BU2=\"\",\"\",IF(BU2<99999,\"5900\",\"9100\"))","v":""},{"$f":"IF(INDIRECT(ADDRESS($CD2*7+5,6,,,\"Entry\"))=\"\",\"\",INDIRECT(ADDRESS($CD2*7+5,6,,,\"Entry\")))","v":""},{"$f":"IF(INDIRECT(ADDRESS($CD2*7+5,7,,,\"Entry\"))=\"\",\"\",INDIRECT(ADDRESS($CD2*7+5,7,,,\"Entry\")))","v":""},"",{"$f":"IF(Entry!$I12=\"\",\"\",Entry!$I12)","v":""},{"$f":"IF(BV2 = \"\",\"\",INDIRECT(ADDRESS($CD2*7,4,,,\"Entry\")))","v":""},null,null,{"$f":"SUM(H2,T2,AF2,AR2,BD2,BP2)","v":0},{"$f":"IF(A2=\"\",\"\",Entry!$B$3)","v":""},1,null,null,null,{"$f":"IF('Payroll Form'!G16=\"\",\"\",'Payroll Form'!G16)","v":""}]
[{"$f":"IF(C3<>\"\",\"x\",\"\")","v":""},{"$f":"IF(C3<>\"\",9100,\"\")","v":""},{"$f":"IF(INDIRECT(ADDRESS(CD3*7,2,,,\"Entry\"))=\"\",\"\",INDIRECT(ADDRESS(CD3*7,2,,,\"Entry\")))","v":""},{"$f":"IF(H3=\"\",\"\",\"PNC\")","v":""},{"$f":"IF(A3=\"\",\"\",Entry!$J$2)","v":""},{"$f":"IF(H3=\"\",\"\",\"XXX\")","v":""},null,{"$f":"IF(INDIRECT(ADDRESS(CD3*7,10,,,\"Entry\"))=\"\",\"\",ROUND(INDIRECT(ADDRESS(CD3*7,10,,,\"Entry\")),2))","v":""},{"$f":"IF(H3=\"\",\"\",\"N\")","v":""},null,{"$f":"IF(INDIRECT(ADDRESS($CD3*7,5,,,\"Entry\"))=\"\",\"\",INDIRECT(ADDRESS($CD3*7,5,,,\"Entry\")))","v":""},{"$f":"IF(M3=\"\",\"\",IF(M3<99999,\"5900\",\"9100\"))","v":""},{"$f":"IF(INDIRECT(ADDRESS($CD3*7,6,,,\"Entry\"))=\"\",\"\",INDIRECT(ADDRESS($CD3*7,6,,,\"Entry\")))","v":""},{"$f":"IF(INDIRECT(ADDRESS($CD3*7,7,,,\"Entry\"))=\"\",\"\",INDIRECT(ADDRESS($CD3*7,7,,,\"Entry\")))","v":""},null,null,{"$f":"IF(INDIRECT(ADDRESS($CD3*7,4,,,\"Entry\"))=\"\",\"\",INDIRECT(ADDRESS($CD3*7,4,,,\"Entry\")))","v":""},{"$f":"IF(T3=\"\",\"\",\"XXX\")","v":""},null,{"$f":"IF(INDIRECT(ADDRESS($CD3*7+1,10,,,\"Entry\"))=\"\",\"\",ROUND(INDIRECT(ADDRESS($CD3*7+1,10,,,\"Entry\")),2))","v":""},{"$f":"IF(T3=\"\",\"\",\"N\")","v":""},null,{"$f":"IF(INDIRECT(ADDRESS($CD3*7+1,5,,,\"Entry\"))=\"\",\"\",INDIRECT(ADDRESS($CD3*7+1,5,,,\"Entry\")))","v":""},{"$f":"IF(Y3=\"\",\"\",IF(Y3<99999,\"5900\",\"9100\"))","v":""},{"$f":"IF(INDIRECT(ADDRESS($CD3*7+1,6,,,\"Entry\"))=\"\",\"\",INDIRECT(ADDRESS($CD3*7+1,6,,,\"Entry\")))","v":""},{"$f":"IF(INDIRECT(ADDRESS($CD3*7+1,7,,,\"Entry\"))=\"\",\"\",INDIRECT(ADDRESS($CD3*7+1,7,,,\"Entry\")))","v":""},null,null,"",{"$f":"IF(AF3=\"\",\"\",\"XXX\")","v":""},null,{"$f":"IF(INDIRECT(ADDRESS($CD3*7+2,10,,,\"Entry\"))=\"\",\"\",ROUND(INDIRECT(ADDRESS($CD3*7+2,10,,,\"Entry\")),2))","v":""},{"$f":"IF(AF3=\"\",\"\",\"N\")","v":""},null,{"$f":"IF(INDIRECT(ADDRESS($CD3*7+2,5,,,\"Entry\"))=\"\",\"\",INDIRECT(ADDRESS($CD3*7+2,5,,,\"Entry\")))","v":""},{"$f":"IF(AK3=\"\",\"\",IF(AK3<99999,\"5900\",\"9100\"))","v":""},{"$f":"IF(INDIRECT(ADDRESS($CD3*7+2,6,,,\"Entry\"))=\"\",\"\",INDIRECT(ADDRESS($CD3*7+2,6,,,\"Entry\")))","v":""},{"$f":"IF(INDIRECT(ADDRESS($CD3*7+2,7,,,\"Entry\"))=\"\",\"\",INDIRECT(ADDRESS($CD3*7+2,7,,,\"Entry\")))","v":""},"","","",{"$f":"IF(AR3=\"\",\"\",\"XXX\")","v":""},null,{"$f":"IF(INDIRECT(ADDRESS($CD3*7+3,10,,,\"Entry\"))=\"\",\"\",ROUND(INDIRECT(ADDRESS($CD3*7+3,10,,,\"Entry\")),2))","v":""},{"$f":"IF(AR3=\"\",\"\",\"N\")","v":""},null,{"$f":"IF(INDIRECT(ADDRESS($CD3*7+3,5,,,\"Entry\"))=\"\",\"\",INDIRECT(ADDRESS($CD3*7+3,5,,,\"Entry\")))","v":""},{"$f":"IF(AW3=\"\",\"\",IF(AW3<99999,\"5900\",\"9100\"))","v":""},{"$f":"IF(INDIRECT(ADDRESS($CD3*7+3,6,,,\"Entry\"))=\"\",\"\",INDIRECT(ADDRESS($CD3*7+3,6,,,\"Entry\")))","v":""},{"$f":"IF(INDIRECT(ADDRESS($CD3*7+3,7,,,\"Entry\"))=\"\",\"\",INDIRECT(ADDRESS($CD3*7+3,7,,,\"Entry\")))","v":""},"",{"$f":"IF(Entry!$I11=\"\",\"\",Entry!$I11)","v":""},"",{"$f":"IF(BD3=\"\",\"\",\"XXX\")","v":""},null,{"$f":"IF(INDIRECT(ADDRESS($CD3*7+4,10,,,\"Entry\"))=\"\",\"\",ROUND(INDIRECT(ADDRESS($CD3*7+4,10,,,\"Entry\")),2))","v":""},{"$f":"IF(BD3=\"\",\"\",\"N\")","v":""},null,{"$f":"IF(INDIRECT(ADDRESS($CD3*7+4,5,,,\"Entry\"))=\"\",\"\",INDIRECT(ADDRESS($CD3*7+4,5,,,\"Entry\")))","v":""},{"$f":"IF(BI3=\"\",\"\",IF(BI3<99999,\"5900\",\"9100\"))","v":""},{"$f":"IF(INDIRECT(ADDRESS($CD3*7+4,6,,,\"Entry\"))=\"\",\"\",INDIRECT(ADDRESS($CD3*7+4,6,,,\"Entry\")))","v":""},{"$f":"IF(INDIRECT(ADDRESS($CD3*7+4,7,,,\"Entry\"))=\"\",\"\",INDIRECT(ADDRESS($CD3*7+4,7,,,\"Entry\")))","v":""},"","","",{"$f":"IF(BP3=\"\",\"\",\"XXX\")","v":""},null,{"$f":"IF(INDIRECT(ADDRESS($CD3*7+5,10,,,\"Entry\"))=\"\",\"\",ROUND(INDIRECT(ADDRESS($CD3*7+5,10,,,\"Entry\")),2))","v":""},{"$f":"IF(BP3=\"\",\"\",\"N\")","v":""},null,{"$f":"IF(INDIRECT(ADDRESS($CD3*7+5,5,,,\"Entry\"))=\"\",\"\",INDIRECT(ADDRESS($CD3*7+5,5,,,\"Entry\")))","v":""},{"$f":"IF(BU3=\"\",\"\",IF(BU3<99999,\"5900\",\"9100\"))","v":""},{"$f":"IF(INDIRECT(ADDRESS($CD3*7+5,6,,,\"Entry\"))=\"\",\"\",INDIRECT(ADDRESS($CD3*7+5,6,,,\"Entry\")))","v":""},{"$f":"IF(INDIRECT(ADDRESS($CD3*7+5,7,,,\"Entry\"))=\"\",\"\",INDIRECT(ADDRESS($CD3*7+5,7,,,\"Entry\")))","v":""},"","","",null,null,{"$f":"SUM(H3,T3,AF3,AR3,BD3,BP3)","v":0},{"$f":"IF(A3=\"\",\"\",Entry!$B$3)","v":""},{"$f":"CD2+1","v":2},null,null,null,{"$f":"IF('Payroll Form'!G17=\"\",\"\",'Payroll Form'!G17)","v":""}]
["","","","",{"$f":"IF(A4=\"\",\"\",Entry!$J$2)","v":""},"",null,"","",null,"","","","",null,null,"","",null,"","",null,"","","","",null,null,"","",null,{"$f":"IF(INDIRECT(ADDRESS($CD4*7+2,10,,,\"Entry\"))=\"\",\"\",ROUND(INDIRECT(ADDRESS($CD4*7+2,10,,,\"Entry\")),2))","v":""},"",null,"","","","","","","","",null,"","",null,"","","","","",{"$f":"IF(Entry!$I12=\"\",\"\",Entry!$I12)","v":""},"","",null,"","",null,"","","","","","","","",null,"","",null,"","","","","","","",null,null,0,{"$f":"IF(A4=\"\",\"\",Entry!$B$3)","v":""},{"$f":"CD3+1","v":3},null,null,null,{"$f":"IF('Payroll Form'!G18=\"\",\"\",'Payroll Form'!G18)","v":""}]
["","","","",{"$f":"IF(A5=\"\",\"\",Entry!$J$2)","v":""},"",null,"","",null,"","","","",null,null,"","",null,"","",null,"","","","",null,null,"","",null,"","",null,"","","","","","","","",null,"","",null,"","","","","",{"$f":"IF(Entry!$I13=\"\",\"\",Entry!$I13)","v":""},"","",null,"","",null,"","","","","","","","",null,"","",null,"","","","","","","",null,null,0,{"$f":"IF(A5=\"\",\"\",Entry!$B$3)","v":""},4,null,null,null,{"$f":"IF('Payroll Form'!G19=\"\",\"\",'Payroll Form'!G19)","v":""}]
["","","","",{"$f":"IF(A6=\"\",\"\",Entry!$J$2)","v":""},"",null,"","",null,"","","","",null,null,"","",null,"","",null,"","","","",null,null,"","",null,"","",null,"","","","","","","","",null,"","",null,"","","","","",{"$f":"IF(Entry!$I14=\"\",\"\",Entry!$I14)","v":""},"","",null,"","",null,"","","","","","","","",null,"","",null,"","","","","","","",null,null,0,{"$f":"IF(A6=\"\",\"\",Entry!$B$3)","v":""},5,null,null,null,{"$f":"IF('Payroll Form'!G20=\"\",\"\",'Payroll Form'!G20)","v":""}]
["","","","",{"$f":"IF(A7=\"\",\"\",Entry!$J$2)","v":""},"",null,"","",null,"","","","",null,null,"","",null,"","",null,"","","","",null,null,"","",null,"","",null,"","","","","","","","",null,"","",null,"","","","","",{"$f":"IF(Entry!$I15=\"\",\"\",Entry!$I15)","v":""},"","",null,"","",null,"","","","","","","","",null,"","",null,"","","","","","","",null,null,0,{"$f":"IF(A7=\"\",\"\",Entry!$B$3)","v":""},6,null,null,null,{"$f":"IF('Payroll Form'!G21=\"\",\"\",'Payroll Form'!G21)","v":""}]
["","","","",{"$f":"IF(A8=\"\",\"\",Entry!$J$2)","v":""},"",null,"","",null,"","","","",null,null,"","",null,"","",null,"","","","",null,null,"","",null,"","",null,"","","","","","","","",null,"","",null,"","","","","",{"$f":"IF(Entry!$I16=\"\",\"\",Entry!$I16)","v":""},"","",null,"","",null,"","","","","","","","",null,"","",null,"","","","","","","",null,null,0,{"$f":"IF(A8=\"\",\"\",Entry!$B$3)","v":""},7,null,null,null,{"$f":"IF('Payroll Form'!G22=\"\",\"\",'Payroll Form'!G22)","v":""}]
["","","","",{"$f":"IF(A9=\"\",\"\",Entry!$J$2)","v":""},"",null,"","",null,"","","","",null,null,"","",null,"","",null,"","","","",null,null,"","",null,"","",null,"","","","","","","","",null,"","",null,"","","","","",{"$f":"IF(Entry!$I17=\"\",\"\",Entry!$I17)","v":""},"","",null,"","",null,"","","","","","","","",null,"","",null,"","","","","","","",null,null,0,{"$f":"IF(A9=\"\",\"\",Entry!$B$3)","v":""},8,null,null,null,{"$f":"IF('Payroll Form'!G23=\"\",\"\",'Payroll Form'!G23)","v":""}]
["","","","",{"$f":"IF(A10=\"\",\"\",Entry!$J$2)","v":""},"",null,"","",null,"","","","",null,null,"","",null,"","",null,"","","","",null,null,"","",null,"","",null,"","","","","","","","",null,"","",null,"","","","","",{"$f":"IF(Entry!$I18=\"\",\"\",Entry!$I18)","v":""},"","",null,"","",null,"","","","","","","","",null,"","",null,"","","","","","","",null,null,0,{"$f":"IF(A10=\"\",\"\",Entry!$B$3)","v":""},9,null,null,null,{"$f":"IF('Payroll Form'!G24=\"\",\"\",'Payroll Form'!G24)","v":""}]
["","","","",{"$f":"IF(A11=\"\",\"\",Entry!$J$2)","v":""},"",null,"","",null,"","","","",null,null,"","",null,"","",null,"","","","",null,null,"","",null,"","",null,"","","","","","","","",null,"","",null,"","","","","",{"$f":"IF(Entry!$I19=\"\",\"\",Entry!$I19)","v":""},"","",null,"","",null,"","","","","","","","",null,"","",null,"","","","","","","",null,null,0,{"$f":"IF(A11=\"\",\"\",Entry!$B$3)","v":""},10,null,null,null,{"$f":"IF('Payroll Form'!G25=\"\",\"\",'Payroll Form'!G25)","v":""}]
["","","","",{"$f":"IF(A12=\"\",\"\",Entry!$J$2)","v":""},"",null,"","",null,"","","","",null,null,"","",null,"","",null,"","","","",null,null,"","",null,"","",null,"","","","","","","","",null,"","",null,"","","","","",{"$f":"IF(Entry!$I20=\"\",\"\",Entry!$I20)","v":""},"","",null,"","",null,"","","","","","","","",null,"","",null,"","","","","","","",null,null,0,{"$f":"IF(A12=\"\",\"\",Entry!$B$3)","v":""},11,null,null,null,{"$f":"IF('Payroll Form'!G26=\"\",\"\",'Payroll Form'!G26)","v":""}]
["","","","",{"$f":"IF(A13=\"\",\"\",Entry!$J$2)","v":""},"",null,"","",null,"","","","",null,null,"","",null,"","",null,"","","","",null,null,"","",null,"","",null,"","","","","","","","",null,"","",null,"","","","","",{"$f":"IF(Entry!$I21=\"\",\"\",Entry!$I21)","v":""},"","",null,"","",null,"","","","","","","","",null,"","",null,"","","","","","","",null,null,0,{"$f":"IF(A13=\"\",\"\",Entry!$B$3)","v":""},12,null,null,null,{"$f":"IF('Payroll Form'!G27=\"\",\"\",'Payroll Form'!G27)","v":""}]
["","","","",{"$f":"IF(A14=\"\",\"\",Entry!$J$2)","v":""},"",null,"","",null,"","","","",null,null,"","",null,"","",null,"","","","",null,null,"","",null,"","",null,"","","","","","","","",null,"","",null,"","","","","",{"$f":"IF(Entry!$I22=\"\",\"\",Entry!$I22)","v":""},"","",null,"","",null,"","","","","","","","",null,"","",null,"","","","","","","",null,null,0,{"$f":"IF(A14=\"\",\"\",Entry!$B$3)","v":""},13,null,null,null,{"$f":"IF('Payroll Form'!G28=\"\",\"\",'Payroll Form'!G28)","v":""}]
["","","","",{"$f":"IF(A15=\"\",\"\",Entry!$J$2)","v":""},"",null,"","",null,"","","","",null,null,"","",null,"","",null,"","","","",null,null,"","",null,"","",null,"","","","","","","","",null,"","",null,"","","","","",{"$f":"IF(Entry!$I23=\"\",\"\",Entry!$I23)","v":""},"","",null,"","",null,"","","","","","","","",null,"","",null,"","","","","","","",null,null,0,{"$f":"IF(A15=\"\",\"\",Entry!$B$3)","v":""},14,null,null,null,{"$f":"IF('Payroll Form'!G29=\"\",\"\",'Payroll Form'!G29)","v":""}]
["","","","",{"$f":"IF(A16=\"\",\"\",Entry!$J$2)","v":""},"",null,"","",null,"","","","",null,null,"","",null,"","",null,"","","","",null,null,"","",null,"","",null,"","","","","","","","",null,"","",null,"","","","","",{"$f":"IF(Entry!$I24=\"\",\"\",Entry!$I24)","v":""},"","",null,"","",null,"","","","","","","","",null,"","",null,"","","","","","","",null,null,0,{"$f":"IF(A16=\"\",\"\",Entry!$B$3)","v":""},15,null,null,null,{"$f":"IF('Payroll Form'!G30=\"\",\"\",'Payroll Form'!G30)","v":""}]
["","","","",{"$f":"IF(A17=\"\",\"\",Entry!$J$2)","v":""},"",null,"","",null,"","","","",null,null,"","",null,"","",null,"","","","",null,null,"","",null,"","",null,"","","","","","","","",null,"","",null,"","","","","",{"$f":"IF(Entry!$I25=\"\",\"\",Entry!$I25)","v":""},"","",null,"","",null,"","","","","","","","",null,"","",null,"","","","","","","",null,null,0,{"$f":"IF(A17=\"\",\"\",Entry!$B$3)","v":""},16,null,null,null,{"$f":"IF('Payroll Form'!G31=\"\",\"\",'Payroll Form'!G31)","v":""}]
["","","","",{"$f":"IF(A18=\"\",\"\",Entry!$J$2)","v":""},"",null,"","",null,"","","","",null,null,"","",null,"","",null,"","","","",null,null,"","",null,"","",null,"","","","","","","","",null,"","",null,"","","","","",{"$f":"IF(Entry!$I26=\"\",\"\",Entry!$I26)","v":""},"","",null,"","",null,"","","","","","","","",null,"","",null,"","","","","","","",null,null,0,{"$f":"IF(A18=\"\",\"\",Entry!$B$3)","v":""},17,null,null,null,{"$f":"IF('Payroll Form'!G32=\"\",\"\",'Payroll Form'!G32)","v":""}]
["","","","",{"$f":"IF(A19=\"\",\"\",Entry!$J$2)","v":""},"",null,"","",null,"","","","",null,null,"","",null,"","",null,"","","","",null,null,"","",null,"","",null,"","","","","","","","",null,"","",null,"","","","","",{"$f":"IF(Entry!$I27=\"\",\"\",Entry!$I27)","v":""},"","",null,"","",null,"","","","","","","","",null,"","",null,"","","","","","","",null,null,0,{"$f":"IF(A19=\"\",\"\",Entry!$B$3)","v":""},18,null,null,null,{"$f":"IF('Payroll Form'!G33=\"\",\"\",'Payroll Form'!G33)","v":""}]
["","","","",{"$f":"IF(A20=\"\",\"\",Entry!$J$2)","v":""},"",null,"","",null,"","","","",null,null,"","",null,"","",null,"","","","",null,null,"","",null,"","",null,"","","","","","","","",null,"","",null,"","","","","",{"$f":"IF(Entry!$I28=\"\",\"\",Entry!$I28)","v":""},"","",null,"","",null,"","","","","","","","",null,"","",null,"","","","","","","",null,null,0,{"$f":"IF(A20=\"\",\"\",Entry!$B$3)","v":""},19,null,null,null,{"$f":"IF('Payroll Form'!G34=\"\",\"\",'Payroll Form'!G34)","v":""}]
["","","","",{"$f":"IF(A21=\"\",\"\",Entry!$J$2)","v":""},"",null,"","",null,"","","","",null,null,"","",null,"","",null,"","","","",null,null,"","",null,"","",null,"","","","","","","","",null,"","",null,"","","","","",{"$f":"IF(Entry!$I29=\"\",\"\",Entry!$I29)","v":""},"","",null,"","",null,"","","","","","","","",null,"","",null,"","","","","","","",null,null,0,{"$f":"IF(A21=\"\",\"\",Entry!$B$3)","v":""},20,null,null,null,{"$f":"IF('Payroll Form'!G35=\"\",\"\",'Payroll Form'!G35)","v":""}]
["","","","",{"$f":"IF(A22=\"\",\"\",Entry!$J$2)","v":""},"",null,"","",null,"","","","",null,null,"","",null,"","",null,"","","","",null,null,"","",null,"","",null,"","","","","","","","",null,"","",null,"","","","","",{"$f":"IF(Entry!$I30=\"\",\"\",Entry!$I30)","v":""},"","",null,"","",null,"","","","","","","","",null,"","",null,"","","","","","","",null,null,0,{"$f":"IF(A22=\"\",\"\",Entry!$B$3)","v":""},21,null,null,null,{"$f":"IF('Payroll Form'!G36=\"\",\"\",'Payroll Form'!G36)","v":""}]
["","","","",{"$f":"IF(A23=\"\",\"\",Entry!$J$2)","v":""},"",null,"","",null,"","","","",null,null,"","",null,"","",null,"","","","",null,null,"","",null,"","",null,"","","","","","","","",null,"","",null,"","","","","",{"$f":"IF(Entry!$I31=\"\",\"\",Entry!$I31)","v":""},"","",null,"","",null,"","","","","","","","",null,"","",null,"","","","","","","",null,null,0,{"$f":"IF(A23=\"\",\"\",Entry!$B$3)","v":""},22,null,null,null,{"$f":"IF('Payroll Form'!G37=\"\",\"\",'Payroll Form'!G37)","v":""}]
["","","","",{"$f":"IF(A24=\"\",\"\",Entry!$J$2)","v":""},"",null,"","",null,"","","","",null,null,"","",null,"","",null,"","","","",null,null,"","",null,"","",null,"","","","","","","","",null,"","",null,"","","","","",{"$f":"IF(Entry!$I32=\"\",\"\",Entry!$I32)","v":""},"","",null,"","",null,"","","","","","","","",null,"","",null,"","","","","","","",null,null,0,{"$f":"IF(A24=\"\",\"\",Entry!$B$3)","v":""},23,null,null,null,{"$f":"IF('Payroll Form'!G38=\"\",\"\",'Payroll Form'!G38)","v":""}]
["","","","",{"$f":"IF(A25=\"\",\"\",Entry!$J$2)","v":""},"",null,"","",null,"","","","",null,null,"","",null,"","",null,"","","","",null,null,"","",null,"","",null,"","","","","","","","",null,"","",null,"","","","","",{"$f":"IF(Entry!$I33=\"\",\"\",Entry!$I33)","v":""},"","",null,"","",null,"","","","","","","","",null,"","",null,"","","","","","","",null,null,0,{"$f":"IF(A25=\"\",\"\",Entry!$B$3)","v":""},24,null,null,null,{"$f":"IF('Payroll Form'!G39=\"\",\"\",'Payroll Form'!G39)","v":""}]
["","","","",{"$f":"IF(A26=\"\",\"\",Entry!$J$2)","v":""},"",null,"","",null,"","","","",null,null,"","",null,"","",null,"","","","",null,null,"","",null,"","",null,"","","","","","","","",null,"","",null,"","","","","",{"$f":"IF(Entry!$I34=\"\",\"\",Entry!$I34)","v":""},"","",null,"","",null,"","","","","","","","",null,"","",null,"","","","","","","",null,null,0,{"$f":"IF(A26=\"\",\"\",Entry!$B$3)","v":""},25,null,null,null,{"$f":"IF('Payroll Form'!G40=\"\",\"\",'Payroll Form'!G40)","v":""}]
["","","","",{"$f":"IF(A27=\"\",\"\",Entry!$J$2)","v":""},"",null,"","",null,"","","","",null,null,"","",null,"","",null,"","","","",null,null,"","",null,"","",null,"","","","","","","","",null,"","",null,"","","","","",{"$f":"IF(Entry!$I35=\"\",\"\",Entry!$I35)","v":""},"","",null,"","",null,"","","","","","","","",null,"","",null,"","","","","","","",null,null,0,{"$f":"IF(A27=\"\",\"\",Entry!$B$3)","v":""},26,null,null,null,{"$f":"IF('Payroll Form'!G41=\"\",\"\",'Payroll Form'!G41)","v":""}]
["","","","",{"$f":"IF(A28=\"\",\"\",Entry!$J$2)","v":""},"",null,"","",null,"","","","",null,null,"","",null,"","",null,"","","","",null,null,"","",null,"","",null,"","","","","","","","",null,"","",null,"","","","","",{"$f":"IF(Entry!$I36=\"\",\"\",Entry!$I36)","v":""},"","",null,"","",null,"","","","","","","","",null,"","",null,"","","","","","","",null,null,0,{"$f":"IF(A28=\"\",\"\",Entry!$B$3)","v":""},27,null,null,null,{"$f":"IF('Payroll Form'!G42=\"\",\"\",'Payroll Form'!G42)","v":""}]
["","","","",{"$f":"IF(A29=\"\",\"\",Entry!$J$2)","v":""},"",null,"","",null,"","","","",null,null,"","",null,"","",null,"","","","",null,null,"","",null,"","",null,"","","","","","","","",null,"","",null,"","","","","",{"$f":"IF(Entry!$I37=\"\",\"\",Entry!$I37)","v":""},"","",null,"","",null,"","","","","","","","",null,"","",null,"","","","","","","",null,null,0,{"$f":"IF(A29=\"\",\"\",Entry!$B$3)","v":""},28,null,null,null,{"$f":"IF('Payroll Form'!G43=\"\",\"\",'Payroll Form'!G43)","v":""}]
["","","","",{"$f":"IF(A30=\"\",\"\",Entry!$J$2)","v":""},"",null,"","",null,"","","","",null,null,"","",null,"","",null,"","","","",null,null,"","",null,"","",null,"","","","","","","","",null,"","",null,"","","","","",{"$f":"IF(Entry!$I38=\"\",\"\",Entry!$I38)","v":""},"","",null,"","",null,"","","","","","","","",null,"","",null,"","","","","","","",null,null,0,{"$f":"IF(A30=\"\",\"\",Entry!$B$3)","v":""},29,null,null,null,{"$f":"IF('Payroll Form'!G44=\"\",\"\",'Payroll Form'!G44)","v":""}]
["","","","",{"$f":"IF(A31=\"\",\"\",Entry!$J$2)","v":""},"",null,"","",null,"","","","",null,null,"","",null,"","",null,"","","","",null,null,"","",null,"","",null,"","","","","","","","",null,"","",null,"","","","","",{"$f":"IF(Entry!$I39=\"\",\"\",Entry!$I39)","v":""},"","",null,"","",null,"","","","","","","","",null,"","",null,"","","","","","","",null,null,0,{"$f":"IF(A31=\"\",\"\",Entry!$B$3)","v":""},30,null,null,null,{"$f":"IF('Payroll Form'!G45=\"\",\"\",'Payroll Form'!G45)","v":""}]
["","","","",{"$f":"IF(A32=\"\",\"\",Entry!$J$2)","v":""},"",null,"","",null,"","","","",null,null,"","",null,"","",null,"","","","",null,null,"","",null,"","",null,"","","","","","","","",null,"","",null,"","","","","",{"$f":"IF(Entry!$I40=\"\",\"\",Entry!$I40)","v":""},"","",null,"","",null,"","","","","","","","",null,"","",null,"","","","","","","",null,null,0,{"$f":"IF(A32=\"\",\"\",Entry!$B$3)","v":""},31,null,null,null,{"$f":"IF('Payroll Form'!G46=\"\",\"\",'Payroll Form'!G46)","v":""}]
["","","","",{"$f":"IF(A33=\"\",\"\",Entry!$J$2)","v":""},"",null,"","",null,"","","","",null,null,"","",null,"","",null,"","","","",null,null,"","",null,"","",null,"","","","","","","","",null,"","",null,"","","","","",{"$f":"IF(Entry!$I41=\"\",\"\",Entry!$I41)","v":""},"","",null,"","",null,"","","","","","","","",null,"","",null,"","","","","","","",null,null,0,{"$f":"IF(A33=\"\",\"\",Entry!$B$3)","v":""},32,null,null,null,{"$f":"IF('Payroll Form'!G47=\"\",\"\",'Payroll Form'!G47)","v":""}]
["","","","",{"$f":"IF(A34=\"\",\"\",Entry!$J$2)","v":""},"",null,"","",null,"","","","",null,null,"","",null,"","",null,"","","","",null,null,"","",null,"","",null,"","","","","","","","",null,"","",null,"","","","","",{"$f":"IF(Entry!$I42=\"\",\"\",Entry!$I42)","v":""},"","",null,"","",null,"","","","","","","","",null,"","",null,"","","","","","","",null,null,0,{"$f":"IF(A34=\"\",\"\",Entry!$B$3)","v":""},33,null,null,null,{"$f":"IF('Payroll Form'!G48=\"\",\"\",'Payroll Form'!G48)","v":""}]
["","","","",{"$f":"IF(A35=\"\",\"\",Entry!$J$2)","v":""},"",null,"","",null,"","","","",null,null,"","",null,"","",null,"","","","",null,null,"","",null,"","",null,"","","","","","","","",null,"","",null,"","","","","",{"$f":"IF(Entry!$I43=\"\",\"\",Entry!$I43)","v":""},"","",null,"","",null,"","","","","","","","",null,"","",null,"","","","","","","",null,null,0,{"$f":"IF(A35=\"\",\"\",Entry!$B$3)","v":""},34,null,null,null,{"$f":"IF('Payroll Form'!G49=\"\",\"\",'Payroll Form'!G49)","v":""}]
["","","","",{"$f":"IF(A36=\"\",\"\",Entry!$J$2)","v":""},"",null,"","",null,"","","","",null,null,"","",null,"","",null,"","","","",null,null,"","",null,"","",null,"","","","","","","","",null,"","",null,"","","","","",{"$f":"IF(Entry!$I44=\"\",\"\",Entry!$I44)","v":""},"","",null,"","",null,"","","","","","","","",null,"","",null,"","","","","","","",null,null,0,{"$f":"IF(A36=\"\",\"\",Entry!$B$3)","v":""},35,null,null,null,{"$f":"IF('Payroll Form'!G50=\"\",\"\",'Payroll Form'!G50)","v":""}]
["","","","",{"$f":"IF(A37=\"\",\"\",Entry!$J$2)","v":""},"",null,"","",null,"","","","",null,null,"","",null,"","",null,"","","","",null,null,"","",null,"","",null,"","","","","","","","",null,"","",null,"","","","","",{"$f":"IF(Entry!$I45=\"\",\"\",Entry!$I45)","v":""},"","",null,"","",null,"","","","","","","","",null,"","",null,"","","","","","","",null,null,0,{"$f":"IF(A37=\"\",\"\",Entry!$B$3)","v":""},36,null,null,null,{"$f":"IF('Payroll Form'!G51=\"\",\"\",'Payroll Form'!G51)","v":""}]
["","","","",{"$f":"IF(A38=\"\",\"\",Entry!$J$2)","v":""},"",null,"","",null,"","","","",null,null,"","",null,"","",null,"","","","",null,null,"","",null,"","",null,"","","","","","","","",null,"","",null,"","","","","",{"$f":"IF(Entry!$I46=\"\",\"\",Entry!$I46)","v":""},"","",null,"","",null,"","","","","","","","",null,"","",null,"","","","","","","",null,null,0,{"$f":"IF(A38=\"\",\"\",Entry!$B$3)","v":""},37,null,null,null,{"$f":"IF('Payroll Form'!G52=\"\",\"\",'Payroll Form'!G52)","v":""}]
["","","","",{"$f":"IF(A39=\"\",\"\",Entry!$J$2)","v":""},"",null,"","",null,"","","","",null,null,"","",null,"","",null,"","","","",null,null,"","",null,"","",null,"","","","","","","","",null,"","",null,"","","","","",{"$f":"IF(Entry!$I47=\"\",\"\",Entry!$I47)","v":""},"","",null,"","",null,"","","","","","","","",null,"","",null,"","","","","","","",null,null,0,{"$f":"IF(A39=\"\",\"\",Entry!$B$3)","v":""},38,null,null,null,{"$f":"IF('Payroll Form'!G53=\"\",\"\",'Payroll Form'!G53)","v":""}]
["","","","",{"$f":"IF(A40=\"\",\"\",Entry!$J$2)","v":""},"",null,"","",null,"","","","",null,null,"","",null,"","",null,"","","","",null,null,"","",null,"","",null,"","","","","","","","",null,"","",null,"","","","","",{"$f":"IF(Entry!$I48=\"\",\"\",Entry!$I48)","v":""},"","",null,"","",null,"","","","","","","","",null,"","",null,"","","","","","","",null,null,0,{"$f":"IF(A40=\"\",\"\",Entry!$B$3)","v":""},39,null,null,null,{"$f":"IF('Payroll Form'!G54=\"\",\"\",'Payroll Form'!G54)","v":""}]
["","","","",{"$f":"IF(A41=\"\",\"\",Entry!$J$2)","v":""},"",null,"","",null,"","","","",null,null,"","",null,"","",null,"","","","",null,null,"","",null,"","",null,"","","","","","","","",null,"","",null,"","","","","",{"$f":"IF(Entry!$I49=\"\",\"\",Entry!$I49)","v":""},"","",null,"","",null,"","","","","","","","",null,"","",null,"","","","","","","",null,null,0,{"$f":"IF(A41=\"\",\"\",Entry!$B$3)","v":""},40,null,null,null,{"$f":"IF('Payroll Form'!G55=\"\",\"\",'Payroll Form'!G55)","v":""}]
["","","","",{"$f":"IF(A42=\"\",\"\",Entry!$J$2)","v":""},"",null,"","",null,"","","","",null,null,"","",null,"","",null,"","","","",null,null,"","",null,"","",null,"","","","","","","","",null,"","",null,"","","","","",{"$f":"IF(Entry!$I50=\"\",\"\",Entry!$I50)","v":""},"","",null,"","",null,"","","","","","","","",null,"","",null,"","","","","","","",null,null,0,{"$f":"IF(A42=\"\",\"\",Entry!$B$3)","v":""},41,null,null,null,{"$f":"IF('Payroll Form'!G56=\"\",\"\",'Payroll Form'!G56)","v":""}]
["","","","",{"$f":"IF(A43=\"\",\"\",Entry!$J$2)","v":""},"",null,"","",null,"","","","",null,null,"","",null,"","",null,"","","","",null,null,"","",null,"","",null,"","","","","","","","",null,"","",null,"","","","","",{"$f":"IF(Entry!$I51=\"\",\"\",Entry!$I51)","v":""},"","",null,"","",null,"","","","","","","","",null,"","",null,"","","","","","","",null,null,0,{"$f":"IF(A43=\"\",\"\",Entry!$B$3)","v":""},42,null,null,null,{"$f":"IF('Payroll Form'!G57=\"\",\"\",'Payroll Form'!G57)","v":""}]
["","","","",{"$f":"IF(A44=\"\",\"\",Entry!$J$2)","v":""},"",null,"","",null,"","","","",null,null,"","",null,"","",null,"","","","",null,null,"","",null,"","",null,"","","","","","","","",null,"","",null,"","","","","",{"$f":"IF(Entry!$I52=\"\",\"\",Entry!$I52)","v":""},"","",null,"","",null,"","","","","","","","",null,"","",null,"","","","","","","",null,null,0,{"$f":"IF(A44=\"\",\"\",Entry!$B$3)","v":""},43,null,null,null,{"$f":"IF('Payroll Form'!G58=\"\",\"\",'Payroll Form'!G58)","v":""}]
["","","","",{"$f":"IF(A45=\"\",\"\",Entry!$J$2)","v":""},"",null,"","",null,"","","","",null,null,"","",null,"","",null,"","","","",null,null,"","",null,"","",null,"","","","","","","","",null,"","",null,"","","","","",{"$f":"IF(Entry!$I53=\"\",\"\",Entry!$I53)","v":""},"","",null,"","",null,"","","","","","","","",null,"","",null,"","","","","","","",null,null,0,{"$f":"IF(A45=\"\",\"\",Entry!$B$3)","v":""},44,null,null,null,{"$f":"IF('Payroll Form'!G59=\"\",\"\",'Payroll Form'!G59)","v":""}]
["","","","",{"$f":"IF(A46=\"\",\"\",Entry!$J$2)","v":""},"",null,"","",null,"","","","",null,null,"","",null,"","",null,"","","","",null,null,"","",null,"","",null,"","","","","","","","",null,"","",null,"","","","","",{"$f":"IF(Entry!$I54=\"\",\"\",Entry!$I54)","v":""},"","",null,"","",null,"","","","","","","","",null,"","",null,"","","","","","","",null,null,0,{"$f":"IF(A46=\"\",\"\",Entry!$B$3)","v":""},45,null,null,null,{"$f":"IF('Payroll Form'!G60=\"\",\"\",'Payroll Form'!G60)","v":""}]
["","","","",{"$f":"IF(A47=\"\",\"\",Entry!$J$2)","v":""},"",null,"","",null,"","","","",null,null,"","",null,"","",null,"","","","",null,null,"","",null,"","",null,"","","","","","","","",null,"","",null,"","","","","",{"$f":"IF(Entry!$I55=\"\",\"\",Entry!$I55)","v":""},"","",null,"","",null,"","","","","","","","",null,"","",null,"","","","","","","",null,null,0,{"$f":"IF(A47=\"\",\"\",Entry!$B$3)","v":""},46,null,null,null,{"$f":"IF('Payroll Form'!G61=\"\",\"\",'Payroll Form'!G61)","v":""}]
["","","","",{"$f":"IF(A48=\"\",\"\",Entry!$J$2)","v":""},"",null,"","",null,"","","","",null,null,"","",null,"","",null,"","","","",null,null,"","",null,"","",null,"","","","","","","","",null,"","",null,"","","","","",{"$f":"IF(Entry!$I56=\"\",\"\",Entry!$I56)","v":""},"","",null,"","",null,"","","","","","","","",null,"","",null,"","","","","","","",null,null,0,{"$f":"IF(A48=\"\",\"\",Entry!$B$3)","v":""},47,null,null,null,{"$f":"IF('Payroll Form'!G62=\"\",\"\",'Payroll Form'!G62)","v":""}]
["","","","",{"$f":"IF(A49=\"\",\"\",Entry!$J$2)","v":""},"",null,"","",null,"","","","",null,null,"","",null,"","",null,"","","","",null,null,"","",null,"","",null,"","","","","","","","",null,"","",null,"","","","","",{"$f":"IF(Entry!$I57=\"\",\"\",Entry!$I57)","v":""},"","",null,"","",null,"","","","","","","","",null,"","",null,"","","","","","","",null,null,0,{"$f":"IF(A49=\"\",\"\",Entry!$B$3)","v":""},48,null,null,null,{"$f":"IF('Payroll Form'!G63=\"\",\"\",'Payroll Form'!G63)","v":""}]
["","","","",{"$f":"IF(A50=\"\",\"\",Entry!$J$2)","v":""},"",null,"","",null,"","","","",null,null,"","",null,"","",null,"","","","",null,null,"","",null,"","",null,"","","","","","","","",null,"","",null,"","","","","",{"$f":"IF(Entry!$I58=\"\",\"\",Entry!$I58)","v":""},"","",null,"","",null,"","","","","","","","",null,"","",null,"","","","","","","",null,null,0,{"$f":"IF(A50=\"\",\"\",Entry!$B$3)","v":""},49,null,null,null,{"$f":"IF('Payroll Form'!G64=\"\",\"\",'Payroll Form'!G64)","v":""}]
["","","","",{"$f":"IF(A51=\"\",\"\",Entry!$J$2)","v":""},"",null,"","",null,"","","","",null,null,"","",null,"","",null,"","","","",null,null,"","",null,"","",null,"","","","","","","","",null,"","",null,"","","","","",{"$f":"IF(Entry!$I59=\"\",\"\",Entry!$I59)","v":""},"","",null,"","",null,"","","","","","","","",null,"","",null,"","","","","","","",null,null,0,{"$f":"IF(A51=\"\",\"\",Entry!$B$3)","v":""},50,null,null,null,{"$f":"IF('Payroll Form'!G65=\"\",\"\",'Payroll Form'!G65)","v":""}]
["","","","",{"$f":"IF(A52=\"\",\"\",Entry!$J$2)","v":""},"",null,"","",null,"","","","",null,null,"","",null,"","",null,"","","","",null,null,"","",null,"","",null,"","","","","","","","",null,"","",null,"","","","","",{"$f":"IF(Entry!$I60=\"\",\"\",Entry!$I60)","v":""},"","",null,"","",null,"","","","","","","","",null,"","",null,"","","","","","","",null,null,0,{"$f":"IF(A52=\"\",\"\",Entry!$B$3)","v":""},51,null,null,null,{"$f":"IF('Payroll Form'!G66=\"\",\"\",'Payroll Form'!G66)","v":""}]
["","","","",{"$f":"IF(A53=\"\",\"\",Entry!$J$2)","v":""},"",null,"","",null,"","","","",null,null,"","",null,"","",null,"","","","",null,null,"","",null,"","",null,"","","","","","","","",null,"","",null,"","","","","",{"$f":"IF(Entry!$I61=\"\",\"\",Entry!$I61)","v":""},"","",null,"","",null,"","","","","","","","",null,"","",null,"","","","","","","",null,null,0,{"$f":"IF(A53=\"\",\"\",Entry!$B$3)","v":""},52,null,null,null,{"$f":"IF('Payroll Form'!G67=\"\",\"\",'Payroll Form'!G67)","v":""}]
["","","","",{"$f":"IF(A54=\"\",\"\",Entry!$J$2)","v":""},"",null,"","",null,"","","","",null,null,"","",null,"","",null,"","","","",null,null,"","",null,"","",null,"","","","","","","","",null,"","",null,"","","","","",{"$f":"IF(Entry!$I62=\"\",\"\",Entry!$I62)","v":""},"","",null,"","",null,"","","","","","","","",null,"","",null,"","","","","","","",null,null,0,{"$f":"IF(A54=\"\",\"\",Entry!$B$3)","v":""},53,null,null,null,{"$f":"IF('Payroll Form'!G68=\"\",\"\",'Payroll Form'!G68)","v":""}]
["","","","",{"$f":"IF(A55=\"\",\"\",Entry!$J$2)","v":""},"",null,"","",null,"","","","",null,null,"","",null,"","",null,"","","","",null,null,"","",null,"","",null,"","","","","","","","",null,"","",null,"","","","","",{"$f":"IF(Entry!$I63=\"\",\"\",Entry!$I63)","v":""},"","",null,"","",null,"","","","","","","","",null,"","",null,"","","","","","","",null,null,0,{"$f":"IF(A55=\"\",\"\",Entry!$B$3)","v":""},54,null,null,null,{"$f":"IF('Payroll Form'!G69=\"\",\"\",'Payroll Form'!G69)","v":""}]
["","","","",{"$f":"IF(A56=\"\",\"\",Entry!$J$2)","v":""},"",null,"","",null,"","","","",null,null,"","",null,"","",null,"","","","",null,null,"","",null,"","",null,"","","","","","","","",null,"","",null,"","","","","",{"$f":"IF(Entry!$I64=\"\",\"\",Entry!$I64)","v":""},"","",null,"","",null,"","","","","","","","",null,"","",null,"","","","","","","",null,null,0,{"$f":"IF(A56=\"\",\"\",Entry!$B$3)","v":""},55,null,null,null,{"$f":"IF('Payroll Form'!G70=\"\",\"\",'Payroll Form'!G70)","v":""}]
["","","","",{"$f":"IF(A57=\"\",\"\",Entry!$J$2)","v":""},"",null,"","",null,"","","","",null,null,"","",null,"","",null,"","","","",null,null,"","",null,"","",null,"","","","","","","","",null,"","",null,"","","","","",{"$f":"IF(Entry!$I65=\"\",\"\",Entry!$I65)","v":""},"","",null,"","",null,"","","","","","","","",null,"","",null,"","","","","","","",null,null,0,{"$f":"IF(A57=\"\",\"\",Entry!$B$3)","v":""},56,null,null,null,{"$f":"IF('Payroll Form'!G71=\"\",\"\",'Payroll Form'!G71)","v":""}]
["","","","",{"$f":"IF(A58=\"\",\"\",Entry!$J$2)","v":""},"",null,"","",null,"","","","",null,null,"","",null,"","",null,"","","","",null,null,"","",null,"","",null,"","","","","","","","",null,"","",null,"","","","","",{"$f":"IF(Entry!$I66=\"\",\"\",Entry!$I66)","v":""},"","",null,"","",null,"","","","","","","","",null,"","",null,"","","","","","","",null,null,0,{"$f":"IF(A58=\"\",\"\",Entry!$B$3)","v":""},57,null,null,null,{"$f":"IF('Payroll Form'!G72=\"\",\"\",'Payroll Form'!G72)","v":""}]
["","","","",{"$f":"IF(A59=\"\",\"\",Entry!$J$2)","v":""},"",null,"","",null,"","","","",null,null,"","",null,"","",null,"","","","",null,null,"","",null,"","",null,"","","","","","","","",null,"","",null,"","","","","",{"$f":"IF(Entry!$I67=\"\",\"\",Entry!$I67)","v":""},"","",null,"","",null,"","","","","","","","",null,"","",null,"","","","","","","",null,null,0,{"$f":"IF(A59=\"\",\"\",Entry!$B$3)","v":""},58,null,null,null,{"$f":"IF('Payroll Form'!G73=\"\",\"\",'Payroll Form'!G73)","v":""}]
["","","","",{"$f":"IF(A60=\"\",\"\",Entry!$J$2)","v":""},"",null,"","",null,"","","","",null,null,"","",null,"","",null,"","","","",null,null,"","",null,"","",null,"","","","","","","","",null,"","",null,"","","","","",{"$f":"IF(Entry!$I68=\"\",\"\",Entry!$I68)","v":""},"","",null,"","",null,"","","","","","","","",null,"","",null,"","","","","","","",null,null,0,{"$f":"IF(A60=\"\",\"\",Entry!$B$3)","v":""},59,null,null,null,{"$f":"IF('Payroll Form'!G74=\"\",\"\",'Payroll Form'!G74)","v":""}]
["","","","",{"$f":"IF(A61=\"\",\"\",Entry!$J$2)","v":""},"",null,"","",null,"","","","",null,null,"","",null,"","",null,"","","","",null,null,"","",null,"","",null,"","","","","","","","",null,"","",null,"","","","","",{"$f":"IF(Entry!$I69=\"\",\"\",Entry!$I69)","v":""},"","",null,"","",null,"","","","","","","","",null,"","",null,"","","","","","","",null,null,0,{"$f":"IF(A61=\"\",\"\",Entry!$B$3)","v":""},60,null,null,null,{"$f":"IF('Payroll Form'!G75=\"\",\"\",'Payroll Form'!G75)","v":""}]
["","","","",{"$f":"IF(A62=\"\",\"\",Entry!$J$2)","v":""},"",null,"","",null,"","","","",null,null,"","",null,"","",null,"","","","",null,null,"","",null,"","",null,"","","","","","","","",null,"","",null,"","","","","",{"$f":"IF(Entry!$I70=\"\",\"\",Entry!$I70)","v":""},"","",null,"","",null,"","","","","","","","",null,"","",null,"","","","","","","",null,null,0,{"$f":"IF(A62=\"\",\"\",Entry!$B$3)","v":""},61,null,null,null,{"$f":"IF('Payroll Form'!G76=\"\",\"\",'Payroll Form'!G76)","v":""}]
["","","","",{"$f":"IF(A63=\"\",\"\",Entry!$J$2)","v":""},"",null,"","",null,"","","","",null,null,"","",null,"","",null,"","","","",null,null,"","",null,"","",null,"","","","","","","","",null,"","",null,"","","","","",{"$f":"IF(Entry!$I71=\"\",\"\",Entry!$I71)","v":""},"","",null,"","",null,"","","","","","","","",null,"","",null,"","","","","","","",null,null,0,{"$f":"IF(A63=\"\",\"\",Entry!$B$3)","v":""},62,null,null,null,{"$f":"IF('Payroll Form'!G77=\"\",\"\",'Payroll Form'!G77)","v":""}]
["","","","",{"$f":"IF(A64=\"\",\"\",Entry!$J$2)","v":""},"",null,"","",null,"","","","",null,null,"","",null,"","",null,"","","","",null,null,"","",null,"","",null,"","","","","","","","",null,"","",null,"","","","","",{"$f":"IF(Entry!$I72=\"\",\"\",Entry!$I72)","v":""},"","",null,"","",null,"","","","","","","","",null,"","",null,"","","","","","","",null,null,0,{"$f":"IF(A64=\"\",\"\",Entry!$B$3)","v":""},63,null,null,null,{"$f":"IF('Payroll Form'!G78=\"\",\"\",'Payroll Form'!G78)","v":""}]
["","","","",{"$f":"IF(A65=\"\",\"\",Entry!$J$2)","v":""},"",null,"","",null,"","","","",null,null,"","",null,"","",null,"","","","",null,null,"","",null,"","",null,"","","","","","","","",null,"","",null,"","","","","",{"$f":"IF(Entry!$I73=\"\",\"\",Entry!$I73)","v":""},"","",null,"","",null,"","","","","","","","",null,"","",null,"","","","","","","",null,null,0,{"$f":"IF(A65=\"\",\"\",Entry!$B$3)","v":""},64,null,null,null,{"$f":"IF('Payroll Form'!G79=\"\",\"\",'Payroll Form'!G79)","v":""}]
["","","","",{"$f":"IF(A66=\"\",\"\",Entry!$J$2)","v":""},"",null,"","",null,"","","","",null,null,"","",null,"","",null,"","","","",null,null,{"$f":"IF(Z66 = \"\",\"\",INDIRECT(ADDRESS($CD66*7,4,,,\"Entry\")))","v":""},"",null,"","",null,"","","","","","",{"$f":"IF(AL66 = \"\",\"\",INDIRECT(ADDRESS($CD66*7,4,,,\"Entry\")))","v":""},"",null,"","",null,"","","","","",{"$f":"IF(Entry!$I74=\"\",\"\",Entry!$I74)","v":""},{"$f":"IF(AX66 = \"\",\"\",INDIRECT(ADDRESS($CD66*7,4,,,\"Entry\")))","v":""},"",null,"","",null,"","","","","","",{"$f":"IF(BJ66 = \"\",\"\",INDIRECT(ADDRESS($CD66*7,4,,,\"Entry\")))","v":""},"",null,"","",null,"","","","","","",{"$f":"IF(BV66 = \"\",\"\",INDIRECT(ADDRESS($CD66*7,4,,,\"Entry\")))","v":""},null,null,0,{"$f":"IF(A66=\"\",\"\",Entry!$B$3)","v":""},65,null,null,null,{"$f":"IF('Payroll Form'!G80=\"\",\"\",'Payroll Form'!G80)","v":""}]
[{"$f":"IF(C67<>\"\",\"x\",\"\")","v":""},{"$f":"IF(C67<>\"\",9100,\"\")","v":""},{"$f":"IF(INDIRECT(ADDRESS(CD67*7,2,,,\"Entry\"))=\"\",\"\",INDIRECT(ADDRESS(CD67*7,2,,,\"Entry\")))","v":""},{"$f":"IF(H67=\"\",\"\",\"PNC\")","v":""},{"$f":"IF(A67=\"\",\"\",Entry!$J$2)","v":""},{"$f":"IF(H67=\"\",\"\",\"XXX\")","v":""},null,{"$f":"IF(INDIRECT(ADDRESS(CD67*7,10,,,\"Entry\"))=\"\",\"\",ROUND(INDIRECT(ADDRESS(CD67*7,10,,,\"Entry\")),2))","v":""},{"$f":"IF(H67=\"\",\"\",\"N\")","v":""},null,{"$f":"IF(INDIRECT(ADDRESS($CD67*7,5,,,\"Entry\"))=\"\",\"\",INDIRECT(ADDRESS($CD67*7,5,,,\"Entry\")))","v":""},{"$f":"IF(M67=\"\",\"\",IF(M67<99999,\"5900\",\"9100\"))","v":""},{"$f":"IF(INDIRECT(ADDRESS($CD67*7,6,,,\"Entry\"))=\"\",\"\",INDIRECT(ADDRESS($CD67*7,6,,,\"Entry\")))","v":""},{"$f":"IF(INDIRECT(ADDRESS($CD67*7,7,,,\"Entry\"))=\"\",\"\",INDIRECT(ADDRESS($CD67*7,7,,,\"Entry\")))","v":""},null,null,{"$f":"IF(INDIRECT(ADDRESS($CD67*7,4,,,\"Entry\"))=\"\",\"\",INDIRECT(ADDRESS($CD67*7,4,,,\"Entry\")))","v":""},{"$f":"IF(T67=\"\",\"\",\"XXX\")","v":""},null,{"$f":"IF(INDIRECT(ADDRESS($CD67*7+1,10,,,\"Entry\"))=\"\",\"\",ROUND(INDIRECT(ADDRESS($CD67*7+1,10,,,\"Entry\")),2))","v":""},{"$f":"IF(T67=\"\",\"\",\"N\")","v":""},null,{"$f":"IF(INDIRECT(ADDRESS($CD67*7+1,5,,,\"Entry\"))=\"\",\"\",INDIRECT(ADDRESS($CD67*7+1,5,,,\"Entry\")))","v":""},{"$f":"IF(Y67=\"\",\"\",IF(Y67<99999,\"5900\",\"9100\"))","v":""},{"$f":"IF(INDIRECT(ADDRESS($CD67*7+1,6,,,\"Entry\"))=\"\",\"\",INDIRECT(ADDRESS($CD67*7+1,6,,,\"Entry\")))","v":""},{"$f":"IF(INDIRECT(ADDRESS($CD67*7+1,7,,,\"Entry\"))=\"\",\"\",INDIRECT(ADDRESS($CD67*7+1,7,,,\"Entry\")))","v":""},null,null,"",{"$f":"IF(AF67=\"\",\"\",\"XXX\")","v":""},null,"",{"$f":"IF(AF67=\"\",\"\",\"N\")","v":""},null,{"$f":"IF(INDIRECT(ADDRESS($CD67*7+2,5,,,\"Entry\"))=\"\",\"\",INDIRECT(ADDRESS($CD67*7+2,5,,,\"Entry\")))","v":""},{"$f":"IF(AK67=\"\",\"\",IF(AK67<99999,\"5900\",\"9100\"))","v":""},{"$f":"IF(INDIRECT(ADDRESS($CD67*7+2,6,,,\"Entry\"))=\"\",\"\",INDIRECT(ADDRESS($CD67*7+2,6,,,\"Entry\")))","v":""},{"$f":"IF(INDIRECT(ADDRESS($CD67*7+2,7,,,\"Entry\"))=\"\",\"\",INDIRECT(ADDRESS($CD67*7+2,7,,,\"Entry\")))","v":""},"","","",{"$f":"IF(AR67=\"\",\"\",\"XXX\")","v":""},null,{"$f":"IF(INDIRECT(ADDRESS($CD67*7+3,10,,,\"Entry\"))=\"\",\"\",ROUND(INDIRECT(ADDRESS($CD67*7+3,10,,,\"Entry\")),2))","v":""},{"$f":"IF(AR67=\"\",\"\",\"N\")","v":""},null,{"$f":"IF(INDIRECT(ADDRESS($CD67*7+3,5,,,\"Entry\"))=\"\",\"\",INDIRECT(ADDRESS($CD67*7+3,5,,,\"Entry\")))","v":""},{"$f":"IF(AW67=\"\",\"\",IF(AW67<99999,\"5900\",\"9100\"))","v":""},{"$f":"IF(INDIRECT(ADDRESS($CD67*7+3,6,,,\"Entry\"))=\"\",\"\",INDIRECT(ADDRESS($CD67*7+3,6,,,\"Entry\")))","v":""},{"$f":"IF(INDIRECT(ADDRESS($CD67*7+3,7,,,\"Entry\"))=\"\",\"\",INDIRECT(ADDRESS($CD67*7+3,7,,,\"Entry\")))","v":""},"",{"$f":"IF(Entry!$I75=\"\",\"\",Entry!$I75)","v":""},"",{"$f":"IF(BD67=\"\",\"\",\"XXX\")","v":""},null,{"$f":"IF(INDIRECT(ADDRESS($CD67*7+4,10,,,\"Entry\"))=\"\",\"\",ROUND(INDIRECT(ADDRESS($CD67*7+4,10,,,\"Entry\")),2))","v":""},{"$f":"IF(BD67=\"\",\"\",\"N\")","v":""},null,{"$f":"IF(INDIRECT(ADDRESS($CD67*7+4,5,,,\"Entry\"))=\"\",\"\",INDIRECT(ADDRESS($CD67*7+4,5,,,\"Entry\")))","v":""},{"$f":"IF(BI67=\"\",\"\",IF(BI67<99999,\"5900\",\"9100\"))","v":""},{"$f":"IF(INDIRECT(ADDRESS($CD67*7+4,6,,,\"Entry\"))=\"\",\"\",INDIRECT(ADDRESS($CD67*7+4,6,,,\"Entry\")))","v":""},{"$f":"IF(INDIRECT(ADDRESS($CD67*7+4,7,,,\"Entry\"))=\"\",\"\",INDIRECT(ADDRESS($CD67*7+4,7,,,\"Entry\")))","v":""},"","","",{"$f":"IF(BP67=\"\",\"\",\"XXX\")","v":""},null,{"$f":"IF(INDIRECT(ADDRESS($CD67*7+5,10,,,\"Entry\"))=\"\",\"\",ROUND(INDIRECT(ADDRESS($CD67*7+5,10,,,\"Entry\")),2))","v":""},{"$f":"IF(BP67=\"\",\"\",\"N\")","v":""},null,{"$f":"IF(INDIRECT(ADDRESS($CD67*7+5,5,,,\"Entry\"))=\"\",\"\",INDIRECT(ADDRESS($CD67*7+5,5,,,\"Entry\")))","v":""},{"$f":"IF(BU67=\"\",\"\",IF(BU67<99999,\"5900\",\"9100\"))","v":""},{"$f":"IF(INDIRECT(ADDRESS($CD67*7+5,6,,,\"Entry\"))=\"\",\"\",INDIRECT(ADDRESS($CD67*7+5,6,,,\"Entry\")))","v":""},{"$f":"IF(INDIRECT(ADDRESS($CD67*7+5,7,,,\"Entry\"))=\"\",\"\",INDIRECT(ADDRESS($CD67*7+5,7,,,\"Entry\")))","v":""},"","","",null,null,{"$f":"SUM(H67,T67,AF67,AR67,BD67,BP67)","v":0},{"$f":"IF(A67=\"\",\"\",Entry!$B$3)","v":""},66,null,null,null,{"$f":"IF('Payroll Form'!G81=\"\",\"\",'Payroll Form'!G81)","v":""}]
["","","","",{"$f":"IF(A68=\"\",\"\",Entry!$J$2)","v":""},"",null,"","",null,"","","","",null,null,"","",null,"","",null,"","","","",null,null,"","",null,{"$f":"IF(INDIRECT(ADDRESS($CD68*7+2,10,,,\"Entry\"))=\"\",\"\",ROUND(INDIRECT(ADDRESS($CD68*7+2,10,,,\"Entry\")),2))","v":""},"",null,"","","","","","","","",null,"","",null,"","","","","",{"$f":"IF(Entry!$I76=\"\",\"\",Entry!$I76)","v":""},"","",null,"","",null,"","","","","","","","",null,"","",null,"","","","","","","",null,null,0,{"$f":"IF(A68=\"\",\"\",Entry!$B$3)","v":""},{"$f":"CD67+1","v":67},null,null,null,{"$f":"IF('Payroll Form'!G82=\"\",\"\",'Payroll Form'!G82)","v":""}]
["","","","",{"$f":"IF(A69=\"\",\"\",Entry!$J$2)","v":""},"",null,"","",null,"","","","",null,null,"","",null,"","",null,"","","","",null,null,"","",null,"","",null,"","","","","","","","",null,"","",null,"","","","","",{"$f":"IF(Entry!$I77=\"\",\"\",Entry!$I77)","v":""},"","",null,"","",null,"","","","","","","","",null,"","",null,"","","","","","","",null,null,0,{"$f":"IF(A69=\"\",\"\",Entry!$B$3)","v":""},68,null,null,null,{"$f":"IF('Payroll Form'!G83=\"\",\"\",'Payroll Form'!G83)","v":""}]
["","","","",{"$f":"IF(A70=\"\",\"\",Entry!$J$2)","v":""},"",null,"","",null,"","","","",null,null,"","",null,"","",null,"","","","",null,null,"","",null,"","",null,"","","","","","","","",null,"","",null,"","","","","",{"$f":"IF(Entry!$I78=\"\",\"\",Entry!$I78)","v":""},"","",null,"","",null,"","","","","","","","",null,"","",null,"","","","","","","",null,null,0,{"$f":"IF(A70=\"\",\"\",Entry!$B$3)","v":""},69,null,null,null,{"$f":"IF('Payroll Form'!G84=\"\",\"\",'Payroll Form'!G84)","v":""}]
["","","","",{"$f":"IF(A71=\"\",\"\",Entry!$J$2)","v":""},"",null,"","",null,"","","","",null,null,"","",null,"","",null,"","","","",null,null,"","",null,"","",null,"","","","","","","","",null,"","",null,"","","","","",{"$f":"IF(Entry!$I79=\"\",\"\",Entry!$I79)","v":""},"","",null,"","",null,"","","","","","","","",null,"","",null,"","","","","","","",null,null,0,{"$f":"IF(A71=\"\",\"\",Entry!$B$3)","v":""},70,null,null,null,{"$f":"IF('Payroll Form'!G85=\"\",\"\",'Payroll Form'!G85)","v":""}]
["","","","",{"$f":"IF(A72=\"\",\"\",Entry!$J$2)","v":""},"",null,"","",null,"","","","",null,null,"","",null,"","",null,"","","","",null,null,"","",null,"","",null,"","","","","","","","",null,"","",null,"","","","","",{"$f":"IF(Entry!$I80=\"\",\"\",Entry!$I80)","v":""},"","",null,"","",null,"","","","","","","","",null,"","",null,"","","","","","","",null,null,0,{"$f":"IF(A72=\"\",\"\",Entry!$B$3)","v":""},71,null,null,null,{"$f":"IF('Payroll Form'!G86=\"\",\"\",'Payroll Form'!G86)","v":""}]
["","","","",{"$f":"IF(A73=\"\",\"\",Entry!$J$2)","v":""},"",null,"","",null,"","","","",null,null,"","",null,"","",null,"","","","",null,null,"","",null,"","",null,"","","","","","","","",null,"","",null,"","","","","",{"$f":"IF(Entry!$I81=\"\",\"\",Entry!$I81)","v":""},"","",null,"","",null,"","","","","","","","",null,"","",null,"","","","","","","",null,null,0,{"$f":"IF(A73=\"\",\"\",Entry!$B$3)","v":""},72,null,null,null,{"$f":"IF('Payroll Form'!G87=\"\",\"\",'Payroll Form'!G87)","v":""}]
["","","","",{"$f":"IF(A74=\"\",\"\",Entry!$J$2)","v":""},"",null,"","",null,"","","","",null,null,"","",null,"","",null,"","","","",null,null,"","",null,"","",null,"","","","","","","","",null,"","",null,"","","","","",{"$f":"IF(Entry!$I82=\"\",\"\",Entry!$I82)","v":""},"","",null,"","",null,"","","","","","","","",null,"","",null,"","","","","","","",null,null,0,{"$f":"IF(A74=\"\",\"\",Entry!$B$3)","v":""},73,null,null,null,{"$f":"IF('Payroll Form'!G88=\"\",\"\",'Payroll Form'!G88)","v":""}]
["","","","",{"$f":"IF(A75=\"\",\"\",Entry!$J$2)","v":""},"",null,"","",null,"","","","",null,null,"","",null,"","",null,"","","","",null,null,"","",null,"","",null,"","","","","","","","",null,"","",null,"","","","","",{"$f":"IF(Entry!$I83=\"\",\"\",Entry!$I83)","v":""},"","",null,"","",null,"","","","","","","","",null,"","",null,"","","","","","","",null,null,0,{"$f":"IF(A75=\"\",\"\",Entry!$B$3)","v":""},74,null,null,null,{"$f":"IF('Payroll Form'!G89=\"\",\"\",'Payroll Form'!G89)","v":""}]
["","","","",{"$f":"IF(A76=\"\",\"\",Entry!$J$2)","v":""},"",null,"","",null,"","","","",null,null,"","",null,"","",null,"","","","",null,null,"","",null,"","",null,"","","","","","","","",null,"","",null,"","","","","",{"$f":"IF(Entry!$I84=\"\",\"\",Entry!$I84)","v":""},"","",null,"","",null,"","","","","","","","",null,"","",null,"","","","","","","",null,null,0,{"$f":"IF(A76=\"\",\"\",Entry!$B$3)","v":""},75,null,null,null,{"$f":"IF('Payroll Form'!G90=\"\",\"\",'Payroll Form'!G90)","v":""}]
["","","","",{"$f":"IF(A77=\"\",\"\",Entry!$J$2)","v":""},"",null,"","",null,"","","","",null,null,"","",null,"","",null,"","","","",null,null,"","",null,"","",null,"","","","","","","","",null,"","",null,"","","","","",{"$f":"IF(Entry!$I85=\"\",\"\",Entry!$I85)","v":""},"","",null,"","",null,"","","","","","","","",null,"","",null,"","","","","","","",null,null,0,{"$f":"IF(A77=\"\",\"\",Entry!$B$3)","v":""},76,null,null,null,{"$f":"IF('Payroll Form'!G91=\"\",\"\",'Payroll Form'!G91)","v":""}]
["","","","",{"$f":"IF(A78=\"\",\"\",Entry!$J$2)","v":""},"",null,"","",null,"","","","",null,null,"","",null,"","",null,"","","","",null,null,"","",null,"","",null,"","","","","","","","",null,"","",null,"","","","","",{"$f":"IF(Entry!$I86=\"\",\"\",Entry!$I86)","v":""},"","",null,"","",null,"","","","","","","","",null,"","",null,"","","","","","","",null,null,0,{"$f":"IF(A78=\"\",\"\",Entry!$B$3)","v":""},77,null,null,null,{"$f":"IF('Payroll Form'!G92=\"\",\"\",'Payroll Form'!G92)","v":""}]
["","","","",{"$f":"IF(A79=\"\",\"\",Entry!$J$2)","v":""},"",null,"","",null,"","","","",null,null,"","",null,"","",null,"","","","",null,null,"","",null,"","",null,"","","","","","","","",null,"","",null,"","","","","",{"$f":"IF(Entry!$I87=\"\",\"\",Entry!$I87)","v":""},"","",null,"","",null,"","","","","","","","",null,"","",null,"","","","","","","",null,null,0,{"$f":"IF(A79=\"\",\"\",Entry!$B$3)","v":""},78,null,null,null,{"$f":"IF('Payroll Form'!G93=\"\",\"\",'Payroll Form'!G93)","v":""}]
["","","","",{"$f":"IF(A80=\"\",\"\",Entry!$J$2)","v":""},"",null,"","",null,"","","","",null,null,"","",null,"","",null,"","","","",null,null,"","",null,"","",null,"","","","","","","","",null,"","",null,"","","","","",{"$f":"IF(Entry!$I88=\"\",\"\",Entry!$I88)","v":""},"","",null,"","",null,"","","","","","","","",null,"","",null,"","","","","","","",null,null,0,{"$f":"IF(A80=\"\",\"\",Entry!$B$3)","v":""},79,null,null,null,{"$f":"IF('Payroll Form'!G94=\"\",\"\",'Payroll Form'!G94)","v":""}]
["","","","",{"$f":"IF(A81=\"\",\"\",Entry!$J$2)","v":""},"",null,"","",null,"","","","",null,null,"","",null,"","",null,"","","","",null,null,"","",null,"","",null,"","","","","","","","",null,"","",null,"","","","","",{"$f":"IF(Entry!$I89=\"\",\"\",Entry!$I89)","v":""},"","",null,"","",null,"","","","","","","","",null,"","",null,"","","","","","","",null,null,0,{"$f":"IF(A81=\"\",\"\",Entry!$B$3)","v":""},80,null,null,null,{"$f":"IF('Payroll Form'!G95=\"\",\"\",'Payroll Form'!G95)","v":""}]
["","","","",{"$f":"IF(A82=\"\",\"\",Entry!$J$2)","v":""},"",null,"","",null,"","","","",null,null,"","",null,"","",null,"","","","",null,null,"","",null,"","",null,"","","","","","","","",null,"","",null,"","","","","",{"$f":"IF(Entry!$I90=\"\",\"\",Entry!$I90)","v":""},"","",null,"","",null,"","","","","","","","",null,"","",null,"","","","","","","",null,null,0,{"$f":"IF(A82=\"\",\"\",Entry!$B$3)","v":""},81,null,null,null,{"$f":"IF('Payroll Form'!G96=\"\",\"\",'Payroll Form'!G96)","v":""}]
["","","","",{"$f":"IF(A83=\"\",\"\",Entry!$J$2)","v":""},"",null,"","",null,"","","","",null,null,"","",null,"","",null,"","","","",null,null,"","",null,"","",null,"","","","","","","","",null,"","",null,"","","","","",{"$f":"IF(Entry!$I91=\"\",\"\",Entry!$I91)","v":""},"","",null,"","",null,"","","","","","","","",null,"","",null,"","","","","","","",null,null,0,{"$f":"IF(A83=\"\",\"\",Entry!$B$3)","v":""},82,null,null,null,{"$f":"IF('Payroll Form'!G97=\"\",\"\",'Payroll Form'!G97)","v":""}]
["","","","",{"$f":"IF(A84=\"\",\"\",Entry!$J$2)","v":""},"",null,"","",null,"","","","",null,null,"","",null,"","",null,"","","","",null,null,"","",null,"","",null,"","","","","","","","",null,"","",null,"","","","","",{"$f":"IF(Entry!$I92=\"\",\"\",Entry!$I92)","v":""},"","",null,"","",null,"","","","","","","","",null,"","",null,"","","","","","","",null,null,0,{"$f":"IF(A84=\"\",\"\",Entry!$B$3)","v":""},83,null,null,null,{"$f":"IF('Payroll Form'!G98=\"\",\"\",'Payroll Form'!G98)","v":""}]
["","","","",{"$f":"IF(A85=\"\",\"\",Entry!$J$2)","v":""},"",null,"","",null,"","","","",null,null,"","",null,"","",null,"","","","",null,null,"","",null,"","",null,"","","","","","","","",null,"","",null,"","","","","",{"$f":"IF(Entry!$I93=\"\",\"\",Entry!$I93)","v":""},"","",null,"","",null,"","","","","","","","",null,"","",null,"","","","","","","",null,null,0,{"$f":"IF(A85=\"\",\"\",Entry!$B$3)","v":""},84,null,null,null,{"$f":"IF('Payroll Form'!G99=\"\",\"\",'Payroll Form'!G99)","v":""}]
["","","","",{"$f":"IF(A86=\"\",\"\",Entry!$J$2)","v":""},"",null,"","",null,"","","","",null,null,"","",null,"","",null,"","","","",null,null,"","",null,"","",null,"","","","","","","","",null,"","",null,"","","","","",{"$f":"IF(Entry!$I94=\"\",\"\",Entry!$I94)","v":""},"","",null,"","",null,"","","","","","","","",null,"","",null,"","","","","","","",null,null,0,{"$f":"IF(A86=\"\",\"\",Entry!$B$3)","v":""},85,null,null,null,{"$f":"IF('Payroll Form'!G100=\"\",\"\",'Payroll Form'!G100)","v":""}]
["","","","",{"$f":"IF(A87=\"\",\"\",Entry!$J$2)","v":""},"",null,"","",null,"","","","",null,null,"","",null,"","",null,"","","","",null,null,"","",null,"","",null,"","","","","","","","",null,"","",null,"","","","","",{"$f":"IF(Entry!$I95=\"\",\"\",Entry!$I95)","v":""},"","",null,"","",null,"","","","","","","","",null,"","",null,"","","","","","","",null,null,0,{"$f":"IF(A87=\"\",\"\",Entry!$B$3)","v":""},86,null,null,null,{"$f":"IF('Payroll Form'!G101=\"\",\"\",'Payroll Form'!G101)","v":""}]
["","","","",{"$f":"IF(A88=\"\",\"\",Entry!$J$2)","v":""},"",null,"","",null,"","","","",null,null,"","",null,"","",null,"","","","",null,null,"","",null,"","",null,"","","","","","","","",null,"","",null,"","","","","",{"$f":"IF(Entry!$I96=\"\",\"\",Entry!$I96)","v":""},"","",null,"","",null,"","","","","","","","",null,"","",null,"","","","","","","",null,null,0,{"$f":"IF(A88=\"\",\"\",Entry!$B$3)","v":""},87,null,null,null,{"$f":"IF('Payroll Form'!G102=\"\",\"\",'Payroll Form'!G102)","v":""}]
["","","","",{"$f":"IF(A89=\"\",\"\",Entry!$J$2)","v":""},"",null,"","",null,"","","","",null,null,"","",null,"","",null,"","","","",null,null,"","",null,"","",null,"","","","","","","","",null,"","",null,"","","","","",{"$f":"IF(Entry!$I97=\"\",\"\",Entry!$I97)","v":""},"","",null,"","",null,"","","","","","","","",null,"","",null,"","","","","","","",null,null,0,{"$f":"IF(A89=\"\",\"\",Entry!$B$3)","v":""},88,null,null,null,{"$f":"IF('Payroll Form'!G103=\"\",\"\",'Payroll Form'!G103)","v":""}]
["","","","",{"$f":"IF(A90=\"\",\"\",Entry!$J$2)","v":""},"",null,"","",null,"","","","",null,null,"","",null,"","",null,"","","","",null,null,"","",null,"","",null,"","","","","","","","",null,"","",null,"","","","","",{"$f":"IF(Entry!$I98=\"\",\"\",Entry!$I98)","v":""},"","",null,"","",null,"","","","","","","","",null,"","",null,"","","","","","","",null,null,0,{"$f":"IF(A90=\"\",\"\",Entry!$B$3)","v":""},89,null,null,null,{"$f":"IF('Payroll Form'!G104=\"\",\"\",'Payroll Form'!G104)","v":""}]
["","","","",{"$f":"IF(A91=\"\",\"\",Entry!$J$2)","v":""},"",null,"","",null,"","","","",null,null,"","",null,"","",null,"","","","",null,null,"","",null,"","",null,"","","","","","","","",null,"","",null,"","","","","",{"$f":"IF(Entry!$I99=\"\",\"\",Entry!$I99)","v":""},"","",null,"","",null,"","","","","","","","",null,"","",null,"","","","","","","",null,null,0,{"$f":"IF(A91=\"\",\"\",Entry!$B$3)","v":""},90,null,null,null,{"$f":"IF('Payroll Form'!G105=\"\",\"\",'Payroll Form'!G105)","v":""}]
["","","","",{"$f":"IF(A92=\"\",\"\",Entry!$J$2)","v":""},"",null,"","",null,"","","","",null,null,"","",null,"","",null,"","","","",null,null,"","",null,"","",null,"","","","","","","","",null,"","",null,"","","","","",{"$f":"IF(Entry!$I100=\"\",\"\",Entry!$I100)","v":""},"","",null,"","",null,"","","","","","","","",null,"","",null,"","","","","","","",null,null,0,{"$f":"IF(A92=\"\",\"\",Entry!$B$3)","v":""},91,null,null,null,{"$f":"IF('Payroll Form'!G106=\"\",\"\",'Payroll Form'!G106)","v":""}]
["","","","",{"$f":"IF(A93=\"\",\"\",Entry!$J$2)","v":""},"",null,"","",null,"","","","",null,null,"","",null,"","",null,"","","","",null,null,"","",null,"","",null,"","","","","","","","",null,"","",null,"","","","","",{"$f":"IF(Entry!$I101=\"\",\"\",Entry!$I101)","v":""},"","",null,"","",null,"","","","","","","","",null,"","",null,"","","","","","","",null,null,0,{"$f":"IF(A93=\"\",\"\",Entry!$B$3)","v":""},92,null,null,null,{"$f":"IF('Payroll Form'!G107=\"\",\"\",'Payroll Form'!G107)","v":""}]
["","","","",{"$f":"IF(A94=\"\",\"\",Entry!$J$2)","v":""},"",null,"","",null,"","","","",null,null,"","",null,"","",null,"","","","",null,null,"","",null,"","",null,"","","","","","","","",null,"","",null,"","","","","",{"$f":"IF(Entry!$I102=\"\",\"\",Entry!$I102)","v":""},"","",null,"","",null,"","","","","","","","",null,"","",null,"","","","","","","",null,null,0,{"$f":"IF(A94=\"\",\"\",Entry!$B$3)","v":""},93,null,null,null,{"$f":"IF('Payroll Form'!G108=\"\",\"\",'Payroll Form'!G108)","v":""}]
["","","","",{"$f":"IF(A95=\"\",\"\",Entry!$J$2)","v":""},"",null,"","",null,"","","","",null,null,"","",null,"","",null,"","","","",null,null,"","",null,"","",null,"","","","","","","","",null,"","",null,"","","","","",{"$f":"IF(Entry!$I103=\"\",\"\",Entry!$I103)","v":""},"","",null,"","",null,"","","","","","","","",null,"","",null,"","","","","","","",null,null,0,{"$f":"IF(A95=\"\",\"\",Entry!$B$3)","v":""},94,null,null,null,{"$f":"IF('Payroll Form'!G109=\"\",\"\",'Payroll Form'!G109)","v":""}]
["","","","",{"$f":"IF(A96=\"\",\"\",Entry!$J$2)","v":""},"",null,"","",null,"","","","",null,null,"","",null,"","",null,"","","","",null,null,"","",null,"","",null,"","","","","","","","",null,"","",null,"","","","","",{"$f":"IF(Entry!$I104=\"\",\"\",Entry!$I104)","v":""},"","",null,"","",null,"","","","","","","","",null,"","",null,"","","","","","","",null,null,0,{"$f":"IF(A96=\"\",\"\",Entry!$B$3)","v":""},95,null,null,null,{"$f":"IF('Payroll Form'!G110=\"\",\"\",'Payroll Form'!G110)","v":""}]
["","","","",{"$f":"IF(A97=\"\",\"\",Entry!$J$2)","v":""},"",null,"","",null,"","","","",null,null,"","",null,"","",null,"","","","",null,null,"","",null,"","",null,"","","","","","","","",null,"","",null,"","","","","",{"$f":"IF(Entry!$I105=\"\",\"\",Entry!$I105)","v":""},"","",null,"","",null,"","","","","","","","",null,"","",null,"","","","","","","",null,null,0,{"$f":"IF(A97=\"\",\"\",Entry!$B$3)","v":""},96,null,null,null,{"$f":"IF('Payroll Form'!G111=\"\",\"\",'Payroll Form'!G111)","v":""}]
["","","","",{"$f":"IF(A98=\"\",\"\",Entry!$J$2)","v":""},"",null,"","",null,"","","","",null,null,"","",null,"","",null,"","","","",null,null,"","",null,"","",null,"","","","","","","","",null,"","",null,"","","","","",{"$f":"IF(Entry!$I106=\"\",\"\",Entry!$I106)","v":""},"","",null,"","",null,"","","","","","","","",null,"","",null,"","","","","","","",null,null,0,{"$f":"IF(A98=\"\",\"\",Entry!$B$3)","v":""},97,null,null,null,{"$f":"IF('Payroll Form'!G112=\"\",\"\",'Payroll Form'!G112)","v":""}]
["","","","",{"$f":"IF(A99=\"\",\"\",Entry!$J$2)","v":""},"",null,"","",null,"","","","",null,null,"","",null,"","",null,"","","","",null,null,"","",null,"","",null,"","","","","","","","",null,"","",null,"","","","","",{"$f":"IF(Entry!$I107=\"\",\"\",Entry!$I107)","v":""},"","",null,"","",null,"","","","","","","","",null,"","",null,"","","","","","","",null,null,0,{"$f":"IF(A99=\"\",\"\",Entry!$B$3)","v":""},98,null,null,null,{"$f":"IF('Payroll Form'!G113=\"\",\"\",'Payroll Form'!G113)","v":""}]
["","","","",{"$f":"IF(A100=\"\",\"\",Entry!$J$2)","v":""},"",null,"","",null,"","","","",null,null,"","",null,"","",null,"","","","",null,null,"",{"$f":"IF(AF100=\"\",\"\",\"XXX\")","v":""},null,"","",null,"","","","","","","",{"$f":"IF(AR100=\"\",\"\",\"XXX\")","v":""},null,"","",null,"","","","","",{"$f":"IF(Entry!$I108=\"\",\"\",Entry!$I108)","v":""},"",{"$f":"IF(BD100=\"\",\"\",\"XXX\")","v":""},null,"","",null,"","","","","","","",{"$f":"IF(BP100=\"\",\"\",\"XXX\")","v":""},null,"","",null,"","","","","","","",null,null,0,{"$f":"IF(A100=\"\",\"\",Entry!$B$3)","v":""},99,null,null,null,{"$f":"IF('Payroll Form'!G114=\"\",\"\",'Payroll Form'!G114)","v":""}]
["","","","",{"$f":"IF(A101=\"\",\"\",Entry!$J$2)","v":""},"",null,"","",null,"","","","",null,null,"","",null,"","",null,"","","","",null,null,"",{"$f":"IF(AF101=\"\",\"\",\"XXX\")","v":""},null,"","",null,"","","","","","","",{"$f":"IF(AR101=\"\",\"\",\"XXX\")","v":""},null,"","",null,"","","","","",{"$f":"IF(Entry!$I109=\"\",\"\",Entry!$I109)","v":""},"",{"$f":"IF(BD101=\"\",\"\",\"XXX\")","v":""},null,"","",null,"","","","","","","",{"$f":"IF(BP101=\"\",\"\",\"XXX\")","v":""},null,"","",null,"","","","","","","",null,null,0,{"$f":"IF(A101=\"\",\"\",Entry!$B$3)","v":""},100,null,null,null,{"$f":"IF('Payroll Form'!G115=\"\",\"\",'Payroll Form'!G115)","v":""}]